BEGIN:VCALENDAR
VERSION:2.0
PRODID:-//jEvents 2.0 for Joomla//EN
CALSCALE:GREGORIAN
METHOD:PUBLISH
BEGIN:VTIMEZONE
TZID:America/New_York
BEGIN:STANDARD
DTSTART:20170111T193000
RDATE:20170312T030000
TZOFFSETFROM:-0400
TZOFFSETTO:-0500
TZNAME:America/New_York EST
END:STANDARD
BEGIN:STANDARD
DTSTART:20171105T010000
RDATE:20180311T030000
TZOFFSETFROM:-0400
TZOFFSETTO:-0500
TZNAME:America/New_York EST
END:STANDARD
BEGIN:STANDARD
DTSTART:20181104T010000
RDATE:20190310T030000
TZOFFSETFROM:-0400
TZOFFSETTO:-0500
TZNAME:America/New_York EST
END:STANDARD
BEGIN:STANDARD
DTSTART:20191103T010000
RDATE:20200308T030000
TZOFFSETFROM:-0400
TZOFFSETTO:-0500
TZNAME:America/New_York EST
END:STANDARD
BEGIN:STANDARD
DTSTART:20201101T010000
RDATE:20210314T030000
TZOFFSETFROM:-0400
TZOFFSETTO:-0500
TZNAME:America/New_York EST
END:STANDARD
BEGIN:STANDARD
DTSTART:20211107T010000
RDATE:20220313T030000
TZOFFSETFROM:-0400
TZOFFSETTO:-0500
TZNAME:America/New_York EST
END:STANDARD
BEGIN:STANDARD
DTSTART:20221106T010000
RDATE:20230312T030000
TZOFFSETFROM:-0400
TZOFFSETTO:-0500
TZNAME:America/New_York EST
END:STANDARD
BEGIN:STANDARD
DTSTART:20231105T010000
RDATE:20240310T030000
TZOFFSETFROM:-0400
TZOFFSETTO:-0500
TZNAME:America/New_York EST
END:STANDARD
BEGIN:STANDARD
DTSTART:20241103T010000
RDATE:20250309T030000
TZOFFSETFROM:-0400
TZOFFSETTO:-0500
TZNAME:America/New_York EST
END:STANDARD
BEGIN:STANDARD
DTSTART:20251102T010000
RDATE:20260308T030000
TZOFFSETFROM:-0400
TZOFFSETTO:-0500
TZNAME:America/New_York EST
END:STANDARD
BEGIN:STANDARD
DTSTART:20261101T010000
RDATE:20270314T030000
TZOFFSETFROM:-0400
TZOFFSETTO:-0500
TZNAME:America/New_York EST
END:STANDARD
BEGIN:STANDARD
DTSTART:20271107T010000
RDATE:20280312T030000
TZOFFSETFROM:-0400
TZOFFSETTO:-0500
TZNAME:America/New_York EST
END:STANDARD
BEGIN:STANDARD
DTSTART:20281105T010000
RDATE:20290311T030000
TZOFFSETFROM:-0400
TZOFFSETTO:-0500
TZNAME:America/New_York EST
END:STANDARD
BEGIN:STANDARD
DTSTART:20291104T010000
RDATE:20300310T030000
TZOFFSETFROM:-0400
TZOFFSETTO:-0500
TZNAME:America/New_York EST
END:STANDARD
BEGIN:STANDARD
DTSTART:20301103T010000
RDATE:20310309T030000
TZOFFSETFROM:-0400
TZOFFSETTO:-0500
TZNAME:America/New_York EST
END:STANDARD
BEGIN:STANDARD
DTSTART:20311102T010000
RDATE:20320314T030000
TZOFFSETFROM:-0400
TZOFFSETTO:-0500
TZNAME:America/New_York EST
END:STANDARD
BEGIN:DAYLIGHT
DTSTART:20170312T030000
RDATE:20171105T010000
TZOFFSETFROM:-0500
TZOFFSETTO:-0400
TZNAME:America/New_York EDT
END:DAYLIGHT
BEGIN:DAYLIGHT
DTSTART:20180311T030000
RDATE:20181104T010000
TZOFFSETFROM:-0500
TZOFFSETTO:-0400
TZNAME:America/New_York EDT
END:DAYLIGHT
BEGIN:DAYLIGHT
DTSTART:20190310T030000
RDATE:20191103T010000
TZOFFSETFROM:-0500
TZOFFSETTO:-0400
TZNAME:America/New_York EDT
END:DAYLIGHT
BEGIN:DAYLIGHT
DTSTART:20200308T030000
RDATE:20201101T010000
TZOFFSETFROM:-0500
TZOFFSETTO:-0400
TZNAME:America/New_York EDT
END:DAYLIGHT
BEGIN:DAYLIGHT
DTSTART:20210314T030000
RDATE:20211107T010000
TZOFFSETFROM:-0500
TZOFFSETTO:-0400
TZNAME:America/New_York EDT
END:DAYLIGHT
BEGIN:DAYLIGHT
DTSTART:20220313T030000
RDATE:20221106T010000
TZOFFSETFROM:-0500
TZOFFSETTO:-0400
TZNAME:America/New_York EDT
END:DAYLIGHT
BEGIN:DAYLIGHT
DTSTART:20230312T030000
RDATE:20231105T010000
TZOFFSETFROM:-0500
TZOFFSETTO:-0400
TZNAME:America/New_York EDT
END:DAYLIGHT
BEGIN:DAYLIGHT
DTSTART:20240310T030000
RDATE:20241103T010000
TZOFFSETFROM:-0500
TZOFFSETTO:-0400
TZNAME:America/New_York EDT
END:DAYLIGHT
BEGIN:DAYLIGHT
DTSTART:20250309T030000
RDATE:20251102T010000
TZOFFSETFROM:-0500
TZOFFSETTO:-0400
TZNAME:America/New_York EDT
END:DAYLIGHT
BEGIN:DAYLIGHT
DTSTART:20260308T030000
RDATE:20261101T010000
TZOFFSETFROM:-0500
TZOFFSETTO:-0400
TZNAME:America/New_York EDT
END:DAYLIGHT
BEGIN:DAYLIGHT
DTSTART:20270314T030000
RDATE:20271107T010000
TZOFFSETFROM:-0500
TZOFFSETTO:-0400
TZNAME:America/New_York EDT
END:DAYLIGHT
BEGIN:DAYLIGHT
DTSTART:20280312T030000
RDATE:20281105T010000
TZOFFSETFROM:-0500
TZOFFSETTO:-0400
TZNAME:America/New_York EDT
END:DAYLIGHT
BEGIN:DAYLIGHT
DTSTART:20290311T030000
RDATE:20291104T010000
TZOFFSETFROM:-0500
TZOFFSETTO:-0400
TZNAME:America/New_York EDT
END:DAYLIGHT
BEGIN:DAYLIGHT
DTSTART:20300310T030000
RDATE:20301103T010000
TZOFFSETFROM:-0500
TZOFFSETTO:-0400
TZNAME:America/New_York EDT
END:DAYLIGHT
BEGIN:DAYLIGHT
DTSTART:20310309T030000
RDATE:20311102T010000
TZOFFSETFROM:-0500
TZOFFSETTO:-0400
TZNAME:America/New_York EDT
END:DAYLIGHT
END:VTIMEZONE
BEGIN:VEVENT
UID:132b64b9b0bebf9f51b60279221c4551
CATEGORIES:BYO Events
CREATED:20171224T181456
SUMMARY:Open BYOB Painting - Winter Landscape
LOCATION:Art In The Pod
DESCRIPTION:Open BYOB Painting - Winter LandscapeDescription: You will create your very
  own masterpiece on a 16" x 20" canvas to take with you.\nGrab a few friend
 s your favorite form of liquid inspiration and favorite food, then head ove
 r to Art in the Pod to create a lasting masterpiece you're sure to love:\nW
 e provide all necessary materials and supplies for you.\nALSO PROVIDED\nApr
 ons. (please dress appropriately as acrylic paint can stain)\nPlastic wine 
 cups and bottle openers.\nIndividual painting times will vary. This will be
  in an adult oriented atmosphere designed by Art In The Pod for a evening o
 f fun and enjoyment.\nTERMS: \nPayment Policy: Payment online or in studio 
 is required to guarantee your reservation. Reservations Will Automatically 
 Cancel In 60 Minutes If Payment Is Not Completed. Need help to complete you
 r reservation? Call us at 215.355.92787 to complete your reservation.\nCanc
 ellation/Refund/Studio Credit Policy: No cash refunds/Studio credit only. A
  Studio Credit will be given for individuals cancelling with at least 48 Ho
 urs or more notice only. \nMiscellaneous: If you are registering for your g
 uest we suggest you notify them of these terms.\n \n
X-ALT-DESC;FMTTYPE=text/html:<h3>Open BYOB Painting - Winter Landscape</h3><p><strong>Description:</stro
 ng> You will create your very own masterpiece on a 16" x 20" canvas to take
  with you.</p><p>Grab a few friends your favorite form of liquid inspiratio
 n and favorite food, then head over to Art in the Pod to create a lasting m
 asterpiece you're sure to love:</p><p>We provide all necessary materials an
 d supplies for you.<br />ALSO PROVIDED<br />Aprons. (please dress appropria
 tely as acrylic paint can stain)<br />Plastic wine cups and bottle openers.
 </p><p>Individual painting times will vary. This will be in an adult orient
 ed atmosphere designed by Art In The Pod for a evening of fun and enjoyment
 .</p><p><strong>TERMS: <br />Payment Policy:</strong> Payment online or in 
 studio is required to guarantee your reservation. <span id="rsvp_field26_sp
 an_"><span style="text-decoration: underline;">Reservations Will Automatica
 lly Cancel In 60 Minutes If Payment Is Not Completed</span>. Need help to c
 omplete your reservation? Call us at 215.355.92787 to complete your reserva
 tion.<br /></span><strong>Cancellation/Refund/Studio Credit Policy:</strong
 > No cash refunds/Studio credit only. A Studio Credit will be given for ind
 ividuals cancelling with at least 48 Hours or more notice only. <br /><stro
 ng>Miscellaneous: </strong>If you are registering for your guest we suggest
  you notify them of these terms.</p><p>&nbsp;</p>
DTSTAMP:20260425T035915
DTSTART;TZID=America/New_York:20180112T193000
DTEND;TZID=America/New_York:20180112T220000
SEQUENCE:0
TRANSP:OPAQUE
END:VEVENT
END:VCALENDAR