BEGIN:VCALENDAR
VERSION:2.0
PRODID:-//jEvents 2.0 for Joomla//EN
CALSCALE:GREGORIAN
METHOD:PUBLISH
BEGIN:VTIMEZONE
TZID:America/New_York
BEGIN:STANDARD
DTSTART:20211107T010000
RDATE:20220313T030000
TZOFFSETFROM:-0400
TZOFFSETTO:-0500
TZNAME:America/New_York EST
END:STANDARD
BEGIN:STANDARD
DTSTART:20221106T010000
RDATE:20230312T030000
TZOFFSETFROM:-0400
TZOFFSETTO:-0500
TZNAME:America/New_York EST
END:STANDARD
BEGIN:STANDARD
DTSTART:20231105T010000
RDATE:20240310T030000
TZOFFSETFROM:-0400
TZOFFSETTO:-0500
TZNAME:America/New_York EST
END:STANDARD
BEGIN:STANDARD
DTSTART:20241103T010000
RDATE:20250309T030000
TZOFFSETFROM:-0400
TZOFFSETTO:-0500
TZNAME:America/New_York EST
END:STANDARD
BEGIN:STANDARD
DTSTART:20251102T010000
RDATE:20260308T030000
TZOFFSETFROM:-0400
TZOFFSETTO:-0500
TZNAME:America/New_York EST
END:STANDARD
BEGIN:STANDARD
DTSTART:20261101T010000
RDATE:20270314T030000
TZOFFSETFROM:-0400
TZOFFSETTO:-0500
TZNAME:America/New_York EST
END:STANDARD
BEGIN:STANDARD
DTSTART:20271107T010000
RDATE:20280312T030000
TZOFFSETFROM:-0400
TZOFFSETTO:-0500
TZNAME:America/New_York EST
END:STANDARD
BEGIN:STANDARD
DTSTART:20281105T010000
RDATE:20290311T030000
TZOFFSETFROM:-0400
TZOFFSETTO:-0500
TZNAME:America/New_York EST
END:STANDARD
BEGIN:STANDARD
DTSTART:20291104T010000
RDATE:20300310T030000
TZOFFSETFROM:-0400
TZOFFSETTO:-0500
TZNAME:America/New_York EST
END:STANDARD
BEGIN:STANDARD
DTSTART:20301103T010000
RDATE:20310309T030000
TZOFFSETFROM:-0400
TZOFFSETTO:-0500
TZNAME:America/New_York EST
END:STANDARD
BEGIN:STANDARD
DTSTART:20311102T010000
RDATE:20320314T030000
TZOFFSETFROM:-0400
TZOFFSETTO:-0500
TZNAME:America/New_York EST
END:STANDARD
BEGIN:DAYLIGHT
DTSTART:20210926T090000
RDATE:20211107T010000
TZOFFSETFROM:-0500
TZOFFSETTO:-0400
TZNAME:America/New_York EDT
END:DAYLIGHT
BEGIN:DAYLIGHT
DTSTART:20220313T030000
RDATE:20221106T010000
TZOFFSETFROM:-0500
TZOFFSETTO:-0400
TZNAME:America/New_York EDT
END:DAYLIGHT
BEGIN:DAYLIGHT
DTSTART:20230312T030000
RDATE:20231105T010000
TZOFFSETFROM:-0500
TZOFFSETTO:-0400
TZNAME:America/New_York EDT
END:DAYLIGHT
BEGIN:DAYLIGHT
DTSTART:20240310T030000
RDATE:20241103T010000
TZOFFSETFROM:-0500
TZOFFSETTO:-0400
TZNAME:America/New_York EDT
END:DAYLIGHT
BEGIN:DAYLIGHT
DTSTART:20250309T030000
RDATE:20251102T010000
TZOFFSETFROM:-0500
TZOFFSETTO:-0400
TZNAME:America/New_York EDT
END:DAYLIGHT
BEGIN:DAYLIGHT
DTSTART:20260308T030000
RDATE:20261101T010000
TZOFFSETFROM:-0500
TZOFFSETTO:-0400
TZNAME:America/New_York EDT
END:DAYLIGHT
BEGIN:DAYLIGHT
DTSTART:20270314T030000
RDATE:20271107T010000
TZOFFSETFROM:-0500
TZOFFSETTO:-0400
TZNAME:America/New_York EDT
END:DAYLIGHT
BEGIN:DAYLIGHT
DTSTART:20280312T030000
RDATE:20281105T010000
TZOFFSETFROM:-0500
TZOFFSETTO:-0400
TZNAME:America/New_York EDT
END:DAYLIGHT
BEGIN:DAYLIGHT
DTSTART:20290311T030000
RDATE:20291104T010000
TZOFFSETFROM:-0500
TZOFFSETTO:-0400
TZNAME:America/New_York EDT
END:DAYLIGHT
BEGIN:DAYLIGHT
DTSTART:20300310T030000
RDATE:20301103T010000
TZOFFSETFROM:-0500
TZOFFSETTO:-0400
TZNAME:America/New_York EDT
END:DAYLIGHT
BEGIN:DAYLIGHT
DTSTART:20310309T030000
RDATE:20311102T010000
TZOFFSETFROM:-0500
TZOFFSETTO:-0400
TZNAME:America/New_York EDT
END:DAYLIGHT
END:VTIMEZONE
BEGIN:VEVENT
UID:efff02c123ea46c4142aca84ac70e6d8
CATEGORIES:Art-Camps
CREATED:20220919T171626
SUMMARY:PICK ME! Mini Art Camp 9-12pm
LOCATION:Art In The Pod
DESCRIPTION:PICK ME! Mini Art Camp 9-12pmFirst Project: 11”X14” Acrylic Canvas Painting
 \nSecond Project: PAINT POURING\n\nGET INTO THE FALL SPIRIT AND PAINT A FAL
 L FIELD FEATURING A GORGEOUS PUMPKIN. KIDS WILL ALSO EXPLORE A TECHNIQUE OF
  PAINT POURING USING FUN FALL COLORS! \n(THIS PAINT POUR PROJECT WILL NEED 
 A DAY TO DRY AND WE WILL CALL YOU WHEN IT IS READY TO BE PICKED UP)Each ses
 sion will offer unique projects, so feel free to sign up for more than just
  one! Morning, Afternoon and Full Day mini camp sessions available.\nBring 
 a nut-free snack and a beverage. Dress for mess. \nAges 6-12\n9:00am – 12:0
 0pm, 1:00 - 4:00pm or Full Day.\n$57.00 per session\nSpace is limited.\nReg
 ister online at artinthepod.com or call 215-355-9art.\nDress for a mess and
  bring a nut free snack.\n\n
X-ALT-DESC;FMTTYPE=text/html:<h3><strong><strong><strong>PICK ME! Mini Art Camp 9-12pm</strong></strong>
 </strong></h3><h3><span style="color: #000000;"><strong>First Project:</str
 ong></span> 11”X14” Acrylic Canvas Painting<br /><span style="color: #00000
 0;"><strong>Second Project:</strong></span> PAINT POURING<br /><br />GET IN
 TO THE FALL SPIRIT AND PAINT A FALL FIELD FEATURING A GORGEOUS PUMPKIN. KID
 S WILL ALSO EXPLORE A TECHNIQUE OF PAINT POURING USING FUN FALL COLORS! <br
  />(THIS PAINT POUR PROJECT WILL NEED A DAY TO DRY AND WE WILL CALL YOU WHE
 N IT IS READY TO BE PICKED UP)</h3><h3>Each session will offer unique proje
 cts, so feel free to sign up for more than just one! Morning, Afternoon and
  Full Day mini camp sessions available.<br /><strong><em>Bring a nut-free s
 nack and a beverage. Dress for mess.</em></strong></h3><p>&nbsp;</p><p styl
 e="text-align: center;"><strong><span style="color: #000000;">Ages 6-12</sp
 an></strong></p><p style="text-align: center;"><strong><span style="color: 
 #000000;">9:00am – 12:00pm, 1:00 - 4:00pm or Full Day.</span></strong></p><
 p style="text-align: center;"><strong><span style="color: #000000;">$57.00 
 per session</span></strong></p><p style="text-align: center;"><strong><span
  style="color: #000000;">Space is limited.</span></strong></p><p style="tex
 t-align: center;"><strong><span style="color: #000000;">Register online at 
 artinthepod.com or call 215-355-9art.</span></strong></p><p style="text-ali
 gn: center;"><strong><span style="color: #000000;">Dress for a mess and bri
 ng a nut free snack.</span></strong></p><p></p>
DTSTAMP:20260423T212315
DTSTART;TZID=America/New_York:20220927T090000
DTEND;TZID=America/New_York:20220927T120000
SEQUENCE:0
TRANSP:OPAQUE
END:VEVENT
END:VCALENDAR