BEGIN:VCALENDAR
VERSION:2.0
PRODID:-//jEvents 2.0 for Joomla//EN
CALSCALE:GREGORIAN
METHOD:PUBLISH
BEGIN:VTIMEZONE
TZID:America/New_York
BEGIN:STANDARD
DTSTART:20170114T000000
RDATE:20170312T030000
TZOFFSETFROM:-0400
TZOFFSETTO:-0500
TZNAME:America/New_York EST
END:STANDARD
BEGIN:STANDARD
DTSTART:20171105T010000
RDATE:20180311T030000
TZOFFSETFROM:-0400
TZOFFSETTO:-0500
TZNAME:America/New_York EST
END:STANDARD
BEGIN:STANDARD
DTSTART:20181104T010000
RDATE:20190310T030000
TZOFFSETFROM:-0400
TZOFFSETTO:-0500
TZNAME:America/New_York EST
END:STANDARD
BEGIN:STANDARD
DTSTART:20191103T010000
RDATE:20200308T030000
TZOFFSETFROM:-0400
TZOFFSETTO:-0500
TZNAME:America/New_York EST
END:STANDARD
BEGIN:STANDARD
DTSTART:20201101T010000
RDATE:20210314T030000
TZOFFSETFROM:-0400
TZOFFSETTO:-0500
TZNAME:America/New_York EST
END:STANDARD
BEGIN:STANDARD
DTSTART:20211107T010000
RDATE:20220313T030000
TZOFFSETFROM:-0400
TZOFFSETTO:-0500
TZNAME:America/New_York EST
END:STANDARD
BEGIN:STANDARD
DTSTART:20221106T010000
RDATE:20230312T030000
TZOFFSETFROM:-0400
TZOFFSETTO:-0500
TZNAME:America/New_York EST
END:STANDARD
BEGIN:STANDARD
DTSTART:20231105T010000
RDATE:20240310T030000
TZOFFSETFROM:-0400
TZOFFSETTO:-0500
TZNAME:America/New_York EST
END:STANDARD
BEGIN:STANDARD
DTSTART:20241103T010000
RDATE:20250309T030000
TZOFFSETFROM:-0400
TZOFFSETTO:-0500
TZNAME:America/New_York EST
END:STANDARD
BEGIN:STANDARD
DTSTART:20251102T010000
RDATE:20260308T030000
TZOFFSETFROM:-0400
TZOFFSETTO:-0500
TZNAME:America/New_York EST
END:STANDARD
BEGIN:STANDARD
DTSTART:20261101T010000
RDATE:20270314T030000
TZOFFSETFROM:-0400
TZOFFSETTO:-0500
TZNAME:America/New_York EST
END:STANDARD
BEGIN:STANDARD
DTSTART:20271107T010000
RDATE:20280312T030000
TZOFFSETFROM:-0400
TZOFFSETTO:-0500
TZNAME:America/New_York EST
END:STANDARD
BEGIN:STANDARD
DTSTART:20281105T010000
RDATE:20290311T030000
TZOFFSETFROM:-0400
TZOFFSETTO:-0500
TZNAME:America/New_York EST
END:STANDARD
BEGIN:STANDARD
DTSTART:20291104T010000
RDATE:20300310T030000
TZOFFSETFROM:-0400
TZOFFSETTO:-0500
TZNAME:America/New_York EST
END:STANDARD
BEGIN:STANDARD
DTSTART:20301103T010000
RDATE:20310309T030000
TZOFFSETFROM:-0400
TZOFFSETTO:-0500
TZNAME:America/New_York EST
END:STANDARD
BEGIN:STANDARD
DTSTART:20311102T010000
RDATE:20320314T030000
TZOFFSETFROM:-0400
TZOFFSETTO:-0500
TZNAME:America/New_York EST
END:STANDARD
BEGIN:DAYLIGHT
DTSTART:20170312T030000
RDATE:20171105T010000
TZOFFSETFROM:-0500
TZOFFSETTO:-0400
TZNAME:America/New_York EDT
END:DAYLIGHT
BEGIN:DAYLIGHT
DTSTART:20180311T030000
RDATE:20181104T010000
TZOFFSETFROM:-0500
TZOFFSETTO:-0400
TZNAME:America/New_York EDT
END:DAYLIGHT
BEGIN:DAYLIGHT
DTSTART:20190310T030000
RDATE:20191103T010000
TZOFFSETFROM:-0500
TZOFFSETTO:-0400
TZNAME:America/New_York EDT
END:DAYLIGHT
BEGIN:DAYLIGHT
DTSTART:20200308T030000
RDATE:20201101T010000
TZOFFSETFROM:-0500
TZOFFSETTO:-0400
TZNAME:America/New_York EDT
END:DAYLIGHT
BEGIN:DAYLIGHT
DTSTART:20210314T030000
RDATE:20211107T010000
TZOFFSETFROM:-0500
TZOFFSETTO:-0400
TZNAME:America/New_York EDT
END:DAYLIGHT
BEGIN:DAYLIGHT
DTSTART:20220313T030000
RDATE:20221106T010000
TZOFFSETFROM:-0500
TZOFFSETTO:-0400
TZNAME:America/New_York EDT
END:DAYLIGHT
BEGIN:DAYLIGHT
DTSTART:20230312T030000
RDATE:20231105T010000
TZOFFSETFROM:-0500
TZOFFSETTO:-0400
TZNAME:America/New_York EDT
END:DAYLIGHT
BEGIN:DAYLIGHT
DTSTART:20240310T030000
RDATE:20241103T010000
TZOFFSETFROM:-0500
TZOFFSETTO:-0400
TZNAME:America/New_York EDT
END:DAYLIGHT
BEGIN:DAYLIGHT
DTSTART:20250309T030000
RDATE:20251102T010000
TZOFFSETFROM:-0500
TZOFFSETTO:-0400
TZNAME:America/New_York EDT
END:DAYLIGHT
BEGIN:DAYLIGHT
DTSTART:20260308T030000
RDATE:20261101T010000
TZOFFSETFROM:-0500
TZOFFSETTO:-0400
TZNAME:America/New_York EDT
END:DAYLIGHT
BEGIN:DAYLIGHT
DTSTART:20270314T030000
RDATE:20271107T010000
TZOFFSETFROM:-0500
TZOFFSETTO:-0400
TZNAME:America/New_York EDT
END:DAYLIGHT
BEGIN:DAYLIGHT
DTSTART:20280312T030000
RDATE:20281105T010000
TZOFFSETFROM:-0500
TZOFFSETTO:-0400
TZNAME:America/New_York EDT
END:DAYLIGHT
BEGIN:DAYLIGHT
DTSTART:20290311T030000
RDATE:20291104T010000
TZOFFSETFROM:-0500
TZOFFSETTO:-0400
TZNAME:America/New_York EDT
END:DAYLIGHT
BEGIN:DAYLIGHT
DTSTART:20300310T030000
RDATE:20301103T010000
TZOFFSETFROM:-0500
TZOFFSETTO:-0400
TZNAME:America/New_York EDT
END:DAYLIGHT
BEGIN:DAYLIGHT
DTSTART:20310309T030000
RDATE:20311102T010000
TZOFFSETFROM:-0500
TZOFFSETTO:-0400
TZNAME:America/New_York EDT
END:DAYLIGHT
END:VTIMEZONE
BEGIN:VEVENT
UID:c50d2fd104fc86f95dd4b401055f5544
CATEGORIES:Art Classes
CREATED:20171224T193007
SUMMARY:Winter Session Art Class Schedule - Week 2 of 10
LOCATION:Art In The Pod
DESCRIPTION:This schedule is for all students registered in our 5/10 week winter sessio
 n art programs. This winters session begins the week of January 8th.\nSee t
 he weekly listings on this calendar for any changes regarding holiday hours
 .\nMonday\nMommy/Daddy &amp; Me Art Class 10:00-11:00\nK-2 After School Art
  Class 4:30-6:00\nTeen Drawing &amp; Painting Class 6:00-8:00\nTeen Glass F
 usion Class (Session 1) 6:00-8:00\nAdult Clay Class (Session 1) 11:30-1:30\
 nAdult Drawing &amp; Painting Class 6:00-8:00\nTuesday\nMommy/Daddy &amp; M
 e Art Class 1:30-2:30\nK-2 After School Art Class 4:30-6:00\nTeen Drawing &
 amp; Painting Class 4:30-6:30\nTeen Clay Class (Session 1) 4:30-6:30\nTeen 
 Glass Fusion Class (Session 1) 6:00-8:00\nAdult Clay Class (Session 1) 6:00
 -8:00\nAdult Glass Fusion Class (Session 1) 11:30-1:30\nAdult Glass Fusion 
 Class (Session 1) 6:00-8:00\nWednesday\nMommy/Daddy &amp; Me Art Class 1:30
 -2:30\n3rd thru 5th Grade After School Art Class 4:30-6:00\nTeen Clay Class
  (Session 1) 4:30-6:30\nAdult Glass Fusion Class (Session 1) 11:30-1:30\nTh
 ursday\nMommy/Daddy &amp; Me Class 10:00-11:00\nAdult Drawing &amp; Paintin
 g Class 11:30-1:30\nFriday\nAdult Drawing &amp; Painting 11:30-1:30\n3rd th
 ru 5th Grade After School Art 4:30-6:00\nSaturday\nMommy/Daddy &amp; Me Cla
 ss 9:00-10:00\nMommy/Daddy &amp; Me Class 10:30-11:30\nAges 6-12 Morning Ar
 t Class 9:30-11:30\nAges 6-12 Afternoon Art Class 12:30-2:30\n
X-ALT-DESC;FMTTYPE=text/html:<p>This schedule is for all students registered in our 5/10 week winter ses
 sion art programs. This winters session begins the week of January 8th.<br 
 />See the weekly listings on this calendar for any changes regarding holida
 y hours.</p><p><strong>Monday<span style="color: #ff00ff;"></span></strong>
 <br />Mommy/Daddy &amp; Me Art&nbsp;Class 10:00-11:00<br />K-2 After School
  Art Class 4:30-6:00<br />Teen Drawing &amp; Painting&nbsp;Class 6:00-8:00<
 br />Teen Glass Fusion&nbsp;Class (Session 1) 6:00-8:00<br />Adult Clay&nbs
 p;Class (Session 1) 11:30-1:30<br />Adult Drawing &amp; Painting&nbsp;Class
  6:00-8:00<br /><strong>Tuesday</strong><br />Mommy/Daddy &amp; Me Art Clas
 s 1:30-2:30<br />K-2 After School Art Class 4:30-6:00<br />Teen Drawing &am
 p; Painting Class 4:30-6:30<br />Teen Clay&nbsp;Class (Session 1) 4:30-6:30
 <br />Teen Glass Fusion Class (Session 1) 6:00-8:00<br />Adult Clay Class (
 Session 1) 6:00-8:00<br />Adult Glass Fusion Class (Session 1) 11:30-1:30<b
 r />Adult Glass Fusion&nbsp;Class (Session 1) 6:00-8:00<br /><strong>Wednes
 day</strong><br />Mommy/Daddy &amp; Me Art&nbsp;Class 1:30-2:30<br />3rd th
 ru 5th Grade After School Art&nbsp;Class 4:30-6:00<br />Teen Clay&nbsp;Clas
 s (Session 1) 4:30-6:30<br />Adult Glass Fusion&nbsp;Class (Session 1) 11:3
 0-1:30<br /><strong>Thursday</strong><br />Mommy/Daddy &amp; Me Class 10:00
 -11:00<br />Adult Drawing &amp; Painting Class 11:30-1:30<br /><strong>Frid
 ay</strong><br />Adult Drawing &amp; Painting 11:30-1:30<br />3rd thru 5th 
 Grade After School Art 4:30-6:00<br /><strong>Saturday</strong><br />Mommy/
 Daddy &amp; Me&nbsp;Class 9:00-10:00<br />Mommy/Daddy &amp; Me Class 10:30-
 11:30<br />Ages 6-12 Morning Art Class 9:30-11:30<br />Ages 6-12 Afternoon 
 Art Class 12:30-2:30</p>
DTSTAMP:20260425T021147
DTSTART;TZID=America/New_York;VALUE=DATE:20180115
DTEND;TZID=America/New_York;VALUE=DATE:20180121
SEQUENCE:0
TRANSP:OPAQUE
END:VEVENT
END:VCALENDAR