BEGIN:VCALENDAR
VERSION:2.0
PRODID:-//jEvents 2.0 for Joomla//EN
CALSCALE:GREGORIAN
METHOD:PUBLISH
BEGIN:VTIMEZONE
TZID:America/New_York
BEGIN:STANDARD
DTSTART:20181104T010000
RDATE:20190310T030000
TZOFFSETFROM:-0400
TZOFFSETTO:-0500
TZNAME:America/New_York EST
END:STANDARD
BEGIN:STANDARD
DTSTART:20191103T010000
RDATE:20200308T030000
TZOFFSETFROM:-0400
TZOFFSETTO:-0500
TZNAME:America/New_York EST
END:STANDARD
BEGIN:STANDARD
DTSTART:20201101T010000
RDATE:20210314T030000
TZOFFSETFROM:-0400
TZOFFSETTO:-0500
TZNAME:America/New_York EST
END:STANDARD
BEGIN:STANDARD
DTSTART:20211107T010000
RDATE:20220313T030000
TZOFFSETFROM:-0400
TZOFFSETTO:-0500
TZNAME:America/New_York EST
END:STANDARD
BEGIN:STANDARD
DTSTART:20221106T010000
RDATE:20230312T030000
TZOFFSETFROM:-0400
TZOFFSETTO:-0500
TZNAME:America/New_York EST
END:STANDARD
BEGIN:STANDARD
DTSTART:20231105T010000
RDATE:20240310T030000
TZOFFSETFROM:-0400
TZOFFSETTO:-0500
TZNAME:America/New_York EST
END:STANDARD
BEGIN:STANDARD
DTSTART:20241103T010000
RDATE:20250309T030000
TZOFFSETFROM:-0400
TZOFFSETTO:-0500
TZNAME:America/New_York EST
END:STANDARD
BEGIN:STANDARD
DTSTART:20251102T010000
RDATE:20260308T030000
TZOFFSETFROM:-0400
TZOFFSETTO:-0500
TZNAME:America/New_York EST
END:STANDARD
BEGIN:STANDARD
DTSTART:20261101T010000
RDATE:20270314T030000
TZOFFSETFROM:-0400
TZOFFSETTO:-0500
TZNAME:America/New_York EST
END:STANDARD
BEGIN:STANDARD
DTSTART:20271107T010000
RDATE:20280312T030000
TZOFFSETFROM:-0400
TZOFFSETTO:-0500
TZNAME:America/New_York EST
END:STANDARD
BEGIN:STANDARD
DTSTART:20281105T010000
RDATE:20290311T030000
TZOFFSETFROM:-0400
TZOFFSETTO:-0500
TZNAME:America/New_York EST
END:STANDARD
BEGIN:STANDARD
DTSTART:20291104T010000
RDATE:20300310T030000
TZOFFSETFROM:-0400
TZOFFSETTO:-0500
TZNAME:America/New_York EST
END:STANDARD
BEGIN:STANDARD
DTSTART:20301103T010000
RDATE:20310309T030000
TZOFFSETFROM:-0400
TZOFFSETTO:-0500
TZNAME:America/New_York EST
END:STANDARD
BEGIN:STANDARD
DTSTART:20311102T010000
RDATE:20320314T030000
TZOFFSETFROM:-0400
TZOFFSETTO:-0500
TZNAME:America/New_York EST
END:STANDARD
BEGIN:DAYLIGHT
DTSTART:20180426T120000
RDATE:20181104T010000
TZOFFSETFROM:-0500
TZOFFSETTO:-0400
TZNAME:America/New_York EDT
END:DAYLIGHT
BEGIN:DAYLIGHT
DTSTART:20190310T030000
RDATE:20191103T010000
TZOFFSETFROM:-0500
TZOFFSETTO:-0400
TZNAME:America/New_York EDT
END:DAYLIGHT
BEGIN:DAYLIGHT
DTSTART:20200308T030000
RDATE:20201101T010000
TZOFFSETFROM:-0500
TZOFFSETTO:-0400
TZNAME:America/New_York EDT
END:DAYLIGHT
BEGIN:DAYLIGHT
DTSTART:20210314T030000
RDATE:20211107T010000
TZOFFSETFROM:-0500
TZOFFSETTO:-0400
TZNAME:America/New_York EDT
END:DAYLIGHT
BEGIN:DAYLIGHT
DTSTART:20220313T030000
RDATE:20221106T010000
TZOFFSETFROM:-0500
TZOFFSETTO:-0400
TZNAME:America/New_York EDT
END:DAYLIGHT
BEGIN:DAYLIGHT
DTSTART:20230312T030000
RDATE:20231105T010000
TZOFFSETFROM:-0500
TZOFFSETTO:-0400
TZNAME:America/New_York EDT
END:DAYLIGHT
BEGIN:DAYLIGHT
DTSTART:20240310T030000
RDATE:20241103T010000
TZOFFSETFROM:-0500
TZOFFSETTO:-0400
TZNAME:America/New_York EDT
END:DAYLIGHT
BEGIN:DAYLIGHT
DTSTART:20250309T030000
RDATE:20251102T010000
TZOFFSETFROM:-0500
TZOFFSETTO:-0400
TZNAME:America/New_York EDT
END:DAYLIGHT
BEGIN:DAYLIGHT
DTSTART:20260308T030000
RDATE:20261101T010000
TZOFFSETFROM:-0500
TZOFFSETTO:-0400
TZNAME:America/New_York EDT
END:DAYLIGHT
BEGIN:DAYLIGHT
DTSTART:20270314T030000
RDATE:20271107T010000
TZOFFSETFROM:-0500
TZOFFSETTO:-0400
TZNAME:America/New_York EDT
END:DAYLIGHT
BEGIN:DAYLIGHT
DTSTART:20280312T030000
RDATE:20281105T010000
TZOFFSETFROM:-0500
TZOFFSETTO:-0400
TZNAME:America/New_York EDT
END:DAYLIGHT
BEGIN:DAYLIGHT
DTSTART:20290311T030000
RDATE:20291104T010000
TZOFFSETFROM:-0500
TZOFFSETTO:-0400
TZNAME:America/New_York EDT
END:DAYLIGHT
BEGIN:DAYLIGHT
DTSTART:20300310T030000
RDATE:20301103T010000
TZOFFSETFROM:-0500
TZOFFSETTO:-0400
TZNAME:America/New_York EDT
END:DAYLIGHT
BEGIN:DAYLIGHT
DTSTART:20310309T030000
RDATE:20311102T010000
TZOFFSETFROM:-0500
TZOFFSETTO:-0400
TZNAME:America/New_York EDT
END:DAYLIGHT
END:VTIMEZONE
BEGIN:VEVENT
UID:4f7f0c02870a809598aca320c36516f4
CATEGORIES:Workshops
CREATED:20190407T162407
SUMMARY:ArtLab Slime Time & Paint Pour
LOCATION:Art In The Pod
DESCRIPTION:Art in the Pod welcomes you to sign up for our new Art Lab events, for kids
  of all ages. Beat the heat and enjoy DIY slime-making and paint pouring in
  our air conditioned studio. All materials and easy step-by-step instructio
 ns are supplied.\n\nPhone Registrations Only 215.355.9278DIY Workshop Inclu
 des:\nUp to 2 hours of studio time to complete your paint pour and slime ti
 me.\n\nSlime Time $10\nTime to complete: Around 30 Minutes\nAll Materials t
 o make your very own slime (8oz)\n\nSlime Container (that you decorate) $8\
 nTime to complete: Around 30 Minutes\n\nPaint Pour $12\nTime to complete: A
 round 30 Minutes\n4 inch plaster disc (premade in our studio, additional di
 scs may be purchased in the studio)\nPaints premixed with pouring additives
 \n\n\n\n\nMinimum Age: 6\nAll children must be \nSupplies Needed: None, all
  provided.\nSkill Level: All\nDress Code: We have aprons available, but it 
 is always wise to wear old clothes as this can be a messy (but extremely fu
 n!) project.\n\n\nTERMS: \nPayment Policy: Payment online or in studio is r
 equired to guarantee your reservation. No Vouchers Accepted. Reservations W
 ill Automatically Cancel In 60 Minutes If Payment Is Not Completed. Need he
 lp to complete your reservation? Call us at 215.355.92787 to complete your 
 reservation.\nCancellation/Refund/Studio Credit Policy: No cash refunds/Stu
 dio credit only. A Studio Credit will be given for individuals cancelling w
 ith at least 48 Hours or more notice only. \nMiscellaneous: Four attendee m
 aximum per group. Please arrive on time, arriving past your reserved time s
 lot may require your artlab to be cancelled/rescheduled\n\n
X-ALT-DESC;FMTTYPE=text/html:<p><span style="background-color: #ffffff;">Art in the Pod welcomes you to 
 sign up for our new Art Lab events, for kids of all ages. Beat the heat and
  enjoy DIY slime-making and paint pouring in our air conditioned studio. Al
 l materials and easy step-by-step instructions are supplied.<br /></span></
 p><h2><strong><strong>Phone Registrations Only 215.355.9278</strong></stron
 g></h2><p><strong>DIY Workshop Includes:</strong></p><p><strong>Up to 2 hou
 rs of studio time to complete your paint pour and slime time.</strong></p><
 p><strong><br /><strong><span style="text-decoration: underline;">Slime Tim
 e</span> $10</strong><br />Time to complete: Around 30 Minutes<br /></stron
 g>All Materials to make your very own slime (8oz)</p><p><br /><strong><span
  style="text-decoration: underline;">Slime Container</span> (that you decor
 ate) $8<br /><strong>Time to complete: Around 30 Minutes</strong><br /></st
 rong></p><p><strong><span style="text-decoration: underline;"><strong>Paint
  Pour</strong></span><strong> $12<br /><strong>Time to complete: Around 30 
 Minutes</strong><br /></strong></strong>4 inch plaster disc (premade in our
  studio, additional discs may be purchased in the studio)<strong><br /></st
 rong>Paints premixed with pouring additives<br /><br /><br /></p><p><br /><
 strong>Minimum Age:</strong> 6<br />All children must be <br /><strong>Supp
 lies Needed:</strong> None, all provided.<br /><strong>Skill Level:</strong
 > All<br /><strong>Dress Code:</strong> We have aprons available, but it is
  always wise to wear old clothes as this can be a messy (but extremely fun!
 ) project.<br /><br /></p><p style="font-size: small; color: #000000;"><str
 ong>TERMS: <br />Payment Policy:</strong> Payment online or in studio is re
 quired to guarantee your reservation. No Vouchers Accepted. <span id="rsvp_
 field26_span_"><span style="text-decoration: underline;">Reservations Will 
 Automatically Cancel In 60 Minutes If Payment Is Not Completed</span>. Need
  help to complete your reservation? Call us at 215.355.92787 to complete yo
 ur reservation.<br /></span><strong>Cancellation/Refund/Studio Credit Polic
 y:</strong> No cash refunds/Studio credit only. A Studio Credit will be giv
 en for individuals cancelling with at least 48 Hours or more notice only. <
 br /><strong>Miscellaneous: </strong>Four attendee maximum per group. Pleas
 e arrive on time, arriving past your reserved time slot may require your ar
 tlab to be cancelled/rescheduled<strong><br /></strong></p>
DTSTAMP:20260424T140233
DTSTART;TZID=America/New_York:20190427T120000
DTEND;TZID=America/New_York:20190427T140000
SEQUENCE:0
TRANSP:OPAQUE
END:VEVENT
END:VCALENDAR