BEGIN:VCALENDAR
VERSION:2.0
PRODID:-//jEvents 2.0 for Joomla//EN
CALSCALE:GREGORIAN
METHOD:PUBLISH
BEGIN:VTIMEZONE
TZID:America/New_York
BEGIN:STANDARD
DTSTART:20241231T090000
RDATE:20250309T030000
TZOFFSETFROM:-0400
TZOFFSETTO:-0500
TZNAME:America/New_York EST
END:STANDARD
BEGIN:STANDARD
DTSTART:20251102T010000
RDATE:20260308T030000
TZOFFSETFROM:-0400
TZOFFSETTO:-0500
TZNAME:America/New_York EST
END:STANDARD
BEGIN:STANDARD
DTSTART:20261101T010000
RDATE:20270314T030000
TZOFFSETFROM:-0400
TZOFFSETTO:-0500
TZNAME:America/New_York EST
END:STANDARD
BEGIN:STANDARD
DTSTART:20271107T010000
RDATE:20280312T030000
TZOFFSETFROM:-0400
TZOFFSETTO:-0500
TZNAME:America/New_York EST
END:STANDARD
BEGIN:STANDARD
DTSTART:20281105T010000
RDATE:20290311T030000
TZOFFSETFROM:-0400
TZOFFSETTO:-0500
TZNAME:America/New_York EST
END:STANDARD
BEGIN:STANDARD
DTSTART:20291104T010000
RDATE:20300310T030000
TZOFFSETFROM:-0400
TZOFFSETTO:-0500
TZNAME:America/New_York EST
END:STANDARD
BEGIN:STANDARD
DTSTART:20301103T010000
RDATE:20310309T030000
TZOFFSETFROM:-0400
TZOFFSETTO:-0500
TZNAME:America/New_York EST
END:STANDARD
BEGIN:STANDARD
DTSTART:20311102T010000
RDATE:20320314T030000
TZOFFSETFROM:-0400
TZOFFSETTO:-0500
TZNAME:America/New_York EST
END:STANDARD
BEGIN:DAYLIGHT
DTSTART:20250309T030000
RDATE:20251102T010000
TZOFFSETFROM:-0500
TZOFFSETTO:-0400
TZNAME:America/New_York EDT
END:DAYLIGHT
BEGIN:DAYLIGHT
DTSTART:20260308T030000
RDATE:20261101T010000
TZOFFSETFROM:-0500
TZOFFSETTO:-0400
TZNAME:America/New_York EDT
END:DAYLIGHT
BEGIN:DAYLIGHT
DTSTART:20270314T030000
RDATE:20271107T010000
TZOFFSETFROM:-0500
TZOFFSETTO:-0400
TZNAME:America/New_York EDT
END:DAYLIGHT
BEGIN:DAYLIGHT
DTSTART:20280312T030000
RDATE:20281105T010000
TZOFFSETFROM:-0500
TZOFFSETTO:-0400
TZNAME:America/New_York EDT
END:DAYLIGHT
BEGIN:DAYLIGHT
DTSTART:20290311T030000
RDATE:20291104T010000
TZOFFSETFROM:-0500
TZOFFSETTO:-0400
TZNAME:America/New_York EDT
END:DAYLIGHT
BEGIN:DAYLIGHT
DTSTART:20300310T030000
RDATE:20301103T010000
TZOFFSETFROM:-0500
TZOFFSETTO:-0400
TZNAME:America/New_York EDT
END:DAYLIGHT
BEGIN:DAYLIGHT
DTSTART:20310309T030000
RDATE:20311102T010000
TZOFFSETFROM:-0500
TZOFFSETTO:-0400
TZNAME:America/New_York EDT
END:DAYLIGHT
END:VTIMEZONE
BEGIN:VEVENT
UID:beb5bcc4c255ffc9315c15607e5830aa
CATEGORIES:Art-Camps
CREATED:20251212T142603
SUMMARY:Pick-a-Pop! Art Camp
LOCATION:Art In The Pod
DESCRIPTION:To Register:\nCLICK HERE (mini-camps) or\nCall Nina 215-499-7534  Thursday,
  January 1st\nPick-a-Pop!\n9-12PM\nProject 1: 11x14 inch acrylic canvas pai
 nting\nProject 2: option to create their own holiday Slime OR create a circ
 le design masterpiece in watercolors!\n\nAbstract art meets sugary magic! C
 ampers will paint an assortment of lollipops (with acrylic on 11x14” canvas
 ) using bold circles, bright lines, and vibrant colors inspired by Wassily 
 Kandinsky!\nCampers will also have the option to create their own holiday S
 lime OR create a circle design masterpiece in watercolors!\n \nWinter Break
  Mini Camps Dec 24TH, 26TH, 29TH, 30TH, 31st, Jan 1st and 2nd\nWhat is for 
 dessert?\nJoin us in a creating visual sweetness at Art in the Pod’s Winter
  Break Mini Camps!\n\nFEATURING HOLIDAY GOODIES IN THE STYLE OF FAMOUS ARTI
 STS!\nCreate two projects in each camp!\nAll materials included\n9-12, 1-4,
  OR FULL DAY\nDress for a mess and bring a nut-free snack!\nStaying all day
 ? \nBring lunch and create four projects!\n \nSpace is limited\nRegister to
 day at artinthepod.com \nor call 215-355-9278\nAges 6-12\nCost: 66.00\n \n 
 \n \n
X-ALT-DESC;FMTTYPE=text/html:<h3 style="text-align: center;"><span style="font-size: 36pt; color: #00000
 0;"><strong>To&nbsp;Register:<br /><a href="mini-camps">CLICK HERE</a> or<b
 r />Call Nina 215-499-7534</strong></span></h3><h3 style="text-align: justi
 fy;"><span style="color: #000000;"><strong>&nbsp;</strong><strong>&nbsp;</s
 trong></span></h3><h3><span style="color: #000000;"><b>Thursday, January 1<
 sup>st</sup></b></span><br /><span style="color: #000000;">Pick-a-Pop!</spa
 n><br /><span style="color: #000000;"><strong>9-12PM<br />Project 1: 11x14 
 inch acrylic canvas painting<br />Project 2: option to create their own hol
 iday Slime OR <span style="color: #000000;">create a circle design masterpi
 ece in watercolors</span>!<br /><br /></strong>Abstract art meets sugary ma
 gic! Campers will paint an assortment of lollipops (with acrylic on 11x14” 
 canvas) using bold circles, bright lines, and vibrant colors inspired by Wa
 ssily Kandinsky!<br />Campers will also have the option to create their own
  holiday Slime OR create a circle design masterpiece in watercolors!<br /><
 /span></h3><p>&nbsp;</p><h2 style="text-align: center;"><span style="color:
  #000000;"><strong>Winter Break Mini Camps Dec 24TH, 26TH, 29TH, 30TH, 31st
 , Jan 1st and 2nd<br /></strong></span></h2><p style="text-align: center;">
 <span style="color: #000000;"><strong>What is for dessert?<br />Join us in 
 a creating visual sweetness at Art in the Pod’s Winter Break Mini Camps!<br
  /><br />FEATURING HOLIDAY GOODIES IN THE STYLE OF FAMOUS ARTISTS!<br />Cre
 ate two projects in each camp!<br />All materials included<br />9-12, 1-4, 
 OR FULL DAY</strong></span></p><p style="text-align: center;"><span style="
 color: #000000;"><strong>Dress for a mess and bring a nut-free snack!<br />
 Staying all day?&nbsp;<br />Bring lunch and create four projects!<br />&nbs
 p;<br />Space is limited<br />Register today at artinthepod.com&nbsp;<br />
 or call 215-355-9278<br />Ages 6-12<br />Cost: 66.00</strong></span></p><p>
 &nbsp;</p><p>&nbsp;</p><p>&nbsp;</p>
DTSTAMP:20260421T133724
DTSTART;TZID=America/New_York:20260101T090000
DTEND;TZID=America/New_York:20260101T120000
SEQUENCE:0
TRANSP:OPAQUE
END:VEVENT
END:VCALENDAR