BEGIN:VCALENDAR
VERSION:2.0
PRODID:-//jEvents 2.0 for Joomla//EN
CALSCALE:GREGORIAN
METHOD:PUBLISH
BEGIN:VTIMEZONE
TZID:America/New_York
BEGIN:STANDARD
DTSTART:20241231T130000
RDATE:20250309T030000
TZOFFSETFROM:-0400
TZOFFSETTO:-0500
TZNAME:America/New_York EST
END:STANDARD
BEGIN:STANDARD
DTSTART:20251102T010000
RDATE:20260308T030000
TZOFFSETFROM:-0400
TZOFFSETTO:-0500
TZNAME:America/New_York EST
END:STANDARD
BEGIN:STANDARD
DTSTART:20261101T010000
RDATE:20270314T030000
TZOFFSETFROM:-0400
TZOFFSETTO:-0500
TZNAME:America/New_York EST
END:STANDARD
BEGIN:STANDARD
DTSTART:20271107T010000
RDATE:20280312T030000
TZOFFSETFROM:-0400
TZOFFSETTO:-0500
TZNAME:America/New_York EST
END:STANDARD
BEGIN:STANDARD
DTSTART:20281105T010000
RDATE:20290311T030000
TZOFFSETFROM:-0400
TZOFFSETTO:-0500
TZNAME:America/New_York EST
END:STANDARD
BEGIN:STANDARD
DTSTART:20291104T010000
RDATE:20300310T030000
TZOFFSETFROM:-0400
TZOFFSETTO:-0500
TZNAME:America/New_York EST
END:STANDARD
BEGIN:STANDARD
DTSTART:20301103T010000
RDATE:20310309T030000
TZOFFSETFROM:-0400
TZOFFSETTO:-0500
TZNAME:America/New_York EST
END:STANDARD
BEGIN:STANDARD
DTSTART:20311102T010000
RDATE:20320314T030000
TZOFFSETFROM:-0400
TZOFFSETTO:-0500
TZNAME:America/New_York EST
END:STANDARD
BEGIN:DAYLIGHT
DTSTART:20250309T030000
RDATE:20251102T010000
TZOFFSETFROM:-0500
TZOFFSETTO:-0400
TZNAME:America/New_York EDT
END:DAYLIGHT
BEGIN:DAYLIGHT
DTSTART:20260308T030000
RDATE:20261101T010000
TZOFFSETFROM:-0500
TZOFFSETTO:-0400
TZNAME:America/New_York EDT
END:DAYLIGHT
BEGIN:DAYLIGHT
DTSTART:20270314T030000
RDATE:20271107T010000
TZOFFSETFROM:-0500
TZOFFSETTO:-0400
TZNAME:America/New_York EDT
END:DAYLIGHT
BEGIN:DAYLIGHT
DTSTART:20280312T030000
RDATE:20281105T010000
TZOFFSETFROM:-0500
TZOFFSETTO:-0400
TZNAME:America/New_York EDT
END:DAYLIGHT
BEGIN:DAYLIGHT
DTSTART:20290311T030000
RDATE:20291104T010000
TZOFFSETFROM:-0500
TZOFFSETTO:-0400
TZNAME:America/New_York EDT
END:DAYLIGHT
BEGIN:DAYLIGHT
DTSTART:20300310T030000
RDATE:20301103T010000
TZOFFSETFROM:-0500
TZOFFSETTO:-0400
TZNAME:America/New_York EDT
END:DAYLIGHT
BEGIN:DAYLIGHT
DTSTART:20310309T030000
RDATE:20311102T010000
TZOFFSETFROM:-0500
TZOFFSETTO:-0400
TZNAME:America/New_York EDT
END:DAYLIGHT
END:VTIMEZONE
BEGIN:VEVENT
UID:4ff1183aca4b34c55dbe350bd1eb3e0d
CATEGORIES:Art-Camps
CREATED:20251212T142954
SUMMARY:Eat Cake! Art Camp
LOCATION:Art In The Pod
DESCRIPTION:To Register:\nCLICK HERE (mini-camps) or\nCall Nina 215-499-7534  Thursday,
  January 1st\nEat Cake!\n1-4PM\nProject 1: 11x14 inch acrylic canvas painti
 ng\nProject 2: option to create their own holiday Slime OR enjoy a Printmak
 ing project!\n\nHave layers of fun painting a delicious-looking festive cak
 e (on 11x14” canvas) with color, texture and cheerful details to create a t
 asty mouthwatering artwork that pops off the canvas, inspired by Wayne Thie
 baud!\nCampers will also have the option to create their own holiday Slime 
 OR enjoy a Printmaking project using their favorite desserts as inspiration
 . \n \nWinter Break Mini Camps Dec 24TH, 26TH, 29TH, 30TH, 31st, Jan 1st an
 d 2nd\nWhat is for dessert?\nJoin us in a creating visual sweetness at Art 
 in the Pod’s Winter Break Mini Camps!\n\nFEATURING HOLIDAY GOODIES IN THE S
 TYLE OF FAMOUS ARTISTS!\nCreate two projects in each camp!\nAll materials i
 ncluded\n9-12, 1-4, OR FULL DAY\nDress for a mess and bring a nut-free snac
 k!\nStaying all day? \nBring lunch and create four projects!\n \nSpace is l
 imited\nRegister today at artinthepod.com \nor call 215-355-9278\nAges 6-12
 \nCost: 66.00\n \n \n \n
X-ALT-DESC;FMTTYPE=text/html:<h3 style="text-align: center;"><span style="font-size: 36pt; color: #00000
 0;"><strong>To&nbsp;Register:<br /><a href="mini-camps">CLICK HERE</a> or<b
 r />Call Nina 215-499-7534</strong></span></h3><h3 style="text-align: justi
 fy;"><span style="color: #000000;"><strong>&nbsp;</strong><strong>&nbsp;</s
 trong></span></h3><h3><span style="color: #000000;"><b>Thursday, January 1<
 sup>st</sup></b></span><br /><span style="color: #000000;">Eat Cake!</span>
 <br /><span style="color: #000000;"><strong>1-4PM<br />Project 1: 11x14 inc
 h acrylic canvas painting<br />Project 2: option to create their own holida
 y Slime OR <span style="color: #000000;">enjoy a Printmaking project</span>
 !<br /><br /></strong>Have layers of fun painting a delicious-looking festi
 ve cake (on 11x14” canvas) with color, texture and cheerful details to crea
 te a tasty mouthwatering artwork that pops off the canvas, inspired by Wayn
 e Thiebaud!<br />Campers will also have the option to create their own holi
 day Slime OR enjoy a Printmaking project using their favorite desserts as i
 nspiration.&nbsp;<br /></span></h3><p>&nbsp;</p><h2 style="text-align: cent
 er;"><span style="color: #000000;"><strong>Winter Break Mini Camps Dec 24TH
 , 26TH, 29TH, 30TH, 31st, Jan 1st and 2nd<br /></strong></span></h2><p styl
 e="text-align: center;"><span style="color: #000000;"><strong>What is for d
 essert?<br />Join us in a creating visual sweetness at Art in the Pod’s Win
 ter Break Mini Camps!<br /><br />FEATURING HOLIDAY GOODIES IN THE STYLE OF 
 FAMOUS ARTISTS!<br />Create two projects in each camp!<br />All materials i
 ncluded<br />9-12, 1-4, OR FULL DAY</strong></span></p><p style="text-align
 : center;"><span style="color: #000000;"><strong>Dress for a mess and bring
  a nut-free snack!<br />Staying all day?&nbsp;<br />Bring lunch and create 
 four projects!<br />&nbsp;<br />Space is limited<br />Register today at art
 inthepod.com&nbsp;<br />or call 215-355-9278<br />Ages 6-12<br />Cost: 66.0
 0</strong></span></p><p>&nbsp;</p><p>&nbsp;</p><p>&nbsp;</p>
DTSTAMP:20260421T133651
DTSTART;TZID=America/New_York:20260101T130000
DTEND;TZID=America/New_York:20260101T160000
SEQUENCE:0
TRANSP:OPAQUE
END:VEVENT
END:VCALENDAR