BEGIN:VCALENDAR
VERSION:2.0
PRODID:-//jEvents 2.0 for Joomla//EN
CALSCALE:GREGORIAN
METHOD:PUBLISH
BEGIN:VTIMEZONE
TZID:America/New_York
BEGIN:STANDARD
DTSTART:20250101T090000
RDATE:20250309T030000
TZOFFSETFROM:-0400
TZOFFSETTO:-0500
TZNAME:America/New_York EST
END:STANDARD
BEGIN:STANDARD
DTSTART:20251102T010000
RDATE:20260308T030000
TZOFFSETFROM:-0400
TZOFFSETTO:-0500
TZNAME:America/New_York EST
END:STANDARD
BEGIN:STANDARD
DTSTART:20261101T010000
RDATE:20270314T030000
TZOFFSETFROM:-0400
TZOFFSETTO:-0500
TZNAME:America/New_York EST
END:STANDARD
BEGIN:STANDARD
DTSTART:20271107T010000
RDATE:20280312T030000
TZOFFSETFROM:-0400
TZOFFSETTO:-0500
TZNAME:America/New_York EST
END:STANDARD
BEGIN:STANDARD
DTSTART:20281105T010000
RDATE:20290311T030000
TZOFFSETFROM:-0400
TZOFFSETTO:-0500
TZNAME:America/New_York EST
END:STANDARD
BEGIN:STANDARD
DTSTART:20291104T010000
RDATE:20300310T030000
TZOFFSETFROM:-0400
TZOFFSETTO:-0500
TZNAME:America/New_York EST
END:STANDARD
BEGIN:STANDARD
DTSTART:20301103T010000
RDATE:20310309T030000
TZOFFSETFROM:-0400
TZOFFSETTO:-0500
TZNAME:America/New_York EST
END:STANDARD
BEGIN:STANDARD
DTSTART:20311102T010000
RDATE:20320314T030000
TZOFFSETFROM:-0400
TZOFFSETTO:-0500
TZNAME:America/New_York EST
END:STANDARD
BEGIN:DAYLIGHT
DTSTART:20250309T030000
RDATE:20251102T010000
TZOFFSETFROM:-0500
TZOFFSETTO:-0400
TZNAME:America/New_York EDT
END:DAYLIGHT
BEGIN:DAYLIGHT
DTSTART:20260308T030000
RDATE:20261101T010000
TZOFFSETFROM:-0500
TZOFFSETTO:-0400
TZNAME:America/New_York EDT
END:DAYLIGHT
BEGIN:DAYLIGHT
DTSTART:20270314T030000
RDATE:20271107T010000
TZOFFSETFROM:-0500
TZOFFSETTO:-0400
TZNAME:America/New_York EDT
END:DAYLIGHT
BEGIN:DAYLIGHT
DTSTART:20280312T030000
RDATE:20281105T010000
TZOFFSETFROM:-0500
TZOFFSETTO:-0400
TZNAME:America/New_York EDT
END:DAYLIGHT
BEGIN:DAYLIGHT
DTSTART:20290311T030000
RDATE:20291104T010000
TZOFFSETFROM:-0500
TZOFFSETTO:-0400
TZNAME:America/New_York EDT
END:DAYLIGHT
BEGIN:DAYLIGHT
DTSTART:20300310T030000
RDATE:20301103T010000
TZOFFSETFROM:-0500
TZOFFSETTO:-0400
TZNAME:America/New_York EDT
END:DAYLIGHT
BEGIN:DAYLIGHT
DTSTART:20310309T030000
RDATE:20311102T010000
TZOFFSETFROM:-0500
TZOFFSETTO:-0400
TZNAME:America/New_York EDT
END:DAYLIGHT
END:VTIMEZONE
BEGIN:VEVENT
UID:ce8c7b98f8abdf8f9c03974c9057c379
CATEGORIES:Art-Camps
CREATED:20251212T143435
SUMMARY:Surfing Snowman! Art Camp
LOCATION:Art In The Pod
DESCRIPTION:To Register:\nCLICK HERE (mini-camps) or\nCall Nina 215-499-7534  Friday, J
 anuary 2nd\nSurfing Snowman!\n9-12PM\nProject 1: 11x14 inch acrylic canvas 
 painting\nProject 2: option to create their own holiday Slime OR create an 
 ice cream sundae using sharpie &amp; colored pencils!\n\nHave a splash pain
 ting a snowman enjoying ice cream at the beach, inspired by Katsushika Hoku
 sai (with acrylic on 11x14” canvas).\nCampers will also have the option to 
 create their own Slime OR create an ice cream sundae using sharpie &amp; co
 lored pencils!\n \nWinter Break Mini Camps Dec 24TH, 26TH, 29TH, 30TH, 31st
 , Jan 1st and 2nd\nWhat is for dessert?\nJoin us in a creating visual sweet
 ness at Art in the Pod’s Winter Break Mini Camps!\n\nFEATURING HOLIDAY GOOD
 IES IN THE STYLE OF FAMOUS ARTISTS!\nCreate two projects in each camp!\nAll
  materials included\n9-12, 1-4, OR FULL DAY\nDress for a mess and bring a n
 ut-free snack!\nStaying all day? \nBring lunch and create four projects!\n 
 \nSpace is limited\nRegister today at artinthepod.com \nor call 215-355-927
 8\nAges 6-12\nCost: 66.00\n \n \n \n
X-ALT-DESC;FMTTYPE=text/html:<h3 style="text-align: center;"><span style="font-size: 36pt; color: #00000
 0;"><strong>To&nbsp;Register:<br /><a href="mini-camps">CLICK HERE</a> or<b
 r />Call Nina 215-499-7534</strong></span></h3><h3 style="text-align: justi
 fy;"><span style="color: #000000;"><strong>&nbsp;</strong><strong>&nbsp;</s
 trong></span></h3><h3><span style="color: #000000;"><b>Friday, January 2<su
 p>nd</sup></b></span><br /><span style="color: #000000;">Surfing Snowman!</
 span><br /><span style="color: #000000;"><strong>9-12PM<br />Project 1: 11x
 14 inch acrylic canvas painting<br />Project 2: option to create their own 
 holiday Slime OR <span style="color: #000000;">create an ice cream sundae u
 sing sharpie &amp; colored pencils</span>!<br /><br /></strong>Have a splas
 h painting a snowman enjoying ice cream at the beach, inspired by Katsushik
 a Hokusai (with acrylic on 11x14” canvas).<br />Campers will also have the 
 option to create their own Slime OR create an ice cream sundae using sharpi
 e &amp; colored pencils!<br /></span></h3><p>&nbsp;</p><h2 style="text-alig
 n: center;"><span style="color: #000000;"><strong>Winter Break Mini Camps D
 ec 24TH, 26TH, 29TH, 30TH, 31st, Jan 1st and 2nd<br /></strong></span></h2>
 <p style="text-align: center;"><span style="color: #000000;"><strong>What i
 s for dessert?<br />Join us in a creating visual sweetness at Art in the Po
 d’s Winter Break Mini Camps!<br /><br />FEATURING HOLIDAY GOODIES IN THE ST
 YLE OF FAMOUS ARTISTS!<br />Create two projects in each camp!<br />All mate
 rials included<br />9-12, 1-4, OR FULL DAY</strong></span></p><p style="tex
 t-align: center;"><span style="color: #000000;"><strong>Dress for a mess an
 d bring a nut-free snack!<br />Staying all day?&nbsp;<br />Bring lunch and 
 create four projects!<br />&nbsp;<br />Space is limited<br />Register today
  at artinthepod.com&nbsp;<br />or call 215-355-9278<br />Ages 6-12<br />Cos
 t: 66.00</strong></span></p><p>&nbsp;</p><p>&nbsp;</p><p>&nbsp;</p>
DTSTAMP:20260421T140131
DTSTART;TZID=America/New_York:20260102T090000
DTEND;TZID=America/New_York:20260102T120000
SEQUENCE:0
TRANSP:OPAQUE
END:VEVENT
END:VCALENDAR