BEGIN:VCALENDAR
VERSION:2.0
PRODID:-//jEvents 2.0 for Joomla//EN
CALSCALE:GREGORIAN
METHOD:PUBLISH
BEGIN:VTIMEZONE
TZID:America/New_York
BEGIN:STANDARD
DTSTART:20251102T010000
RDATE:20260308T030000
TZOFFSETFROM:-0400
TZOFFSETTO:-0500
TZNAME:America/New_York EST
END:STANDARD
BEGIN:STANDARD
DTSTART:20261101T010000
RDATE:20270314T030000
TZOFFSETFROM:-0400
TZOFFSETTO:-0500
TZNAME:America/New_York EST
END:STANDARD
BEGIN:STANDARD
DTSTART:20271107T010000
RDATE:20280312T030000
TZOFFSETFROM:-0400
TZOFFSETTO:-0500
TZNAME:America/New_York EST
END:STANDARD
BEGIN:STANDARD
DTSTART:20281105T010000
RDATE:20290311T030000
TZOFFSETFROM:-0400
TZOFFSETTO:-0500
TZNAME:America/New_York EST
END:STANDARD
BEGIN:STANDARD
DTSTART:20291104T010000
RDATE:20300310T030000
TZOFFSETFROM:-0400
TZOFFSETTO:-0500
TZNAME:America/New_York EST
END:STANDARD
BEGIN:STANDARD
DTSTART:20301103T010000
RDATE:20310309T030000
TZOFFSETFROM:-0400
TZOFFSETTO:-0500
TZNAME:America/New_York EST
END:STANDARD
BEGIN:STANDARD
DTSTART:20311102T010000
RDATE:20320314T030000
TZOFFSETFROM:-0400
TZOFFSETTO:-0500
TZNAME:America/New_York EST
END:STANDARD
BEGIN:DAYLIGHT
DTSTART:20250331T130000
RDATE:20251102T010000
TZOFFSETFROM:-0500
TZOFFSETTO:-0400
TZNAME:America/New_York EDT
END:DAYLIGHT
BEGIN:DAYLIGHT
DTSTART:20260308T030000
RDATE:20261101T010000
TZOFFSETFROM:-0500
TZOFFSETTO:-0400
TZNAME:America/New_York EDT
END:DAYLIGHT
BEGIN:DAYLIGHT
DTSTART:20270314T030000
RDATE:20271107T010000
TZOFFSETFROM:-0500
TZOFFSETTO:-0400
TZNAME:America/New_York EDT
END:DAYLIGHT
BEGIN:DAYLIGHT
DTSTART:20280312T030000
RDATE:20281105T010000
TZOFFSETFROM:-0500
TZOFFSETTO:-0400
TZNAME:America/New_York EDT
END:DAYLIGHT
BEGIN:DAYLIGHT
DTSTART:20290311T030000
RDATE:20291104T010000
TZOFFSETFROM:-0500
TZOFFSETTO:-0400
TZNAME:America/New_York EDT
END:DAYLIGHT
BEGIN:DAYLIGHT
DTSTART:20300310T030000
RDATE:20301103T010000
TZOFFSETFROM:-0500
TZOFFSETTO:-0400
TZNAME:America/New_York EDT
END:DAYLIGHT
BEGIN:DAYLIGHT
DTSTART:20310309T030000
RDATE:20311102T010000
TZOFFSETFROM:-0500
TZOFFSETTO:-0400
TZNAME:America/New_York EDT
END:DAYLIGHT
END:VTIMEZONE
BEGIN:VEVENT
UID:2e51c6a4d0da92221864864d76563444
CATEGORIES:Art-Camps
CREATED:20260302T194838
SUMMARY:DIZZY DUCK! Art Camp
LOCATION:Art In The Pod
DESCRIPTION:To Register:\nCLICK HERE (mini-camps)  WEDNESDAY, APRIL 1st\nDIZZY DUCK!\n1
 -4PM\n Project 1: 11x14 inch acrylic canvas painting\n Project 2: Option to
  create their own holiday Slime OR Oil Pastels and Watercolor paintsSwirl a
 round with circles creating a colorful abstract masterpiece, on an 11x14 in
 ch canvas, inspired by Wassily Kandinsky! Campers will continue the afterno
 on creating a circle design composition using oil pastels and watercolor pa
 ints OR have the option to create their own Slime! Create two projects in e
 ach camp!\n All materials included\n 9-12, 1-4, OR FULL DAY\nDress for a me
 ss and bring a nut-free snack!\n Staying all day? \n Bring lunch and create
  four projects!\n  \n Space is limited\n Register today at artinthepod.com 
 \n or call 215-355-9278\n Ages 6-12\n Cost: 66.00\n \n
X-ALT-DESC;FMTTYPE=text/html:<h3 style="text-align: center;"><span style="font-size: 36pt; color: #00000
 0;"><strong>To&nbsp;Register:<br /><a href="mini-camps">CLICK HERE</a></str
 ong></span></h3><h3 style="text-align: justify;"><span style="color: #00000
 0;"><strong>&nbsp;</strong><strong>&nbsp;</strong></span></h3><h3><span sty
 le="color: #000000;"><b><strong>WEDNESDAY, APRIL 1</strong><sup>st</sup></b
 ></span><br /><span style="color: #000000;"><strong>DIZZY DUCK!</strong></s
 pan><br /><span style="color: #000000;"><strong>1-4PM<br /> Project 1: 11x1
 4 inch acrylic canvas painting<br /> Project 2: Option to create their own 
 holiday Slime OR&nbsp;</strong>Oil Pastels and Watercolor paints</span></h3
 ><h3><span style="color: #000000;">Swirl around with circles creating a col
 orful abstract masterpiece, on an 11x14 inch canvas, inspired by Wassily Ka
 ndinsky! Campers will continue the afternoon creating a circle design compo
 sition using oil pastels and watercolor paints OR have the option to create
  their own Slime!</span></h3><p><span style="color: #000000;"><strong> Crea
 te two projects in each camp!<br /> All materials included<br /> 9-12, 1-4,
  OR FULL DAY</strong></span></p><p><span style="color: #000000;"><strong>Dr
 ess for a mess and bring a nut-free snack!<br /> Staying all day?&nbsp;<br 
 /> Bring lunch and create four projects!<br /> &nbsp;<br /> Space is limite
 d<br /> Register today at artinthepod.com&nbsp;<br /> or call 215-355-9278<
 br /> Ages 6-12<br /> Cost: 66.00</strong></span></p><p>&nbsp;</p>
DTSTAMP:20260421T174801
DTSTART;TZID=America/New_York:20260401T130000
DTEND;TZID=America/New_York:20260401T160000
SEQUENCE:0
TRANSP:OPAQUE
END:VEVENT
END:VCALENDAR