BEGIN:VCALENDAR
VERSION:2.0
PRODID:-//jEvents 2.0 for Joomla//EN
CALSCALE:GREGORIAN
METHOD:PUBLISH
BEGIN:VTIMEZONE
TZID:America/New_York
BEGIN:STANDARD
DTSTART:20251102T010000
RDATE:20260308T030000
TZOFFSETFROM:-0400
TZOFFSETTO:-0500
TZNAME:America/New_York EST
END:STANDARD
BEGIN:STANDARD
DTSTART:20261101T010000
RDATE:20270314T030000
TZOFFSETFROM:-0400
TZOFFSETTO:-0500
TZNAME:America/New_York EST
END:STANDARD
BEGIN:STANDARD
DTSTART:20271107T010000
RDATE:20280312T030000
TZOFFSETFROM:-0400
TZOFFSETTO:-0500
TZNAME:America/New_York EST
END:STANDARD
BEGIN:STANDARD
DTSTART:20281105T010000
RDATE:20290311T030000
TZOFFSETFROM:-0400
TZOFFSETTO:-0500
TZNAME:America/New_York EST
END:STANDARD
BEGIN:STANDARD
DTSTART:20291104T010000
RDATE:20300310T030000
TZOFFSETFROM:-0400
TZOFFSETTO:-0500
TZNAME:America/New_York EST
END:STANDARD
BEGIN:STANDARD
DTSTART:20301103T010000
RDATE:20310309T030000
TZOFFSETFROM:-0400
TZOFFSETTO:-0500
TZNAME:America/New_York EST
END:STANDARD
BEGIN:STANDARD
DTSTART:20311102T010000
RDATE:20320314T030000
TZOFFSETFROM:-0400
TZOFFSETTO:-0500
TZNAME:America/New_York EST
END:STANDARD
BEGIN:DAYLIGHT
DTSTART:20250401T090000
RDATE:20251102T010000
TZOFFSETFROM:-0500
TZOFFSETTO:-0400
TZNAME:America/New_York EDT
END:DAYLIGHT
BEGIN:DAYLIGHT
DTSTART:20260308T030000
RDATE:20261101T010000
TZOFFSETFROM:-0500
TZOFFSETTO:-0400
TZNAME:America/New_York EDT
END:DAYLIGHT
BEGIN:DAYLIGHT
DTSTART:20270314T030000
RDATE:20271107T010000
TZOFFSETFROM:-0500
TZOFFSETTO:-0400
TZNAME:America/New_York EDT
END:DAYLIGHT
BEGIN:DAYLIGHT
DTSTART:20280312T030000
RDATE:20281105T010000
TZOFFSETFROM:-0500
TZOFFSETTO:-0400
TZNAME:America/New_York EDT
END:DAYLIGHT
BEGIN:DAYLIGHT
DTSTART:20290311T030000
RDATE:20291104T010000
TZOFFSETFROM:-0500
TZOFFSETTO:-0400
TZNAME:America/New_York EDT
END:DAYLIGHT
BEGIN:DAYLIGHT
DTSTART:20300310T030000
RDATE:20301103T010000
TZOFFSETFROM:-0500
TZOFFSETTO:-0400
TZNAME:America/New_York EDT
END:DAYLIGHT
BEGIN:DAYLIGHT
DTSTART:20310309T030000
RDATE:20311102T010000
TZOFFSETFROM:-0500
TZOFFSETTO:-0400
TZNAME:America/New_York EDT
END:DAYLIGHT
END:VTIMEZONE
BEGIN:VEVENT
UID:6e9a1c9eb4bd8fe70b393de7f1cf7f63
CATEGORIES:Art-Camps
CREATED:20260303T200638
SUMMARY:DUCK DREAMS! Art Camp
LOCATION:Art In The Pod
DESCRIPTION:To Register:\nCLICK HERE (mini-camps)  THURSDAY, APRIL 2nd\nDUCK DREAMS!\n9
 AM-12PM\n Project 1: 11x14 inch acrylic canvas painting\n Project 2: Option
  to create their own holiday Slime OR CLAY Hand-buildingCamp Description: B
 ranch out for some whimsical fun creating a duck resting under a magical tr
 ee of colors, on an 11x14 inch canvas, inspired by Gustav Klimt! Campers wi
 ll continue the morning curling up with coils, hand-building a clay coaster
  OR have the option to create their own Slime! Create two projects in each 
 camp!\n All materials included\n 9-12, 1-4, OR FULL DAY\nDress for a mess a
 nd bring a nut-free snack!\n Staying all day? \n Bring lunch and create fou
 r projects!\n  \n Space is limited\n Register today at artinthepod.com \n o
 r call 215-355-9278\n Ages 6-12\n Cost: 66.00\n \n
X-ALT-DESC;FMTTYPE=text/html:<h3 style="text-align: center;"><span style="font-size: 36pt; color: #00000
 0;"><strong>To&nbsp;Register:<br /><a href="mini-camps">CLICK HERE</a></str
 ong></span></h3><h3 style="text-align: justify;"><span style="color: #00000
 0;"><strong>&nbsp;</strong><strong>&nbsp;</strong></span></h3><h3><span sty
 le="color: #000000;"><b><strong>THURSDAY, APRIL 2</strong><sup>nd</sup></b>
 </span><br /><span style="color: #000000;"><strong>DUCK DREAMS!</strong></s
 pan><br /><span style="color: #000000;"><strong>9AM-12PM<br /> Project 1: 1
 1x14 inch acrylic canvas painting<br /> Project 2: Option to create their o
 wn holiday Slime OR CLAY H<span style="color: #000000;">and-building</span>
 </strong></span></h3><h3><span style="color: #000000;">Camp Description: Br
 anch out for some whimsical fun creating a duck resting under a magical tre
 e of colors, on an 11x14 inch canvas, inspired by Gustav Klimt! Campers wil
 l continue the morning curling up with coils, hand-building a clay coaster 
 OR have the option to create their own Slime!</span></h3><p><span style="co
 lor: #000000;"><strong> Create two projects in each camp!<br /> All materia
 ls included<br /> 9-12, 1-4, OR FULL DAY</strong></span></p><p><span style=
 "color: #000000;"><strong>Dress for a mess and bring a nut-free snack!<br /
 > Staying all day?&nbsp;<br /> Bring lunch and create four projects!<br /> 
 &nbsp;<br /> Space is limited<br /> Register today at artinthepod.com&nbsp;
 <br /> or call 215-355-9278<br /> Ages 6-12<br /> Cost: 66.00</strong></spa
 n></p><p>&nbsp;</p>
DTSTAMP:20260421T173628
DTSTART;TZID=America/New_York:20260402T090000
DTEND;TZID=America/New_York:20260402T120000
SEQUENCE:0
TRANSP:OPAQUE
END:VEVENT
END:VCALENDAR