BEGIN:VCALENDAR
VERSION:2.0
PRODID:-//jEvents 2.0 for Joomla//EN
CALSCALE:GREGORIAN
METHOD:PUBLISH
BEGIN:VTIMEZONE
TZID:America/New_York
BEGIN:STANDARD
DTSTART:20251102T010000
RDATE:20260308T030000
TZOFFSETFROM:-0400
TZOFFSETTO:-0500
TZNAME:America/New_York EST
END:STANDARD
BEGIN:STANDARD
DTSTART:20261101T010000
RDATE:20270314T030000
TZOFFSETFROM:-0400
TZOFFSETTO:-0500
TZNAME:America/New_York EST
END:STANDARD
BEGIN:STANDARD
DTSTART:20271107T010000
RDATE:20280312T030000
TZOFFSETFROM:-0400
TZOFFSETTO:-0500
TZNAME:America/New_York EST
END:STANDARD
BEGIN:STANDARD
DTSTART:20281105T010000
RDATE:20290311T030000
TZOFFSETFROM:-0400
TZOFFSETTO:-0500
TZNAME:America/New_York EST
END:STANDARD
BEGIN:STANDARD
DTSTART:20291104T010000
RDATE:20300310T030000
TZOFFSETFROM:-0400
TZOFFSETTO:-0500
TZNAME:America/New_York EST
END:STANDARD
BEGIN:STANDARD
DTSTART:20301103T010000
RDATE:20310309T030000
TZOFFSETFROM:-0400
TZOFFSETTO:-0500
TZNAME:America/New_York EST
END:STANDARD
BEGIN:STANDARD
DTSTART:20311102T010000
RDATE:20320314T030000
TZOFFSETFROM:-0400
TZOFFSETTO:-0500
TZNAME:America/New_York EST
END:STANDARD
BEGIN:DAYLIGHT
DTSTART:20250402T090000
RDATE:20251102T010000
TZOFFSETFROM:-0500
TZOFFSETTO:-0400
TZNAME:America/New_York EDT
END:DAYLIGHT
BEGIN:DAYLIGHT
DTSTART:20260308T030000
RDATE:20261101T010000
TZOFFSETFROM:-0500
TZOFFSETTO:-0400
TZNAME:America/New_York EDT
END:DAYLIGHT
BEGIN:DAYLIGHT
DTSTART:20270314T030000
RDATE:20271107T010000
TZOFFSETFROM:-0500
TZOFFSETTO:-0400
TZNAME:America/New_York EDT
END:DAYLIGHT
BEGIN:DAYLIGHT
DTSTART:20280312T030000
RDATE:20281105T010000
TZOFFSETFROM:-0500
TZOFFSETTO:-0400
TZNAME:America/New_York EDT
END:DAYLIGHT
BEGIN:DAYLIGHT
DTSTART:20290311T030000
RDATE:20291104T010000
TZOFFSETFROM:-0500
TZOFFSETTO:-0400
TZNAME:America/New_York EDT
END:DAYLIGHT
BEGIN:DAYLIGHT
DTSTART:20300310T030000
RDATE:20301103T010000
TZOFFSETFROM:-0500
TZOFFSETTO:-0400
TZNAME:America/New_York EDT
END:DAYLIGHT
BEGIN:DAYLIGHT
DTSTART:20310309T030000
RDATE:20311102T010000
TZOFFSETFROM:-0500
TZOFFSETTO:-0400
TZNAME:America/New_York EDT
END:DAYLIGHT
END:VTIMEZONE
BEGIN:VEVENT
UID:d48d236ca4f7fb592438b0a5cc19bf98
CATEGORIES:Art-Camps
CREATED:20260303T202613
SUMMARY:QUACKING UP! Art Camp
LOCATION:Art In The Pod
DESCRIPTION:To Register:\nCLICK HERE (mini-camps)  FRIDAY, APRIL 3rd\nQUACKING UP!\n9AM
 -12PM\n Project 1: 11x14 inch acrylic canvas painting\n Project 2: Option t
 o create their own holiday Slime OR Colored pencils and sharpie markersDrif
 t into the studio to paint this funny dream-like landscape of floating duck
 s, on an 11x14 inch canvas, inspired by Rene Magritte! Kids will explore wi
 th perspective, drawing a sitting duck inside a room using colored pencils 
 and sharpie markers, OR have the option to create their own Slime! Create t
 wo projects in each camp!\n All materials included\n 9-12, 1-4, OR FULL DAY
 \nDress for a mess and bring a nut-free snack!\n Staying all day? \n Bring 
 lunch and create four projects!\n  \n Space is limited\n Register today at 
 artinthepod.com \n or call 215-355-9278\n Ages 6-12\n Cost: 66.00\n
X-ALT-DESC;FMTTYPE=text/html:<h3 style="text-align: center;"><span style="font-size: 36pt; color: #00000
 0;"><strong>To&nbsp;Register:<br /><a href="mini-camps">CLICK HERE</a></str
 ong></span></h3><h3 style="text-align: justify;"><span style="color: #00000
 0;"><strong>&nbsp;</strong><strong>&nbsp;</strong></span></h3><h3><span sty
 le="color: #000000;"><b><strong>FRIDAY, APRIL 3</strong><sup>rd</sup></b></
 span><br /><span style="color: #000000;"><strong>QUACKING UP!</strong></spa
 n><br /><span style="color: #000000;"><strong>9AM-12PM<br /> Project 1: 11x
 14 inch acrylic canvas painting<br /> Project 2: Option to create their own
  holiday Slime OR Colored pencils and sharpie markers</strong></span></h3><
 h3><span style="color: #000000;">Drift into the studio to paint this funny 
 dream-like landscape of floating ducks, on an 11x14 inch canvas,&nbsp;inspi
 red by Rene Magritte! Kids will explore with perspective, drawing a sitting
  duck inside a room using colored pencils and sharpie markers, OR have the 
 option to create their own Slime!</span></h3><p><span style="color: #000000
 ;"><strong> Create two projects in each camp!<br /> All materials included<
 br /> 9-12, 1-4, OR FULL DAY</strong></span></p><p><span style="color: #000
 000;"><strong>Dress for a mess and bring a nut-free snack!<br /> Staying al
 l day?&nbsp;<br /> Bring lunch and create four projects!<br /> &nbsp;<br />
  Space is limited<br /> Register today at artinthepod.com&nbsp;<br /> or ca
 ll 215-355-9278<br /> Ages 6-12<br /> Cost: 66.00</strong></span></p>
DTSTAMP:20260421T172840
DTSTART;TZID=America/New_York:20260403T090000
DTEND;TZID=America/New_York:20260403T120000
SEQUENCE:0
TRANSP:OPAQUE
END:VEVENT
END:VCALENDAR