BEGIN:VCALENDAR
VERSION:2.0
PRODID:-//jEvents 2.0 for Joomla//EN
CALSCALE:GREGORIAN
METHOD:PUBLISH
BEGIN:VTIMEZONE
TZID:America/New_York
BEGIN:STANDARD
DTSTART:20251102T010000
RDATE:20260308T030000
TZOFFSETFROM:-0400
TZOFFSETTO:-0500
TZNAME:America/New_York EST
END:STANDARD
BEGIN:STANDARD
DTSTART:20261101T010000
RDATE:20270314T030000
TZOFFSETFROM:-0400
TZOFFSETTO:-0500
TZNAME:America/New_York EST
END:STANDARD
BEGIN:STANDARD
DTSTART:20271107T010000
RDATE:20280312T030000
TZOFFSETFROM:-0400
TZOFFSETTO:-0500
TZNAME:America/New_York EST
END:STANDARD
BEGIN:STANDARD
DTSTART:20281105T010000
RDATE:20290311T030000
TZOFFSETFROM:-0400
TZOFFSETTO:-0500
TZNAME:America/New_York EST
END:STANDARD
BEGIN:STANDARD
DTSTART:20291104T010000
RDATE:20300310T030000
TZOFFSETFROM:-0400
TZOFFSETTO:-0500
TZNAME:America/New_York EST
END:STANDARD
BEGIN:STANDARD
DTSTART:20301103T010000
RDATE:20310309T030000
TZOFFSETFROM:-0400
TZOFFSETTO:-0500
TZNAME:America/New_York EST
END:STANDARD
BEGIN:STANDARD
DTSTART:20311102T010000
RDATE:20320314T030000
TZOFFSETFROM:-0400
TZOFFSETTO:-0500
TZNAME:America/New_York EST
END:STANDARD
BEGIN:DAYLIGHT
DTSTART:20250402T130000
RDATE:20251102T010000
TZOFFSETFROM:-0500
TZOFFSETTO:-0400
TZNAME:America/New_York EDT
END:DAYLIGHT
BEGIN:DAYLIGHT
DTSTART:20260308T030000
RDATE:20261101T010000
TZOFFSETFROM:-0500
TZOFFSETTO:-0400
TZNAME:America/New_York EDT
END:DAYLIGHT
BEGIN:DAYLIGHT
DTSTART:20270314T030000
RDATE:20271107T010000
TZOFFSETFROM:-0500
TZOFFSETTO:-0400
TZNAME:America/New_York EDT
END:DAYLIGHT
BEGIN:DAYLIGHT
DTSTART:20280312T030000
RDATE:20281105T010000
TZOFFSETFROM:-0500
TZOFFSETTO:-0400
TZNAME:America/New_York EDT
END:DAYLIGHT
BEGIN:DAYLIGHT
DTSTART:20290311T030000
RDATE:20291104T010000
TZOFFSETFROM:-0500
TZOFFSETTO:-0400
TZNAME:America/New_York EDT
END:DAYLIGHT
BEGIN:DAYLIGHT
DTSTART:20300310T030000
RDATE:20301103T010000
TZOFFSETFROM:-0500
TZOFFSETTO:-0400
TZNAME:America/New_York EDT
END:DAYLIGHT
BEGIN:DAYLIGHT
DTSTART:20310309T030000
RDATE:20311102T010000
TZOFFSETFROM:-0500
TZOFFSETTO:-0400
TZNAME:America/New_York EDT
END:DAYLIGHT
END:VTIMEZONE
BEGIN:VEVENT
UID:4fec30efb2619d371898d32c885b314c
CATEGORIES:Art-Camps
CREATED:20260303T203115
SUMMARY:SPLISH SPLASH! Art Camp
LOCATION:Art In The Pod
DESCRIPTION:To Register:\nCLICK HERE (mini-camps)  FRIDAY, APRIL 3rd\nSPLISH SPLASH!\n1
 -4PM\n Project 1: 11x14 inch acrylic canvas painting\n Project 2: Option to
  create their own holiday Slime OR Alcohol inksLook at what landed in the b
 irdbath! Dip your brush in fun painting this bath-time bird and rubber duck
 , on an 11x14 inch canvas, inspired by James Audubon! Campers will continue
  the afternoon exploring with colors using alcohol inks, OR have the option
  to create their own Slime! Create two projects in each camp!\n All materia
 ls included\n 9-12, 1-4, OR FULL DAY\nDress for a mess and bring a nut-free
  snack!\n Staying all day? \n Bring lunch and create four projects!\n  \n S
 pace is limited\n Register today at artinthepod.com \n or call 215-355-9278
 \n Ages 6-12\n Cost: 66.00\n
X-ALT-DESC;FMTTYPE=text/html:<h3 style="text-align: center;"><span style="font-size: 36pt; color: #00000
 0;"><strong>To&nbsp;Register:<br /><a href="mini-camps" style="color: #0000
 00;">CLICK HERE</a></strong></span></h3><h3 style="text-align: justify;"><s
 pan style="color: #000000;"><strong>&nbsp;</strong><strong>&nbsp;</strong><
 /span></h3><h3><span style="color: #000000;"><b><strong>FRIDAY, APRIL 3</st
 rong><sup>rd</sup></b></span><br /><span style="color: #000000;"><strong>SP
 LISH SPLASH!</strong></span><br /><span style="color: #000000;"><strong>1-4
 PM<br /> Project 1: 11x14 inch acrylic canvas painting<br /> Project 2: Opt
 ion to create their own holiday Slime OR A</strong>lcohol inks</span></h3><
 h3><span style="color: #000000;">Look at what landed in the birdbath! Dip y
 our brush in fun painting this bath-time bird and rubber duck, on an 11x14 
 inch canvas, inspired by James Audubon! Campers will continue the afternoon
  exploring with colors using alcohol inks, OR have the option to create the
 ir own Slime!</span></h3><p><span style="color: #000000;"><strong> Create t
 wo projects in each camp!<br /> All materials included<br /> 9-12, 1-4, OR 
 FULL DAY</strong></span></p><p><span style="color: #000000;"><strong>Dress 
 for a mess and bring a nut-free snack!<br /> Staying all day?&nbsp;<br /> B
 ring lunch and create four projects!<br /> &nbsp;<br /> Space is limited<br
  /> Register today at artinthepod.com&nbsp;<br /> or call 215-355-9278<br /
 > Ages 6-12<br /> Cost: 66.00</strong></span></p>
DTSTAMP:20260421T173053
DTSTART;TZID=America/New_York:20260403T130000
DTEND;TZID=America/New_York:20260403T160000
SEQUENCE:0
TRANSP:OPAQUE
END:VEVENT
END:VCALENDAR