BEGIN:VCALENDAR
VERSION:2.0
PRODID:-//jEvents 2.0 for Joomla//EN
CALSCALE:GREGORIAN
METHOD:PUBLISH
BEGIN:VTIMEZONE
TZID:America/New_York
BEGIN:STANDARD
DTSTART:20181104T010000
RDATE:20190310T030000
TZOFFSETFROM:-0400
TZOFFSETTO:-0500
TZNAME:America/New_York EST
END:STANDARD
BEGIN:STANDARD
DTSTART:20191103T010000
RDATE:20200308T030000
TZOFFSETFROM:-0400
TZOFFSETTO:-0500
TZNAME:America/New_York EST
END:STANDARD
BEGIN:STANDARD
DTSTART:20201101T010000
RDATE:20210314T030000
TZOFFSETFROM:-0400
TZOFFSETTO:-0500
TZNAME:America/New_York EST
END:STANDARD
BEGIN:STANDARD
DTSTART:20211107T010000
RDATE:20220313T030000
TZOFFSETFROM:-0400
TZOFFSETTO:-0500
TZNAME:America/New_York EST
END:STANDARD
BEGIN:STANDARD
DTSTART:20221106T010000
RDATE:20230312T030000
TZOFFSETFROM:-0400
TZOFFSETTO:-0500
TZNAME:America/New_York EST
END:STANDARD
BEGIN:STANDARD
DTSTART:20231105T010000
RDATE:20240310T030000
TZOFFSETFROM:-0400
TZOFFSETTO:-0500
TZNAME:America/New_York EST
END:STANDARD
BEGIN:STANDARD
DTSTART:20241103T010000
RDATE:20250309T030000
TZOFFSETFROM:-0400
TZOFFSETTO:-0500
TZNAME:America/New_York EST
END:STANDARD
BEGIN:STANDARD
DTSTART:20251102T010000
RDATE:20260308T030000
TZOFFSETFROM:-0400
TZOFFSETTO:-0500
TZNAME:America/New_York EST
END:STANDARD
BEGIN:STANDARD
DTSTART:20261101T010000
RDATE:20270314T030000
TZOFFSETFROM:-0400
TZOFFSETTO:-0500
TZNAME:America/New_York EST
END:STANDARD
BEGIN:STANDARD
DTSTART:20271107T010000
RDATE:20280312T030000
TZOFFSETFROM:-0400
TZOFFSETTO:-0500
TZNAME:America/New_York EST
END:STANDARD
BEGIN:STANDARD
DTSTART:20281105T010000
RDATE:20290311T030000
TZOFFSETFROM:-0400
TZOFFSETTO:-0500
TZNAME:America/New_York EST
END:STANDARD
BEGIN:STANDARD
DTSTART:20291104T010000
RDATE:20300310T030000
TZOFFSETFROM:-0400
TZOFFSETTO:-0500
TZNAME:America/New_York EST
END:STANDARD
BEGIN:STANDARD
DTSTART:20301103T010000
RDATE:20310309T030000
TZOFFSETFROM:-0400
TZOFFSETTO:-0500
TZNAME:America/New_York EST
END:STANDARD
BEGIN:STANDARD
DTSTART:20311102T010000
RDATE:20320314T030000
TZOFFSETFROM:-0400
TZOFFSETTO:-0500
TZNAME:America/New_York EST
END:STANDARD
BEGIN:DAYLIGHT
DTSTART:20180616T090000
RDATE:20181104T010000
TZOFFSETFROM:-0500
TZOFFSETTO:-0400
TZNAME:America/New_York EDT
END:DAYLIGHT
BEGIN:DAYLIGHT
DTSTART:20190310T030000
RDATE:20191103T010000
TZOFFSETFROM:-0500
TZOFFSETTO:-0400
TZNAME:America/New_York EDT
END:DAYLIGHT
BEGIN:DAYLIGHT
DTSTART:20200308T030000
RDATE:20201101T010000
TZOFFSETFROM:-0500
TZOFFSETTO:-0400
TZNAME:America/New_York EDT
END:DAYLIGHT
BEGIN:DAYLIGHT
DTSTART:20210314T030000
RDATE:20211107T010000
TZOFFSETFROM:-0500
TZOFFSETTO:-0400
TZNAME:America/New_York EDT
END:DAYLIGHT
BEGIN:DAYLIGHT
DTSTART:20220313T030000
RDATE:20221106T010000
TZOFFSETFROM:-0500
TZOFFSETTO:-0400
TZNAME:America/New_York EDT
END:DAYLIGHT
BEGIN:DAYLIGHT
DTSTART:20230312T030000
RDATE:20231105T010000
TZOFFSETFROM:-0500
TZOFFSETTO:-0400
TZNAME:America/New_York EDT
END:DAYLIGHT
BEGIN:DAYLIGHT
DTSTART:20240310T030000
RDATE:20241103T010000
TZOFFSETFROM:-0500
TZOFFSETTO:-0400
TZNAME:America/New_York EDT
END:DAYLIGHT
BEGIN:DAYLIGHT
DTSTART:20250309T030000
RDATE:20251102T010000
TZOFFSETFROM:-0500
TZOFFSETTO:-0400
TZNAME:America/New_York EDT
END:DAYLIGHT
BEGIN:DAYLIGHT
DTSTART:20260308T030000
RDATE:20261101T010000
TZOFFSETFROM:-0500
TZOFFSETTO:-0400
TZNAME:America/New_York EDT
END:DAYLIGHT
BEGIN:DAYLIGHT
DTSTART:20270314T030000
RDATE:20271107T010000
TZOFFSETFROM:-0500
TZOFFSETTO:-0400
TZNAME:America/New_York EDT
END:DAYLIGHT
BEGIN:DAYLIGHT
DTSTART:20280312T030000
RDATE:20281105T010000
TZOFFSETFROM:-0500
TZOFFSETTO:-0400
TZNAME:America/New_York EDT
END:DAYLIGHT
BEGIN:DAYLIGHT
DTSTART:20290311T030000
RDATE:20291104T010000
TZOFFSETFROM:-0500
TZOFFSETTO:-0400
TZNAME:America/New_York EDT
END:DAYLIGHT
BEGIN:DAYLIGHT
DTSTART:20300310T030000
RDATE:20301103T010000
TZOFFSETFROM:-0500
TZOFFSETTO:-0400
TZNAME:America/New_York EDT
END:DAYLIGHT
BEGIN:DAYLIGHT
DTSTART:20310309T030000
RDATE:20311102T010000
TZOFFSETFROM:-0500
TZOFFSETTO:-0400
TZNAME:America/New_York EDT
END:DAYLIGHT
END:VTIMEZONE
BEGIN:VEVENT
UID:7674ae9ea9af11b69f5c1299cbbd8bbf
CATEGORIES:Art-Camps
CREATED:20190529T192758
SUMMARY:TOS: Run Wild With Pierre-Auguste Renoir! 9AM
LOCATION:Art In The Pod
DESCRIPTION:Run Wild With Pierre-Auguste Renoir!\nCampers will begin with a canvas pain
 ting of simple flower shapes and colors to dot the fields of this impressio
 nistic art.\nInspired by Pierre-Auguste RenoirFor the second project camper
 s will create a hand built clay flower!\n (The clay project will be fired i
 n our kiln and we will call you when it is ready to be glazed).\n\n Taste o
 f Summer Mini Art CampsJune 17th-21st  Summer is here!\nDo the kids have so
 mething to do before summer camps begin?\nJoin us for a half or whole day o
 f fun art making at Art in the Pod!\nRegister today for our summer themed a
 nd famous artist inspired projects!\nCampers will have fun creating two pro
 jects in each session!\nAges 6-12\n9:00am – 12:00pm, 1:00 - 4:00pm or Full 
 Day.\n$42.00 per session\nSpace is limited.\nRegister online at artinthepod
 .com or call 215-355-9art.\nDress for a mess and bring a nut free snack.\n
X-ALT-DESC;FMTTYPE=text/html:<h3><strong>Run Wild With Pierre-Auguste Renoir!<br /></strong></h3><h3>Cam
 pers will begin with a canvas painting of simple flower shapes and colors t
 o dot the fields of this impressionistic art.<br />Inspired by Pierre-Augus
 te Renoir</h3><h3>For the second project campers will create a hand built c
 lay flower!<br /> (The clay project will be fired in our kiln and we will c
 all you when it is ready to be glazed).<br /><br /></h3><h2><strong>&nbsp;<
 /strong></h2><h2 style="text-align: center;"><strong>Taste of Summer Mini A
 rt Camps</strong></h2><h2 style="text-align: center;"><strong>June 17<sup>t
 h</sup>-21<sup>st</sup>&nbsp; </strong></h2><p style="text-align: center;">
 Summer is here!</p><p style="text-align: center;">Do the kids have somethin
 g to do before summer camps begin?<br />Join us for a half or whole day of 
 fun art making at Art in the Pod!<br />Register today for our summer themed
  and famous artist inspired projects!</p><p style="text-align: center;">Cam
 pers will have fun creating two projects in each session!</p><p style="text
 -align: center;">Ages 6-12</p><p style="text-align: center;">9:00am – 12:00
 pm, 1:00 - 4:00pm or Full Day.</p><p style="text-align: center;">$42.00 per
  session</p><p style="text-align: center;">Space is limited.</p><p style="t
 ext-align: center;">Register online at artinthepod.com or call 215-355-9art
 .</p><p style="text-align: center;">Dress for a mess and bring a nut free s
 nack.</p>
DTSTAMP:20260424T224222
DTSTART;TZID=America/New_York:20190617T090000
DTEND;TZID=America/New_York:20190617T120000
SEQUENCE:0
TRANSP:OPAQUE
END:VEVENT
END:VCALENDAR