BEGIN:VCALENDAR
VERSION:2.0
PRODID:-//jEvents 2.0 for Joomla//EN
CALSCALE:GREGORIAN
METHOD:PUBLISH
BEGIN:VTIMEZONE
TZID:America/New_York
BEGIN:STANDARD
DTSTART:20181104T010000
RDATE:20190310T030000
TZOFFSETFROM:-0400
TZOFFSETTO:-0500
TZNAME:America/New_York EST
END:STANDARD
BEGIN:STANDARD
DTSTART:20191103T010000
RDATE:20200308T030000
TZOFFSETFROM:-0400
TZOFFSETTO:-0500
TZNAME:America/New_York EST
END:STANDARD
BEGIN:STANDARD
DTSTART:20201101T010000
RDATE:20210314T030000
TZOFFSETFROM:-0400
TZOFFSETTO:-0500
TZNAME:America/New_York EST
END:STANDARD
BEGIN:STANDARD
DTSTART:20211107T010000
RDATE:20220313T030000
TZOFFSETFROM:-0400
TZOFFSETTO:-0500
TZNAME:America/New_York EST
END:STANDARD
BEGIN:STANDARD
DTSTART:20221106T010000
RDATE:20230312T030000
TZOFFSETFROM:-0400
TZOFFSETTO:-0500
TZNAME:America/New_York EST
END:STANDARD
BEGIN:STANDARD
DTSTART:20231105T010000
RDATE:20240310T030000
TZOFFSETFROM:-0400
TZOFFSETTO:-0500
TZNAME:America/New_York EST
END:STANDARD
BEGIN:STANDARD
DTSTART:20241103T010000
RDATE:20250309T030000
TZOFFSETFROM:-0400
TZOFFSETTO:-0500
TZNAME:America/New_York EST
END:STANDARD
BEGIN:STANDARD
DTSTART:20251102T010000
RDATE:20260308T030000
TZOFFSETFROM:-0400
TZOFFSETTO:-0500
TZNAME:America/New_York EST
END:STANDARD
BEGIN:STANDARD
DTSTART:20261101T010000
RDATE:20270314T030000
TZOFFSETFROM:-0400
TZOFFSETTO:-0500
TZNAME:America/New_York EST
END:STANDARD
BEGIN:STANDARD
DTSTART:20271107T010000
RDATE:20280312T030000
TZOFFSETFROM:-0400
TZOFFSETTO:-0500
TZNAME:America/New_York EST
END:STANDARD
BEGIN:STANDARD
DTSTART:20281105T010000
RDATE:20290311T030000
TZOFFSETFROM:-0400
TZOFFSETTO:-0500
TZNAME:America/New_York EST
END:STANDARD
BEGIN:STANDARD
DTSTART:20291104T010000
RDATE:20300310T030000
TZOFFSETFROM:-0400
TZOFFSETTO:-0500
TZNAME:America/New_York EST
END:STANDARD
BEGIN:STANDARD
DTSTART:20301103T010000
RDATE:20310309T030000
TZOFFSETFROM:-0400
TZOFFSETTO:-0500
TZNAME:America/New_York EST
END:STANDARD
BEGIN:STANDARD
DTSTART:20311102T010000
RDATE:20320314T030000
TZOFFSETFROM:-0400
TZOFFSETTO:-0500
TZNAME:America/New_York EST
END:STANDARD
BEGIN:DAYLIGHT
DTSTART:20180617T130000
RDATE:20181104T010000
TZOFFSETFROM:-0500
TZOFFSETTO:-0400
TZNAME:America/New_York EDT
END:DAYLIGHT
BEGIN:DAYLIGHT
DTSTART:20190310T030000
RDATE:20191103T010000
TZOFFSETFROM:-0500
TZOFFSETTO:-0400
TZNAME:America/New_York EDT
END:DAYLIGHT
BEGIN:DAYLIGHT
DTSTART:20200308T030000
RDATE:20201101T010000
TZOFFSETFROM:-0500
TZOFFSETTO:-0400
TZNAME:America/New_York EDT
END:DAYLIGHT
BEGIN:DAYLIGHT
DTSTART:20210314T030000
RDATE:20211107T010000
TZOFFSETFROM:-0500
TZOFFSETTO:-0400
TZNAME:America/New_York EDT
END:DAYLIGHT
BEGIN:DAYLIGHT
DTSTART:20220313T030000
RDATE:20221106T010000
TZOFFSETFROM:-0500
TZOFFSETTO:-0400
TZNAME:America/New_York EDT
END:DAYLIGHT
BEGIN:DAYLIGHT
DTSTART:20230312T030000
RDATE:20231105T010000
TZOFFSETFROM:-0500
TZOFFSETTO:-0400
TZNAME:America/New_York EDT
END:DAYLIGHT
BEGIN:DAYLIGHT
DTSTART:20240310T030000
RDATE:20241103T010000
TZOFFSETFROM:-0500
TZOFFSETTO:-0400
TZNAME:America/New_York EDT
END:DAYLIGHT
BEGIN:DAYLIGHT
DTSTART:20250309T030000
RDATE:20251102T010000
TZOFFSETFROM:-0500
TZOFFSETTO:-0400
TZNAME:America/New_York EDT
END:DAYLIGHT
BEGIN:DAYLIGHT
DTSTART:20260308T030000
RDATE:20261101T010000
TZOFFSETFROM:-0500
TZOFFSETTO:-0400
TZNAME:America/New_York EDT
END:DAYLIGHT
BEGIN:DAYLIGHT
DTSTART:20270314T030000
RDATE:20271107T010000
TZOFFSETFROM:-0500
TZOFFSETTO:-0400
TZNAME:America/New_York EDT
END:DAYLIGHT
BEGIN:DAYLIGHT
DTSTART:20280312T030000
RDATE:20281105T010000
TZOFFSETFROM:-0500
TZOFFSETTO:-0400
TZNAME:America/New_York EDT
END:DAYLIGHT
BEGIN:DAYLIGHT
DTSTART:20290311T030000
RDATE:20291104T010000
TZOFFSETFROM:-0500
TZOFFSETTO:-0400
TZNAME:America/New_York EDT
END:DAYLIGHT
BEGIN:DAYLIGHT
DTSTART:20300310T030000
RDATE:20301103T010000
TZOFFSETFROM:-0500
TZOFFSETTO:-0400
TZNAME:America/New_York EDT
END:DAYLIGHT
BEGIN:DAYLIGHT
DTSTART:20310309T030000
RDATE:20311102T010000
TZOFFSETFROM:-0500
TZOFFSETTO:-0400
TZNAME:America/New_York EDT
END:DAYLIGHT
END:VTIMEZONE
BEGIN:VEVENT
UID:4915c38241673f8d6ccf6c093a66cb50
CATEGORIES:Art-Camps
CREATED:20190529T201306
SUMMARY:TOS: Under The Sea Paul Klee! 1PM
LOCATION:Art In The Pod
DESCRIPTION:Under The Sea Paul Klee!11”X14” Acrylic Canvas Painting and a Glass Fusion 
 Panel ProjectInspired by Paul KleeMove through the sea creating this magica
 l seahorse painting and learning painting techniques with a pallet knife.\n
 For the second project, campers will use glass enamels and frit to create a
 n underwater scene on a glass panel!(This project will be fired in our kiln
  and we will call you when it is ready to be picked up.) Taste of Summer Mi
 ni Art CampsJune 17th-21st  Summer is here!\nDo the kids have something to 
 do before summer camps begin?\nJoin us for a half or whole day of fun art m
 aking at Art in the Pod!\nRegister today for our summer themed and famous a
 rtist inspired projects!\nCampers will have fun creating two projects in ea
 ch session!\nAges 6-12\n9:00am – 12:00pm, 1:00 - 4:00pm or Full Day.\n$42.0
 0 per session\nSpace is limited.\nRegister online at artinthepod.com or cal
 l 215-355-9art.\nDress for a mess and bring a nut free snack.\n \n
X-ALT-DESC;FMTTYPE=text/html:<h3><strong>Under The Sea Paul Klee!</strong></h3><h3>11”X14” Acrylic Canva
 s Painting and a Glass Fusion Panel Project</h3><h3>Inspired by Paul Klee</
 h3><h3>Move through the sea creating this magical seahorse painting and lea
 rning painting techniques with a pallet knife.<br />For the second project,
  campers will use glass enamels and frit to create an underwater scene on a
  glass panel!</h3><h3>(This project will be fired in our kiln and we will c
 all you when it is ready to be picked up.)</h3><h2><strong>&nbsp;</strong><
 /h2><h2 style="text-align: center;"><strong>Taste of Summer Mini Art Camps<
 /strong></h2><h2 style="text-align: center;"><strong>June 17<sup>th</sup>-2
 1<sup>st</sup>&nbsp; </strong></h2><p style="text-align: center;">Summer is
  here!</p><p style="text-align: center;">Do the kids have something to do b
 efore summer camps begin?<br />Join us for a half or whole day of fun art m
 aking at Art in the Pod!<br />Register today for our summer themed and famo
 us artist inspired projects!</p><p style="text-align: center;">Campers will
  have fun creating two projects in each session!</p><p style="text-align: c
 enter;">Ages 6-12</p><p style="text-align: center;">9:00am – 12:00pm, 1:00 
 - 4:00pm or Full Day.</p><p style="text-align: center;">$42.00 per session<
 /p><p style="text-align: center;">Space is limited.</p><p style="text-align
 : center;">Register online at artinthepod.com or call 215-355-9art.</p><p s
 tyle="text-align: center;">Dress for a mess and bring a nut free snack.</p>
 <p><strong>&nbsp;</strong></p>
DTSTAMP:20260424T224320
DTSTART;TZID=America/New_York:20190618T130000
DTEND;TZID=America/New_York:20190618T160000
SEQUENCE:0
TRANSP:OPAQUE
END:VEVENT
END:VCALENDAR