BEGIN:VCALENDAR
VERSION:2.0
PRODID:-//jEvents 2.0 for Joomla//EN
CALSCALE:GREGORIAN
METHOD:PUBLISH
BEGIN:VTIMEZONE
TZID:America/New_York
BEGIN:STANDARD
DTSTART:20181104T010000
RDATE:20190310T030000
TZOFFSETFROM:-0400
TZOFFSETTO:-0500
TZNAME:America/New_York EST
END:STANDARD
BEGIN:STANDARD
DTSTART:20191103T010000
RDATE:20200308T030000
TZOFFSETFROM:-0400
TZOFFSETTO:-0500
TZNAME:America/New_York EST
END:STANDARD
BEGIN:STANDARD
DTSTART:20201101T010000
RDATE:20210314T030000
TZOFFSETFROM:-0400
TZOFFSETTO:-0500
TZNAME:America/New_York EST
END:STANDARD
BEGIN:STANDARD
DTSTART:20211107T010000
RDATE:20220313T030000
TZOFFSETFROM:-0400
TZOFFSETTO:-0500
TZNAME:America/New_York EST
END:STANDARD
BEGIN:STANDARD
DTSTART:20221106T010000
RDATE:20230312T030000
TZOFFSETFROM:-0400
TZOFFSETTO:-0500
TZNAME:America/New_York EST
END:STANDARD
BEGIN:STANDARD
DTSTART:20231105T010000
RDATE:20240310T030000
TZOFFSETFROM:-0400
TZOFFSETTO:-0500
TZNAME:America/New_York EST
END:STANDARD
BEGIN:STANDARD
DTSTART:20241103T010000
RDATE:20250309T030000
TZOFFSETFROM:-0400
TZOFFSETTO:-0500
TZNAME:America/New_York EST
END:STANDARD
BEGIN:STANDARD
DTSTART:20251102T010000
RDATE:20260308T030000
TZOFFSETFROM:-0400
TZOFFSETTO:-0500
TZNAME:America/New_York EST
END:STANDARD
BEGIN:STANDARD
DTSTART:20261101T010000
RDATE:20270314T030000
TZOFFSETFROM:-0400
TZOFFSETTO:-0500
TZNAME:America/New_York EST
END:STANDARD
BEGIN:STANDARD
DTSTART:20271107T010000
RDATE:20280312T030000
TZOFFSETFROM:-0400
TZOFFSETTO:-0500
TZNAME:America/New_York EST
END:STANDARD
BEGIN:STANDARD
DTSTART:20281105T010000
RDATE:20290311T030000
TZOFFSETFROM:-0400
TZOFFSETTO:-0500
TZNAME:America/New_York EST
END:STANDARD
BEGIN:STANDARD
DTSTART:20291104T010000
RDATE:20300310T030000
TZOFFSETFROM:-0400
TZOFFSETTO:-0500
TZNAME:America/New_York EST
END:STANDARD
BEGIN:STANDARD
DTSTART:20301103T010000
RDATE:20310309T030000
TZOFFSETFROM:-0400
TZOFFSETTO:-0500
TZNAME:America/New_York EST
END:STANDARD
BEGIN:STANDARD
DTSTART:20311102T010000
RDATE:20320314T030000
TZOFFSETFROM:-0400
TZOFFSETTO:-0500
TZNAME:America/New_York EST
END:STANDARD
BEGIN:DAYLIGHT
DTSTART:20180618T090000
RDATE:20181104T010000
TZOFFSETFROM:-0500
TZOFFSETTO:-0400
TZNAME:America/New_York EDT
END:DAYLIGHT
BEGIN:DAYLIGHT
DTSTART:20190310T030000
RDATE:20191103T010000
TZOFFSETFROM:-0500
TZOFFSETTO:-0400
TZNAME:America/New_York EDT
END:DAYLIGHT
BEGIN:DAYLIGHT
DTSTART:20200308T030000
RDATE:20201101T010000
TZOFFSETFROM:-0500
TZOFFSETTO:-0400
TZNAME:America/New_York EDT
END:DAYLIGHT
BEGIN:DAYLIGHT
DTSTART:20210314T030000
RDATE:20211107T010000
TZOFFSETFROM:-0500
TZOFFSETTO:-0400
TZNAME:America/New_York EDT
END:DAYLIGHT
BEGIN:DAYLIGHT
DTSTART:20220313T030000
RDATE:20221106T010000
TZOFFSETFROM:-0500
TZOFFSETTO:-0400
TZNAME:America/New_York EDT
END:DAYLIGHT
BEGIN:DAYLIGHT
DTSTART:20230312T030000
RDATE:20231105T010000
TZOFFSETFROM:-0500
TZOFFSETTO:-0400
TZNAME:America/New_York EDT
END:DAYLIGHT
BEGIN:DAYLIGHT
DTSTART:20240310T030000
RDATE:20241103T010000
TZOFFSETFROM:-0500
TZOFFSETTO:-0400
TZNAME:America/New_York EDT
END:DAYLIGHT
BEGIN:DAYLIGHT
DTSTART:20250309T030000
RDATE:20251102T010000
TZOFFSETFROM:-0500
TZOFFSETTO:-0400
TZNAME:America/New_York EDT
END:DAYLIGHT
BEGIN:DAYLIGHT
DTSTART:20260308T030000
RDATE:20261101T010000
TZOFFSETFROM:-0500
TZOFFSETTO:-0400
TZNAME:America/New_York EDT
END:DAYLIGHT
BEGIN:DAYLIGHT
DTSTART:20270314T030000
RDATE:20271107T010000
TZOFFSETFROM:-0500
TZOFFSETTO:-0400
TZNAME:America/New_York EDT
END:DAYLIGHT
BEGIN:DAYLIGHT
DTSTART:20280312T030000
RDATE:20281105T010000
TZOFFSETFROM:-0500
TZOFFSETTO:-0400
TZNAME:America/New_York EDT
END:DAYLIGHT
BEGIN:DAYLIGHT
DTSTART:20290311T030000
RDATE:20291104T010000
TZOFFSETFROM:-0500
TZOFFSETTO:-0400
TZNAME:America/New_York EDT
END:DAYLIGHT
BEGIN:DAYLIGHT
DTSTART:20300310T030000
RDATE:20301103T010000
TZOFFSETFROM:-0500
TZOFFSETTO:-0400
TZNAME:America/New_York EDT
END:DAYLIGHT
BEGIN:DAYLIGHT
DTSTART:20310309T030000
RDATE:20311102T010000
TZOFFSETFROM:-0500
TZOFFSETTO:-0400
TZNAME:America/New_York EDT
END:DAYLIGHT
END:VTIMEZONE
BEGIN:VEVENT
UID:19fa6a9971fa2aa07a85cfc0787f67cd
CATEGORIES:Art-Camps
CREATED:20190529T202452
SUMMARY:TOS: Row Your Boat With Thomas Eakins! 9AM
LOCATION:Art In The Pod
DESCRIPTION:Row Your Boat With Thomas Eakins!11”X14” Acrylic Canvas Painting and a colo
 red pencil and sharpie marker drawing\nInspired by Thomas Eakins\nRow your 
 way down the river with this landscape painting inspired by Thomas Eakins, 
 followed by creating your favorite summer sport or activity using sharpie m
 arkers and colored pencils!\n\n\nTaste of Summer Mini Art CampsJune 17th-21
 st  Summer is here!\nDo the kids have something to do before summer camps b
 egin?\nJoin us for a half or whole day of fun art making at Art in the Pod!
 \nRegister today for our summer themed and famous artist inspired projects!
 \nCampers will have fun creating two projects in each session!\nAges 6-12\n
 9:00am – 12:00pm, 1:00 - 4:00pm or Full Day.\n$42.00 per session\nSpace is 
 limited.\nRegister online at artinthepod.com or call 215-355-9art.\nDress f
 or a mess and bring a nut free snack.\n
X-ALT-DESC;FMTTYPE=text/html:<h3><strong>Row Your Boat With Thomas Eakins!</strong></h3><p>11”X14” Acryl
 ic Canvas Painting and a colored pencil and sharpie marker drawing</p><p>In
 spired by Thomas Eakins</p><p>Row your way down the river with this landsca
 pe painting inspired by Thomas Eakins, followed by creating your favorite s
 ummer sport or activity using sharpie markers and colored pencils!</p><p></
 p><p></p><h2 style="text-align: center;"><strong>Taste of Summer Mini Art C
 amps</strong></h2><h2 style="text-align: center;"><strong>June 17<sup>th</s
 up>-21<sup>st</sup>&nbsp; </strong></h2><p style="text-align: center;">Summ
 er is here!</p><p style="text-align: center;">Do the kids have something to
  do before summer camps begin?<br />Join us for a half or whole day of fun 
 art making at Art in the Pod!<br />Register today for our summer themed and
  famous artist inspired projects!</p><p style="text-align: center;">Campers
  will have fun creating two projects in each session!</p><p style="text-ali
 gn: center;">Ages 6-12</p><p style="text-align: center;">9:00am – 12:00pm, 
 1:00 - 4:00pm or Full Day.</p><p style="text-align: center;">$42.00 per ses
 sion</p><p style="text-align: center;">Space is limited.</p><p style="text-
 align: center;">Register online at artinthepod.com or call 215-355-9art.</p
 ><p style="text-align: center;">Dress for a mess and bring a nut free snack
 .</p>
DTSTAMP:20260424T224323
DTSTART;TZID=America/New_York:20190619T090000
DTEND;TZID=America/New_York:20190619T120000
SEQUENCE:0
TRANSP:OPAQUE
END:VEVENT
END:VCALENDAR