BEGIN:VCALENDAR
VERSION:2.0
PRODID:-//jEvents 2.0 for Joomla//EN
CALSCALE:GREGORIAN
METHOD:PUBLISH
BEGIN:VTIMEZONE
TZID:America/New_York
BEGIN:STANDARD
DTSTART:20181104T010000
RDATE:20190310T030000
TZOFFSETFROM:-0400
TZOFFSETTO:-0500
TZNAME:America/New_York EST
END:STANDARD
BEGIN:STANDARD
DTSTART:20191103T010000
RDATE:20200308T030000
TZOFFSETFROM:-0400
TZOFFSETTO:-0500
TZNAME:America/New_York EST
END:STANDARD
BEGIN:STANDARD
DTSTART:20201101T010000
RDATE:20210314T030000
TZOFFSETFROM:-0400
TZOFFSETTO:-0500
TZNAME:America/New_York EST
END:STANDARD
BEGIN:STANDARD
DTSTART:20211107T010000
RDATE:20220313T030000
TZOFFSETFROM:-0400
TZOFFSETTO:-0500
TZNAME:America/New_York EST
END:STANDARD
BEGIN:STANDARD
DTSTART:20221106T010000
RDATE:20230312T030000
TZOFFSETFROM:-0400
TZOFFSETTO:-0500
TZNAME:America/New_York EST
END:STANDARD
BEGIN:STANDARD
DTSTART:20231105T010000
RDATE:20240310T030000
TZOFFSETFROM:-0400
TZOFFSETTO:-0500
TZNAME:America/New_York EST
END:STANDARD
BEGIN:STANDARD
DTSTART:20241103T010000
RDATE:20250309T030000
TZOFFSETFROM:-0400
TZOFFSETTO:-0500
TZNAME:America/New_York EST
END:STANDARD
BEGIN:STANDARD
DTSTART:20251102T010000
RDATE:20260308T030000
TZOFFSETFROM:-0400
TZOFFSETTO:-0500
TZNAME:America/New_York EST
END:STANDARD
BEGIN:STANDARD
DTSTART:20261101T010000
RDATE:20270314T030000
TZOFFSETFROM:-0400
TZOFFSETTO:-0500
TZNAME:America/New_York EST
END:STANDARD
BEGIN:STANDARD
DTSTART:20271107T010000
RDATE:20280312T030000
TZOFFSETFROM:-0400
TZOFFSETTO:-0500
TZNAME:America/New_York EST
END:STANDARD
BEGIN:STANDARD
DTSTART:20281105T010000
RDATE:20290311T030000
TZOFFSETFROM:-0400
TZOFFSETTO:-0500
TZNAME:America/New_York EST
END:STANDARD
BEGIN:STANDARD
DTSTART:20291104T010000
RDATE:20300310T030000
TZOFFSETFROM:-0400
TZOFFSETTO:-0500
TZNAME:America/New_York EST
END:STANDARD
BEGIN:STANDARD
DTSTART:20301103T010000
RDATE:20310309T030000
TZOFFSETFROM:-0400
TZOFFSETTO:-0500
TZNAME:America/New_York EST
END:STANDARD
BEGIN:STANDARD
DTSTART:20311102T010000
RDATE:20320314T030000
TZOFFSETFROM:-0400
TZOFFSETTO:-0500
TZNAME:America/New_York EST
END:STANDARD
BEGIN:DAYLIGHT
DTSTART:20180618T130000
RDATE:20181104T010000
TZOFFSETFROM:-0500
TZOFFSETTO:-0400
TZNAME:America/New_York EDT
END:DAYLIGHT
BEGIN:DAYLIGHT
DTSTART:20190310T030000
RDATE:20191103T010000
TZOFFSETFROM:-0500
TZOFFSETTO:-0400
TZNAME:America/New_York EDT
END:DAYLIGHT
BEGIN:DAYLIGHT
DTSTART:20200308T030000
RDATE:20201101T010000
TZOFFSETFROM:-0500
TZOFFSETTO:-0400
TZNAME:America/New_York EDT
END:DAYLIGHT
BEGIN:DAYLIGHT
DTSTART:20210314T030000
RDATE:20211107T010000
TZOFFSETFROM:-0500
TZOFFSETTO:-0400
TZNAME:America/New_York EDT
END:DAYLIGHT
BEGIN:DAYLIGHT
DTSTART:20220313T030000
RDATE:20221106T010000
TZOFFSETFROM:-0500
TZOFFSETTO:-0400
TZNAME:America/New_York EDT
END:DAYLIGHT
BEGIN:DAYLIGHT
DTSTART:20230312T030000
RDATE:20231105T010000
TZOFFSETFROM:-0500
TZOFFSETTO:-0400
TZNAME:America/New_York EDT
END:DAYLIGHT
BEGIN:DAYLIGHT
DTSTART:20240310T030000
RDATE:20241103T010000
TZOFFSETFROM:-0500
TZOFFSETTO:-0400
TZNAME:America/New_York EDT
END:DAYLIGHT
BEGIN:DAYLIGHT
DTSTART:20250309T030000
RDATE:20251102T010000
TZOFFSETFROM:-0500
TZOFFSETTO:-0400
TZNAME:America/New_York EDT
END:DAYLIGHT
BEGIN:DAYLIGHT
DTSTART:20260308T030000
RDATE:20261101T010000
TZOFFSETFROM:-0500
TZOFFSETTO:-0400
TZNAME:America/New_York EDT
END:DAYLIGHT
BEGIN:DAYLIGHT
DTSTART:20270314T030000
RDATE:20271107T010000
TZOFFSETFROM:-0500
TZOFFSETTO:-0400
TZNAME:America/New_York EDT
END:DAYLIGHT
BEGIN:DAYLIGHT
DTSTART:20280312T030000
RDATE:20281105T010000
TZOFFSETFROM:-0500
TZOFFSETTO:-0400
TZNAME:America/New_York EDT
END:DAYLIGHT
BEGIN:DAYLIGHT
DTSTART:20290311T030000
RDATE:20291104T010000
TZOFFSETFROM:-0500
TZOFFSETTO:-0400
TZNAME:America/New_York EDT
END:DAYLIGHT
BEGIN:DAYLIGHT
DTSTART:20300310T030000
RDATE:20301103T010000
TZOFFSETFROM:-0500
TZOFFSETTO:-0400
TZNAME:America/New_York EDT
END:DAYLIGHT
BEGIN:DAYLIGHT
DTSTART:20310309T030000
RDATE:20311102T010000
TZOFFSETFROM:-0500
TZOFFSETTO:-0400
TZNAME:America/New_York EDT
END:DAYLIGHT
END:VTIMEZONE
BEGIN:VEVENT
UID:a01e8def620fee8400efec38e38c57b6
CATEGORIES:Art-Camps
CREATED:20190529T204318
SUMMARY:TOS: Camp Out With Robert Indiana! 1PM
LOCATION:Art In The Pod
DESCRIPTION:Camp Out With Robert Indiana!11”X14” Acrylic Canvas Painting and a mixed me
 dia project\nInspired by Robert Indiana\nSet up your easel and get ready fo
 r the start of summer with this fun letter painting inspired by Robert Indi
 ana, followed by a summer themed mixed media project!\n\n Taste of Summer M
 ini Art CampsJune 17th-21st  Summer is here!\nDo the kids have something to
  do before summer camps begin?\nJoin us for a half or whole day of fun art 
 making at Art in the Pod!\nRegister today for our summer themed and famous 
 artist inspired projects!\nCampers will have fun creating two projects in e
 ach session!\nAges 6-12\n9:00am – 12:00pm, 1:00 - 4:00pm or Full Day.\n$42.
 00 per session\nSpace is limited.\nRegister online at artinthepod.com or ca
 ll 215-355-9art.\nDress for a mess and bring a nut free snack.\n \n
X-ALT-DESC;FMTTYPE=text/html:<h3><strong>Camp Out With Robert Indiana!</strong></h3><p>11”X14” Acrylic C
 anvas Painting and a mixed media project</p><p>Inspired by Robert Indiana</
 p><p>Set up your easel and get ready for the start of summer with this fun 
 letter painting inspired by Robert Indiana, followed by a summer themed mix
 ed media project!</p><p></p><h2><strong>&nbsp;</strong></h2><h2 style="text
 -align: center;"><strong>Taste of Summer Mini Art Camps</strong></h2><h2 st
 yle="text-align: center;"><strong>June 17<sup>th</sup>-21<sup>st</sup>&nbsp
 ; </strong></h2><p style="text-align: center;">Summer is here!</p><p style=
 "text-align: center;">Do the kids have something to do before summer camps 
 begin?<br />Join us for a half or whole day of fun art making at Art in the
  Pod!<br />Register today for our summer themed and famous artist inspired 
 projects!</p><p style="text-align: center;">Campers will have fun creating 
 two projects in each session!</p><p style="text-align: center;">Ages 6-12</
 p><p style="text-align: center;">9:00am – 12:00pm, 1:00 - 4:00pm or Full Da
 y.</p><p style="text-align: center;">$42.00 per session</p><p style="text-a
 lign: center;">Space is limited.</p><p style="text-align: center;">Register
  online at artinthepod.com or call 215-355-9art.</p><p style="text-align: c
 enter;">Dress for a mess and bring a nut free snack.</p><p><strong>&nbsp;</
 strong></p>
DTSTAMP:20260424T224224
DTSTART;TZID=America/New_York:20190619T130000
DTEND;TZID=America/New_York:20190619T160000
SEQUENCE:0
TRANSP:OPAQUE
END:VEVENT
END:VCALENDAR