BEGIN:VCALENDAR
VERSION:2.0
PRODID:-//jEvents 2.0 for Joomla//EN
CALSCALE:GREGORIAN
METHOD:PUBLISH
BEGIN:VTIMEZONE
TZID:America/New_York
BEGIN:STANDARD
DTSTART:20181104T010000
RDATE:20190310T030000
TZOFFSETFROM:-0400
TZOFFSETTO:-0500
TZNAME:America/New_York EST
END:STANDARD
BEGIN:STANDARD
DTSTART:20191103T010000
RDATE:20200308T030000
TZOFFSETFROM:-0400
TZOFFSETTO:-0500
TZNAME:America/New_York EST
END:STANDARD
BEGIN:STANDARD
DTSTART:20201101T010000
RDATE:20210314T030000
TZOFFSETFROM:-0400
TZOFFSETTO:-0500
TZNAME:America/New_York EST
END:STANDARD
BEGIN:STANDARD
DTSTART:20211107T010000
RDATE:20220313T030000
TZOFFSETFROM:-0400
TZOFFSETTO:-0500
TZNAME:America/New_York EST
END:STANDARD
BEGIN:STANDARD
DTSTART:20221106T010000
RDATE:20230312T030000
TZOFFSETFROM:-0400
TZOFFSETTO:-0500
TZNAME:America/New_York EST
END:STANDARD
BEGIN:STANDARD
DTSTART:20231105T010000
RDATE:20240310T030000
TZOFFSETFROM:-0400
TZOFFSETTO:-0500
TZNAME:America/New_York EST
END:STANDARD
BEGIN:STANDARD
DTSTART:20241103T010000
RDATE:20250309T030000
TZOFFSETFROM:-0400
TZOFFSETTO:-0500
TZNAME:America/New_York EST
END:STANDARD
BEGIN:STANDARD
DTSTART:20251102T010000
RDATE:20260308T030000
TZOFFSETFROM:-0400
TZOFFSETTO:-0500
TZNAME:America/New_York EST
END:STANDARD
BEGIN:STANDARD
DTSTART:20261101T010000
RDATE:20270314T030000
TZOFFSETFROM:-0400
TZOFFSETTO:-0500
TZNAME:America/New_York EST
END:STANDARD
BEGIN:STANDARD
DTSTART:20271107T010000
RDATE:20280312T030000
TZOFFSETFROM:-0400
TZOFFSETTO:-0500
TZNAME:America/New_York EST
END:STANDARD
BEGIN:STANDARD
DTSTART:20281105T010000
RDATE:20290311T030000
TZOFFSETFROM:-0400
TZOFFSETTO:-0500
TZNAME:America/New_York EST
END:STANDARD
BEGIN:STANDARD
DTSTART:20291104T010000
RDATE:20300310T030000
TZOFFSETFROM:-0400
TZOFFSETTO:-0500
TZNAME:America/New_York EST
END:STANDARD
BEGIN:STANDARD
DTSTART:20301103T010000
RDATE:20310309T030000
TZOFFSETFROM:-0400
TZOFFSETTO:-0500
TZNAME:America/New_York EST
END:STANDARD
BEGIN:STANDARD
DTSTART:20311102T010000
RDATE:20320314T030000
TZOFFSETFROM:-0400
TZOFFSETTO:-0500
TZNAME:America/New_York EST
END:STANDARD
BEGIN:DAYLIGHT
DTSTART:20180719T190000
RDATE:20181104T010000
TZOFFSETFROM:-0500
TZOFFSETTO:-0400
TZNAME:America/New_York EDT
END:DAYLIGHT
BEGIN:DAYLIGHT
DTSTART:20190310T030000
RDATE:20191103T010000
TZOFFSETFROM:-0500
TZOFFSETTO:-0400
TZNAME:America/New_York EDT
END:DAYLIGHT
BEGIN:DAYLIGHT
DTSTART:20200308T030000
RDATE:20201101T010000
TZOFFSETFROM:-0500
TZOFFSETTO:-0400
TZNAME:America/New_York EDT
END:DAYLIGHT
BEGIN:DAYLIGHT
DTSTART:20210314T030000
RDATE:20211107T010000
TZOFFSETFROM:-0500
TZOFFSETTO:-0400
TZNAME:America/New_York EDT
END:DAYLIGHT
BEGIN:DAYLIGHT
DTSTART:20220313T030000
RDATE:20221106T010000
TZOFFSETFROM:-0500
TZOFFSETTO:-0400
TZNAME:America/New_York EDT
END:DAYLIGHT
BEGIN:DAYLIGHT
DTSTART:20230312T030000
RDATE:20231105T010000
TZOFFSETFROM:-0500
TZOFFSETTO:-0400
TZNAME:America/New_York EDT
END:DAYLIGHT
BEGIN:DAYLIGHT
DTSTART:20240310T030000
RDATE:20241103T010000
TZOFFSETFROM:-0500
TZOFFSETTO:-0400
TZNAME:America/New_York EDT
END:DAYLIGHT
BEGIN:DAYLIGHT
DTSTART:20250309T030000
RDATE:20251102T010000
TZOFFSETFROM:-0500
TZOFFSETTO:-0400
TZNAME:America/New_York EDT
END:DAYLIGHT
BEGIN:DAYLIGHT
DTSTART:20260308T030000
RDATE:20261101T010000
TZOFFSETFROM:-0500
TZOFFSETTO:-0400
TZNAME:America/New_York EDT
END:DAYLIGHT
BEGIN:DAYLIGHT
DTSTART:20270314T030000
RDATE:20271107T010000
TZOFFSETFROM:-0500
TZOFFSETTO:-0400
TZNAME:America/New_York EDT
END:DAYLIGHT
BEGIN:DAYLIGHT
DTSTART:20280312T030000
RDATE:20281105T010000
TZOFFSETFROM:-0500
TZOFFSETTO:-0400
TZNAME:America/New_York EDT
END:DAYLIGHT
BEGIN:DAYLIGHT
DTSTART:20290311T030000
RDATE:20291104T010000
TZOFFSETFROM:-0500
TZOFFSETTO:-0400
TZNAME:America/New_York EDT
END:DAYLIGHT
BEGIN:DAYLIGHT
DTSTART:20300310T030000
RDATE:20301103T010000
TZOFFSETFROM:-0500
TZOFFSETTO:-0400
TZNAME:America/New_York EDT
END:DAYLIGHT
BEGIN:DAYLIGHT
DTSTART:20310309T030000
RDATE:20311102T010000
TZOFFSETFROM:-0500
TZOFFSETTO:-0400
TZNAME:America/New_York EDT
END:DAYLIGHT
END:VTIMEZONE
BEGIN:VEVENT
UID:e42f9a0489720ceba1e5c2cd3da2804f
CATEGORIES:BYO Events
CREATED:20190626T192344
SUMMARY:Introduction to Glass Fusion and Glass Enamels BYOB - Love Panel
LOCATION:Art In The Pod
DESCRIPTION:Introduction to Glass Fusion and Glass Enamels BYOB - Love Panel\nPHONE ONL
 Y - REGISTRATION FOR THIS EVENT\nIF YOU REACH OUR VOICEMAIL PLEASE LEAVE TH
 E FOLLOWING INFORMATION TO SAVE YOUR PLACE:\nName, How Many People, Date an
 d a Phone Number we can call to confirm your seats.\nEvent Description:\nTh
 is classes instruction will be on the Love Panel as seen in the picture.\nC
 reate your very own Fused Glass art panel while learning the art of glass f
 using using Spectrum 96 System glass. In this class we will be using a wide
  variety of materials and techniques to create your finished piece. The Fin
 ished piece for this class is approximately 7"x5".\nFirst we will use a com
 bination of glass enamels and glazes to paint your initial design onto a 5"
 x7 " pre-cut glass . After your main design is dry we will  continue adding
  more embellishments to finish and bring your final creation to life. If yo
 u feel creative you may pick your own design to create your very own glass 
 fusion masterpiece.\nYour finished piece will be contour fired to allow a v
 ariety of different depths.\nAll works will be ready for pickup in 7 - 14 d
 ays.\nCost: $75  Special $40\nTERMS: \n\nCancellation/Refund/Studio Credit 
 Policy: No cash refunds/Studio credit only. A Studio Credit will be given f
 or individuals cancelling with at least 48 Hours or more notice only. \nMis
 cellaneous: If you are registering for your guest we suggest you notify the
 m of these terms.\n
X-ALT-DESC;FMTTYPE=text/html:<p><strong>Introduction to Glass Fusion and Glass Enamels BYOB - Love Panel
 </strong></p><p><strong>PHONE ONLY - REGISTRATION FOR THIS </strong><strong
 >EVENT</strong><br /><strong>IF YOU REACH OUR VOICEMAIL PLEASE LEAVE THE FO
 LLOWING INFORMATION TO SAVE YOUR PLACE:</strong><br />Name, How Many People
 , Date and a Phone Number we can call to confirm your seats.</p><p><strong>
 Event Description:</strong><br />This classes instruction will be on the Lo
 ve Panel as seen in the picture.</p><p>Create your very own Fused Glass art
  panel while learning the art of glass fusing using Spectrum 96 System glas
 s. In this class we will be using a wide variety of materials and technique
 s to create your finished piece.&nbsp;The Finished piece&nbsp;for this clas
 s&nbsp;is approximately 7"x5".</p><p>First we will use a combination of&nbs
 p;glass enamels and glazes to paint&nbsp;your initial design onto a 5"x7 " 
 pre-cut glass . After your main design is dry we will&nbsp; continue adding
  more embellishments to finish and bring your final creation to life. If yo
 u feel creative you may pick your own design to create your very own glass 
 fusion masterpiece.</p><p>Your finished piece will be contour fired to allo
 w a variety of different depths.</p><p>All works will be ready for pickup i
 n 7 - 14 days.</p><p><strong><strong><span style="text-decoration: line-thr
 ough;">Cost:&nbsp;$75</span>&nbsp; Special $40</strong></strong></p><p><str
 ong>TERMS: <br /></strong><span id="rsvp_field26_span_"><br /></span><stron
 g>Cancellation/Refund/Studio Credit Policy:</strong> No cash refunds/Studio
  credit only. A Studio Credit will be given for individuals cancelling with
  at least 48 Hours or more notice only. <br /><strong>Miscellaneous: </stro
 ng>If you are registering for your guest we suggest you notify them of thes
 e terms.</p>
DTSTAMP:20260425T040202
DTSTART;TZID=America/New_York:20190720T190000
DTEND;TZID=America/New_York:20190720T210000
SEQUENCE:0
TRANSP:OPAQUE
END:VEVENT
END:VCALENDAR