BEGIN:VCALENDAR
VERSION:2.0
PRODID:-//jEvents 2.0 for Joomla//EN
CALSCALE:GREGORIAN
METHOD:PUBLISH
BEGIN:VTIMEZONE
TZID:America/New_York
BEGIN:STANDARD
DTSTART:20181104T010000
RDATE:20190310T030000
TZOFFSETFROM:-0400
TZOFFSETTO:-0500
TZNAME:America/New_York EST
END:STANDARD
BEGIN:STANDARD
DTSTART:20191103T010000
RDATE:20200308T030000
TZOFFSETFROM:-0400
TZOFFSETTO:-0500
TZNAME:America/New_York EST
END:STANDARD
BEGIN:STANDARD
DTSTART:20201101T010000
RDATE:20210314T030000
TZOFFSETFROM:-0400
TZOFFSETTO:-0500
TZNAME:America/New_York EST
END:STANDARD
BEGIN:STANDARD
DTSTART:20211107T010000
RDATE:20220313T030000
TZOFFSETFROM:-0400
TZOFFSETTO:-0500
TZNAME:America/New_York EST
END:STANDARD
BEGIN:STANDARD
DTSTART:20221106T010000
RDATE:20230312T030000
TZOFFSETFROM:-0400
TZOFFSETTO:-0500
TZNAME:America/New_York EST
END:STANDARD
BEGIN:STANDARD
DTSTART:20231105T010000
RDATE:20240310T030000
TZOFFSETFROM:-0400
TZOFFSETTO:-0500
TZNAME:America/New_York EST
END:STANDARD
BEGIN:STANDARD
DTSTART:20241103T010000
RDATE:20250309T030000
TZOFFSETFROM:-0400
TZOFFSETTO:-0500
TZNAME:America/New_York EST
END:STANDARD
BEGIN:STANDARD
DTSTART:20251102T010000
RDATE:20260308T030000
TZOFFSETFROM:-0400
TZOFFSETTO:-0500
TZNAME:America/New_York EST
END:STANDARD
BEGIN:STANDARD
DTSTART:20261101T010000
RDATE:20270314T030000
TZOFFSETFROM:-0400
TZOFFSETTO:-0500
TZNAME:America/New_York EST
END:STANDARD
BEGIN:STANDARD
DTSTART:20271107T010000
RDATE:20280312T030000
TZOFFSETFROM:-0400
TZOFFSETTO:-0500
TZNAME:America/New_York EST
END:STANDARD
BEGIN:STANDARD
DTSTART:20281105T010000
RDATE:20290311T030000
TZOFFSETFROM:-0400
TZOFFSETTO:-0500
TZNAME:America/New_York EST
END:STANDARD
BEGIN:STANDARD
DTSTART:20291104T010000
RDATE:20300310T030000
TZOFFSETFROM:-0400
TZOFFSETTO:-0500
TZNAME:America/New_York EST
END:STANDARD
BEGIN:STANDARD
DTSTART:20301103T010000
RDATE:20310309T030000
TZOFFSETFROM:-0400
TZOFFSETTO:-0500
TZNAME:America/New_York EST
END:STANDARD
BEGIN:STANDARD
DTSTART:20311102T010000
RDATE:20320314T030000
TZOFFSETFROM:-0400
TZOFFSETTO:-0500
TZNAME:America/New_York EST
END:STANDARD
BEGIN:DAYLIGHT
DTSTART:20180708T120000
RDATE:20181104T010000
TZOFFSETFROM:-0500
TZOFFSETTO:-0400
TZNAME:America/New_York EDT
END:DAYLIGHT
BEGIN:DAYLIGHT
DTSTART:20190310T030000
RDATE:20191103T010000
TZOFFSETFROM:-0500
TZOFFSETTO:-0400
TZNAME:America/New_York EDT
END:DAYLIGHT
BEGIN:DAYLIGHT
DTSTART:20200308T030000
RDATE:20201101T010000
TZOFFSETFROM:-0500
TZOFFSETTO:-0400
TZNAME:America/New_York EDT
END:DAYLIGHT
BEGIN:DAYLIGHT
DTSTART:20210314T030000
RDATE:20211107T010000
TZOFFSETFROM:-0500
TZOFFSETTO:-0400
TZNAME:America/New_York EDT
END:DAYLIGHT
BEGIN:DAYLIGHT
DTSTART:20220313T030000
RDATE:20221106T010000
TZOFFSETFROM:-0500
TZOFFSETTO:-0400
TZNAME:America/New_York EDT
END:DAYLIGHT
BEGIN:DAYLIGHT
DTSTART:20230312T030000
RDATE:20231105T010000
TZOFFSETFROM:-0500
TZOFFSETTO:-0400
TZNAME:America/New_York EDT
END:DAYLIGHT
BEGIN:DAYLIGHT
DTSTART:20240310T030000
RDATE:20241103T010000
TZOFFSETFROM:-0500
TZOFFSETTO:-0400
TZNAME:America/New_York EDT
END:DAYLIGHT
BEGIN:DAYLIGHT
DTSTART:20250309T030000
RDATE:20251102T010000
TZOFFSETFROM:-0500
TZOFFSETTO:-0400
TZNAME:America/New_York EDT
END:DAYLIGHT
BEGIN:DAYLIGHT
DTSTART:20260308T030000
RDATE:20261101T010000
TZOFFSETFROM:-0500
TZOFFSETTO:-0400
TZNAME:America/New_York EDT
END:DAYLIGHT
BEGIN:DAYLIGHT
DTSTART:20270314T030000
RDATE:20271107T010000
TZOFFSETFROM:-0500
TZOFFSETTO:-0400
TZNAME:America/New_York EDT
END:DAYLIGHT
BEGIN:DAYLIGHT
DTSTART:20280312T030000
RDATE:20281105T010000
TZOFFSETFROM:-0500
TZOFFSETTO:-0400
TZNAME:America/New_York EDT
END:DAYLIGHT
BEGIN:DAYLIGHT
DTSTART:20290311T030000
RDATE:20291104T010000
TZOFFSETFROM:-0500
TZOFFSETTO:-0400
TZNAME:America/New_York EDT
END:DAYLIGHT
BEGIN:DAYLIGHT
DTSTART:20300310T030000
RDATE:20301103T010000
TZOFFSETFROM:-0500
TZOFFSETTO:-0400
TZNAME:America/New_York EDT
END:DAYLIGHT
BEGIN:DAYLIGHT
DTSTART:20310309T030000
RDATE:20311102T010000
TZOFFSETFROM:-0500
TZOFFSETTO:-0400
TZNAME:America/New_York EDT
END:DAYLIGHT
END:VTIMEZONE
BEGIN:VEVENT
UID:5749b59e2598f0982bcebef8d2e770b1
CATEGORIES:Workshops
CREATED:20190708T214935
SUMMARY:ArtLab Slime Time & Paint Pour
LOCATION:Art In The Pod
DESCRIPTION:Art in the Pod welcomes you to sign up for our new Art Lab events, for kids
  of all ages. Beat the heat and enjoy DIY slime-making and paint pouring in
  our air conditioned studio. All materials and easy step-by-step instructio
 ns are supplied.\n\nPhone Registrations Only 215.355.9278DIY Workshop Inclu
 des:\nUp to 2 hours of studio time to complete your paint pour and slime ti
 me.\n\nSlime Time $10\nTime to complete: Around 30 Minutes\nAll Materials t
 o make your very own slime (8oz)\n\nSlime Container (that you decorate) $8\
 nTime to complete: Around 30 Minutes\n\nPaint Pour $12\nTime to complete: A
 round 30 Minutes\n4 inch plaster disc (premade in our studio, additional di
 scs may be purchased in the studio)\nPaints premixed with pouring additives
 \n\n\n\n\nMinimum Age: 6\n\nSupplies Needed: None, all provided.\nSkill Lev
 el: All\nDress Code: We have aprons available, but it is always wise to wea
 r old clothes as this can be a messy (but extremely fun!) project.\n\n\nTER
 MS: \nPayment Policy: Payment online or in studio is required to guarantee 
 your reservation. No Vouchers Accepted. Reservations Will Automatically Can
 cel In 60 Minutes If Payment Is Not Completed. Need help to complete your r
 eservation? Call us at 215.355.92787 to complete your reservation.\nCancell
 ation/Refund/Studio Credit Policy: No cash refunds/Studio credit only. A St
 udio Credit will be given for individuals cancelling with at least 48 Hours
  or more notice only. \nMiscellaneous: Four attendee maximum per group. Ple
 ase arrive on time, arriving past your reserved time slot may require your 
 artlab to be cancelled/rescheduled\n\n
X-ALT-DESC;FMTTYPE=text/html:<p><span style="background-color: #ffffff;">Art in the Pod welcomes you to 
 sign up for our new Art Lab events, for kids of all ages. Beat the heat and
  enjoy DIY slime-making and paint pouring in our air conditioned studio. Al
 l materials and easy step-by-step instructions are supplied.<br /></span></
 p><h2><strong><strong>Phone Registrations Only 215.355.9278</strong></stron
 g></h2><p><strong>DIY Workshop Includes:</strong></p><p><strong>Up to 2 hou
 rs of studio time to complete your paint pour and slime time.</strong></p><
 p><strong><br /><strong><span style="text-decoration: underline;">Slime Tim
 e</span> $10</strong><br />Time to complete: Around 30 Minutes<br /></stron
 g>All Materials to make your very own slime (8oz)</p><p><br /><strong><span
  style="text-decoration: underline;">Slime Container</span> (that you decor
 ate) $8<br /><strong>Time to complete: Around 30 Minutes</strong><br /></st
 rong></p><p><strong><span style="text-decoration: underline;"><strong>Paint
  Pour</strong></span><strong> $12<br /><strong>Time to complete: Around 30 
 Minutes</strong><br /></strong></strong>4 inch plaster disc (premade in our
  studio, additional discs may be purchased in the studio)<strong><br /></st
 rong>Paints premixed with pouring additives<br /><br /><br /></p><p><br /><
 strong>Minimum Age:</strong> 6<br /><br /><strong>Supplies Needed:</strong>
  None, all provided.<br /><strong>Skill Level:</strong> All<br /><strong>Dr
 ess Code:</strong> We have aprons available, but it is always wise to wear 
 old clothes as this can be a messy (but extremely fun!) project.<br /><br /
 ></p><p style="font-size: small; color: #000000;"><strong>TERMS: <br />Paym
 ent Policy:</strong> Payment online or in studio is required to guarantee y
 our reservation. No Vouchers Accepted. <span id="rsvp_field26_span_"><span 
 style="text-decoration: underline;">Reservations Will Automatically Cancel 
 In 60 Minutes If Payment Is Not Completed</span>. Need help to complete you
 r reservation? Call us at 215.355.92787 to complete your reservation.<br />
 </span><strong>Cancellation/Refund/Studio Credit Policy:</strong> No cash r
 efunds/Studio credit only. A Studio Credit will be given for individuals ca
 ncelling with at least 48 Hours or more notice only. <br /><strong>Miscella
 neous: </strong>Four attendee maximum per group. Please arrive on time, arr
 iving past your reserved time slot may require your artlab to be cancelled/
 rescheduled<strong><br /></strong></p>
DTSTAMP:20260425T033906
DTSTART;TZID=America/New_York:20190709T120000
DTEND;TZID=America/New_York:20190709T140000
SEQUENCE:0
TRANSP:OPAQUE
END:VEVENT
END:VCALENDAR