BEGIN:VCALENDAR
VERSION:2.0
PRODID:-//jEvents 2.0 for Joomla//EN
CALSCALE:GREGORIAN
METHOD:PUBLISH
BEGIN:VTIMEZONE
TZID:America/New_York
BEGIN:STANDARD
DTSTART:20181226T133000
RDATE:20190310T030000
TZOFFSETFROM:-0400
TZOFFSETTO:-0500
TZNAME:America/New_York EST
END:STANDARD
BEGIN:STANDARD
DTSTART:20191103T010000
RDATE:20200308T030000
TZOFFSETFROM:-0400
TZOFFSETTO:-0500
TZNAME:America/New_York EST
END:STANDARD
BEGIN:STANDARD
DTSTART:20201101T010000
RDATE:20210314T030000
TZOFFSETFROM:-0400
TZOFFSETTO:-0500
TZNAME:America/New_York EST
END:STANDARD
BEGIN:STANDARD
DTSTART:20211107T010000
RDATE:20220313T030000
TZOFFSETFROM:-0400
TZOFFSETTO:-0500
TZNAME:America/New_York EST
END:STANDARD
BEGIN:STANDARD
DTSTART:20221106T010000
RDATE:20230312T030000
TZOFFSETFROM:-0400
TZOFFSETTO:-0500
TZNAME:America/New_York EST
END:STANDARD
BEGIN:STANDARD
DTSTART:20231105T010000
RDATE:20240310T030000
TZOFFSETFROM:-0400
TZOFFSETTO:-0500
TZNAME:America/New_York EST
END:STANDARD
BEGIN:STANDARD
DTSTART:20241103T010000
RDATE:20250309T030000
TZOFFSETFROM:-0400
TZOFFSETTO:-0500
TZNAME:America/New_York EST
END:STANDARD
BEGIN:STANDARD
DTSTART:20251102T010000
RDATE:20260308T030000
TZOFFSETFROM:-0400
TZOFFSETTO:-0500
TZNAME:America/New_York EST
END:STANDARD
BEGIN:STANDARD
DTSTART:20261101T010000
RDATE:20270314T030000
TZOFFSETFROM:-0400
TZOFFSETTO:-0500
TZNAME:America/New_York EST
END:STANDARD
BEGIN:STANDARD
DTSTART:20271107T010000
RDATE:20280312T030000
TZOFFSETFROM:-0400
TZOFFSETTO:-0500
TZNAME:America/New_York EST
END:STANDARD
BEGIN:STANDARD
DTSTART:20281105T010000
RDATE:20290311T030000
TZOFFSETFROM:-0400
TZOFFSETTO:-0500
TZNAME:America/New_York EST
END:STANDARD
BEGIN:STANDARD
DTSTART:20291104T010000
RDATE:20300310T030000
TZOFFSETFROM:-0400
TZOFFSETTO:-0500
TZNAME:America/New_York EST
END:STANDARD
BEGIN:STANDARD
DTSTART:20301103T010000
RDATE:20310309T030000
TZOFFSETFROM:-0400
TZOFFSETTO:-0500
TZNAME:America/New_York EST
END:STANDARD
BEGIN:STANDARD
DTSTART:20311102T010000
RDATE:20320314T030000
TZOFFSETFROM:-0400
TZOFFSETTO:-0500
TZNAME:America/New_York EST
END:STANDARD
BEGIN:DAYLIGHT
DTSTART:20190310T030000
RDATE:20191103T010000
TZOFFSETFROM:-0500
TZOFFSETTO:-0400
TZNAME:America/New_York EDT
END:DAYLIGHT
BEGIN:DAYLIGHT
DTSTART:20200308T030000
RDATE:20201101T010000
TZOFFSETFROM:-0500
TZOFFSETTO:-0400
TZNAME:America/New_York EDT
END:DAYLIGHT
BEGIN:DAYLIGHT
DTSTART:20210314T030000
RDATE:20211107T010000
TZOFFSETFROM:-0500
TZOFFSETTO:-0400
TZNAME:America/New_York EDT
END:DAYLIGHT
BEGIN:DAYLIGHT
DTSTART:20220313T030000
RDATE:20221106T010000
TZOFFSETFROM:-0500
TZOFFSETTO:-0400
TZNAME:America/New_York EDT
END:DAYLIGHT
BEGIN:DAYLIGHT
DTSTART:20230312T030000
RDATE:20231105T010000
TZOFFSETFROM:-0500
TZOFFSETTO:-0400
TZNAME:America/New_York EDT
END:DAYLIGHT
BEGIN:DAYLIGHT
DTSTART:20240310T030000
RDATE:20241103T010000
TZOFFSETFROM:-0500
TZOFFSETTO:-0400
TZNAME:America/New_York EDT
END:DAYLIGHT
BEGIN:DAYLIGHT
DTSTART:20250309T030000
RDATE:20251102T010000
TZOFFSETFROM:-0500
TZOFFSETTO:-0400
TZNAME:America/New_York EDT
END:DAYLIGHT
BEGIN:DAYLIGHT
DTSTART:20260308T030000
RDATE:20261101T010000
TZOFFSETFROM:-0500
TZOFFSETTO:-0400
TZNAME:America/New_York EDT
END:DAYLIGHT
BEGIN:DAYLIGHT
DTSTART:20270314T030000
RDATE:20271107T010000
TZOFFSETFROM:-0500
TZOFFSETTO:-0400
TZNAME:America/New_York EDT
END:DAYLIGHT
BEGIN:DAYLIGHT
DTSTART:20280312T030000
RDATE:20281105T010000
TZOFFSETFROM:-0500
TZOFFSETTO:-0400
TZNAME:America/New_York EDT
END:DAYLIGHT
BEGIN:DAYLIGHT
DTSTART:20290311T030000
RDATE:20291104T010000
TZOFFSETFROM:-0500
TZOFFSETTO:-0400
TZNAME:America/New_York EDT
END:DAYLIGHT
BEGIN:DAYLIGHT
DTSTART:20300310T030000
RDATE:20301103T010000
TZOFFSETFROM:-0500
TZOFFSETTO:-0400
TZNAME:America/New_York EDT
END:DAYLIGHT
BEGIN:DAYLIGHT
DTSTART:20310309T030000
RDATE:20311102T010000
TZOFFSETFROM:-0500
TZOFFSETTO:-0400
TZNAME:America/New_York EDT
END:DAYLIGHT
END:VTIMEZONE
BEGIN:VEVENT
UID:d427f059fb4bc20e3449f4350f52d2d7
CATEGORIES:Workshops
CREATED:20191204T201410
SUMMARY:ArtLab Slime Time & Paint Pour
LOCATION:Art In The Pod
DESCRIPTION:Art in the Pod welcomes you to sign up for our new Art Lab events, for kids
  of all ages. Enjoy DIY slime-making and paint pouring in our studio. All m
 aterials and easy step-by-step instructions are supplied.\n\nPhone Registra
 tions 215.355.9278DIY Workshop Includes:\nUp to 2 hours of studio time to c
 omplete your paint pour and slime time.\n\nSlime Time $10\nTime to complete
 : Around 30 Minutes\nAll Materials to make your very own slime (8oz)\n\nSli
 me Container (that you decorate) $8\nTime to complete: Around 30 Minutes\n\
 nPaint Pour $12\nTime to complete: Around 30 Minutes\n4 inch plaster disc (
 premade in our studio, additional discs may be purchased in the studio)\nPa
 ints premixed with pouring additives\n\n\n\n\nMinimum Age: 6\n\nSupplies Ne
 eded: None, all provided.\nSkill Level: All\nDress Code: We have aprons ava
 ilable, but it is always wise to wear old clothes as this can be a messy (b
 ut extremely fun!) project.\n\n\nTERMS: \nPayment Policy: Payment online or
  in studio is required to guarantee your reservation. No Vouchers Accepted.
  Reservations Will Automatically Cancel In 60 Minutes If Payment Is Not Com
 pleted. Need help to complete your reservation? Call us at 215.355.92787 to
  complete your reservation.\nCancellation/Refund/Studio Credit Policy: No c
 ash refunds/Studio credit only. A Studio Credit will be given for individua
 ls cancelling with at least 48 Hours or more notice only. \nMiscellaneous: 
 Four attendee maximum per group. Please arrive on time, arriving past your 
 reserved time slot may require your artlab to be cancelled/rescheduled\n\n
X-ALT-DESC;FMTTYPE=text/html:<p><span style="background-color: #ffffff;">Art in the Pod welcomes you to 
 sign up for our new Art Lab events, for kids of all ages. Enjoy DIY slime-m
 aking and paint pouring in our studio. All materials and easy step-by-step 
 instructions are supplied.<br /></span></p><h2><strong><strong>Phone Regist
 rations 215.355.9278</strong></strong></h2><p><strong>DIY Workshop Includes
 :</strong></p><p><strong>Up to 2 hours of studio time to complete your pain
 t pour and slime time.</strong></p><p><strong><br /><strong><span style="te
 xt-decoration: underline;">Slime Time</span> $10</strong><br />Time to comp
 lete: Around 30 Minutes<br /></strong>All Materials to make your very own s
 lime (8oz)</p><p><br /><strong><span style="text-decoration: underline;">Sl
 ime Container</span> (that you decorate) $8<br /><strong>Time to complete: 
 Around 30 Minutes</strong><br /></strong></p><p><strong><span style="text-d
 ecoration: underline;"><strong>Paint Pour</strong></span><strong> $12<br />
 <strong>Time to complete: Around 30 Minutes</strong><br /></strong></strong
 >4 inch plaster disc (premade in our studio, additional discs may be purcha
 sed in the studio)<strong><br /></strong>Paints premixed with pouring addit
 ives<br /><br /><br /></p><p><br /><strong>Minimum Age:</strong> 6<br /><br
  /><strong>Supplies Needed:</strong> None, all provided.<br /><strong>Skill
  Level:</strong> All<br /><strong>Dress Code:</strong> We have aprons avail
 able, but it is always wise to wear old clothes as this can be a messy (but
  extremely fun!) project.<br /><br /></p><p style="font-size: small; color:
  #000000;"><strong>TERMS: <br />Payment Policy:</strong> Payment online or 
 in studio is required to guarantee your reservation. No Vouchers Accepted. 
 <span id="rsvp_field26_span_"><span style="text-decoration: underline;">Res
 ervations Will Automatically Cancel In 60 Minutes If Payment Is Not Complet
 ed</span>. Need help to complete your reservation? Call us at 215.355.92787
  to complete your reservation.<br /></span><strong>Cancellation/Refund/Stud
 io Credit Policy:</strong> No cash refunds/Studio credit only. A Studio Cre
 dit will be given for individuals cancelling with at least 48 Hours or more
  notice only. <br /><strong>Miscellaneous: </strong>Four attendee maximum p
 er group. Please arrive on time, arriving past your reserved time slot may 
 require your artlab to be cancelled/rescheduled<strong><br /></strong></p>
DTSTAMP:20260424T110616
DTSTART;TZID=America/New_York:20191227T133000
DTEND;TZID=America/New_York:20191227T153000
SEQUENCE:0
TRANSP:OPAQUE
END:VEVENT
END:VCALENDAR