BEGIN:VCALENDAR
VERSION:2.0
PRODID:-//jEvents 2.0 for Joomla//EN
CALSCALE:GREGORIAN
METHOD:PUBLISH
BEGIN:VTIMEZONE
TZID:America/New_York
BEGIN:STANDARD
DTSTART:20191124T130000
RDATE:20200308T030000
TZOFFSETFROM:-0400
TZOFFSETTO:-0500
TZNAME:America/New_York EST
END:STANDARD
BEGIN:STANDARD
DTSTART:20201101T010000
RDATE:20210314T030000
TZOFFSETFROM:-0400
TZOFFSETTO:-0500
TZNAME:America/New_York EST
END:STANDARD
BEGIN:STANDARD
DTSTART:20211107T010000
RDATE:20220313T030000
TZOFFSETFROM:-0400
TZOFFSETTO:-0500
TZNAME:America/New_York EST
END:STANDARD
BEGIN:STANDARD
DTSTART:20221106T010000
RDATE:20230312T030000
TZOFFSETFROM:-0400
TZOFFSETTO:-0500
TZNAME:America/New_York EST
END:STANDARD
BEGIN:STANDARD
DTSTART:20231105T010000
RDATE:20240310T030000
TZOFFSETFROM:-0400
TZOFFSETTO:-0500
TZNAME:America/New_York EST
END:STANDARD
BEGIN:STANDARD
DTSTART:20241103T010000
RDATE:20250309T030000
TZOFFSETFROM:-0400
TZOFFSETTO:-0500
TZNAME:America/New_York EST
END:STANDARD
BEGIN:STANDARD
DTSTART:20251102T010000
RDATE:20260308T030000
TZOFFSETFROM:-0400
TZOFFSETTO:-0500
TZNAME:America/New_York EST
END:STANDARD
BEGIN:STANDARD
DTSTART:20261101T010000
RDATE:20270314T030000
TZOFFSETFROM:-0400
TZOFFSETTO:-0500
TZNAME:America/New_York EST
END:STANDARD
BEGIN:STANDARD
DTSTART:20271107T010000
RDATE:20280312T030000
TZOFFSETFROM:-0400
TZOFFSETTO:-0500
TZNAME:America/New_York EST
END:STANDARD
BEGIN:STANDARD
DTSTART:20281105T010000
RDATE:20290311T030000
TZOFFSETFROM:-0400
TZOFFSETTO:-0500
TZNAME:America/New_York EST
END:STANDARD
BEGIN:STANDARD
DTSTART:20291104T010000
RDATE:20300310T030000
TZOFFSETFROM:-0400
TZOFFSETTO:-0500
TZNAME:America/New_York EST
END:STANDARD
BEGIN:STANDARD
DTSTART:20301103T010000
RDATE:20310309T030000
TZOFFSETFROM:-0400
TZOFFSETTO:-0500
TZNAME:America/New_York EST
END:STANDARD
BEGIN:STANDARD
DTSTART:20311102T010000
RDATE:20320314T030000
TZOFFSETFROM:-0400
TZOFFSETTO:-0500
TZNAME:America/New_York EST
END:STANDARD
BEGIN:DAYLIGHT
DTSTART:20200308T030000
RDATE:20201101T010000
TZOFFSETFROM:-0500
TZOFFSETTO:-0400
TZNAME:America/New_York EDT
END:DAYLIGHT
BEGIN:DAYLIGHT
DTSTART:20210314T030000
RDATE:20211107T010000
TZOFFSETFROM:-0500
TZOFFSETTO:-0400
TZNAME:America/New_York EDT
END:DAYLIGHT
BEGIN:DAYLIGHT
DTSTART:20220313T030000
RDATE:20221106T010000
TZOFFSETFROM:-0500
TZOFFSETTO:-0400
TZNAME:America/New_York EDT
END:DAYLIGHT
BEGIN:DAYLIGHT
DTSTART:20230312T030000
RDATE:20231105T010000
TZOFFSETFROM:-0500
TZOFFSETTO:-0400
TZNAME:America/New_York EDT
END:DAYLIGHT
BEGIN:DAYLIGHT
DTSTART:20240310T030000
RDATE:20241103T010000
TZOFFSETFROM:-0500
TZOFFSETTO:-0400
TZNAME:America/New_York EDT
END:DAYLIGHT
BEGIN:DAYLIGHT
DTSTART:20250309T030000
RDATE:20251102T010000
TZOFFSETFROM:-0500
TZOFFSETTO:-0400
TZNAME:America/New_York EDT
END:DAYLIGHT
BEGIN:DAYLIGHT
DTSTART:20260308T030000
RDATE:20261101T010000
TZOFFSETFROM:-0500
TZOFFSETTO:-0400
TZNAME:America/New_York EDT
END:DAYLIGHT
BEGIN:DAYLIGHT
DTSTART:20270314T030000
RDATE:20271107T010000
TZOFFSETFROM:-0500
TZOFFSETTO:-0400
TZNAME:America/New_York EDT
END:DAYLIGHT
BEGIN:DAYLIGHT
DTSTART:20280312T030000
RDATE:20281105T010000
TZOFFSETFROM:-0500
TZOFFSETTO:-0400
TZNAME:America/New_York EDT
END:DAYLIGHT
BEGIN:DAYLIGHT
DTSTART:20290311T030000
RDATE:20291104T010000
TZOFFSETFROM:-0500
TZOFFSETTO:-0400
TZNAME:America/New_York EDT
END:DAYLIGHT
BEGIN:DAYLIGHT
DTSTART:20300310T030000
RDATE:20301103T010000
TZOFFSETFROM:-0500
TZOFFSETTO:-0400
TZNAME:America/New_York EDT
END:DAYLIGHT
BEGIN:DAYLIGHT
DTSTART:20310309T030000
RDATE:20311102T010000
TZOFFSETFROM:-0500
TZOFFSETTO:-0400
TZNAME:America/New_York EDT
END:DAYLIGHT
END:VTIMEZONE
BEGIN:VEVENT
UID:675e6a5820d2feafcedbed298f496243
CATEGORIES:Art-Camps
CREATED:20201106T204422
SUMMARY:Pick of the Patch! Thanksgiving Mini Art Camps November 23-27
LOCATION:Art In The Pod
DESCRIPTION:MINI CAMPS ARE BACK AT ART IN THE POD!\nPick of the Patch! Thanksgiving Min
 i Art Camp\nPaint your special pumpkin on canvas with the help from this li
 ttle crow! Add a pinch of gold in the style of the artist Gustav Klimt! Kid
 s will also enjoy painting their favorite slice of pie using watercolors an
 d oil pastels.First Project: 11”X14” Acrylic Canvas Painting\nSecond Projec
 t: Watercolors and oil pastels ProjectEach session will offer unique projec
 ts, so feel free to sign up for more than just one! Morning, Afternoon and 
 Full Day mini camp sessions available.\nBring a nut-free snack and a bevera
 ge. Dress for mess.TUESDAY, NOVEMBER 24\n1:00-4:00 PMREGISTER TODAY AT ARTI
 NTHEPOD.COM OR CALL 215-355-9278\nAGES 6-12\nSpace is limited! Register tod
 ay online at artinthepod.com or call 215-355-9278.\nOnly $52 per session.\n
 Ages 6-12.\nMorning: 9am-12pm\nAfternoon: 1pm-4pm\nFull Day available.\n\n
X-ALT-DESC;FMTTYPE=text/html:<h3><strong>MINI CAMPS ARE BACK AT ART IN THE POD!<br />Pick of the Patch! 
 Thanksgiving Mini Art Camp<br /></strong></h3><h3>Paint your special pumpki
 n on canvas with the help from this little crow! Add a pinch of gold in the
  style of the artist Gustav Klimt! Kids will also enjoy painting their favo
 rite slice of pie using watercolors and oil pastels.</h3><h3>First Project:
  11”X14” Acrylic Canvas Painting<br />Second Project: Watercolors and oil p
 astels Project</h3><h3>Each session will offer unique projects, so feel fre
 e to sign up for more than just one! Morning, Afternoon and Full Day mini c
 amp sessions available.<br /><strong><em>Bring a nut-free snack and a bever
 age. Dress for mess.</em></strong></h3><h2><strong>TUESDAY, NOVEMBER 24</st
 rong><br /><strong>1:00-4:00 PM</strong></h2><p>REGISTER TODAY AT ARTINTHEP
 OD.COM OR CALL 215-355-9278<br />AGES 6-12</p><p>Space is limited! Register
  today online at artinthepod.com or call 215-355-9278.<br />Only $52 per se
 ssion.<br />Ages 6-12.<br />Morning: 9am-12pm<br />Afternoon: 1pm-4pm<br />
 Full Day available<strong>.</strong></p><p></p>
DTSTAMP:20260424T110534
DTSTART;TZID=America/New_York:20201124T130000
DTEND;TZID=America/New_York:20201124T160000
SEQUENCE:0
TRANSP:OPAQUE
END:VEVENT
END:VCALENDAR