BEGIN:VCALENDAR
VERSION:2.0
PRODID:-//jEvents 2.0 for Joomla//EN
CALSCALE:GREGORIAN
METHOD:PUBLISH
BEGIN:VTIMEZONE
TZID:America/New_York
BEGIN:STANDARD
DTSTART:20191125T090000
RDATE:20200308T030000
TZOFFSETFROM:-0400
TZOFFSETTO:-0500
TZNAME:America/New_York EST
END:STANDARD
BEGIN:STANDARD
DTSTART:20201101T010000
RDATE:20210314T030000
TZOFFSETFROM:-0400
TZOFFSETTO:-0500
TZNAME:America/New_York EST
END:STANDARD
BEGIN:STANDARD
DTSTART:20211107T010000
RDATE:20220313T030000
TZOFFSETFROM:-0400
TZOFFSETTO:-0500
TZNAME:America/New_York EST
END:STANDARD
BEGIN:STANDARD
DTSTART:20221106T010000
RDATE:20230312T030000
TZOFFSETFROM:-0400
TZOFFSETTO:-0500
TZNAME:America/New_York EST
END:STANDARD
BEGIN:STANDARD
DTSTART:20231105T010000
RDATE:20240310T030000
TZOFFSETFROM:-0400
TZOFFSETTO:-0500
TZNAME:America/New_York EST
END:STANDARD
BEGIN:STANDARD
DTSTART:20241103T010000
RDATE:20250309T030000
TZOFFSETFROM:-0400
TZOFFSETTO:-0500
TZNAME:America/New_York EST
END:STANDARD
BEGIN:STANDARD
DTSTART:20251102T010000
RDATE:20260308T030000
TZOFFSETFROM:-0400
TZOFFSETTO:-0500
TZNAME:America/New_York EST
END:STANDARD
BEGIN:STANDARD
DTSTART:20261101T010000
RDATE:20270314T030000
TZOFFSETFROM:-0400
TZOFFSETTO:-0500
TZNAME:America/New_York EST
END:STANDARD
BEGIN:STANDARD
DTSTART:20271107T010000
RDATE:20280312T030000
TZOFFSETFROM:-0400
TZOFFSETTO:-0500
TZNAME:America/New_York EST
END:STANDARD
BEGIN:STANDARD
DTSTART:20281105T010000
RDATE:20290311T030000
TZOFFSETFROM:-0400
TZOFFSETTO:-0500
TZNAME:America/New_York EST
END:STANDARD
BEGIN:STANDARD
DTSTART:20291104T010000
RDATE:20300310T030000
TZOFFSETFROM:-0400
TZOFFSETTO:-0500
TZNAME:America/New_York EST
END:STANDARD
BEGIN:STANDARD
DTSTART:20301103T010000
RDATE:20310309T030000
TZOFFSETFROM:-0400
TZOFFSETTO:-0500
TZNAME:America/New_York EST
END:STANDARD
BEGIN:STANDARD
DTSTART:20311102T010000
RDATE:20320314T030000
TZOFFSETFROM:-0400
TZOFFSETTO:-0500
TZNAME:America/New_York EST
END:STANDARD
BEGIN:DAYLIGHT
DTSTART:20200308T030000
RDATE:20201101T010000
TZOFFSETFROM:-0500
TZOFFSETTO:-0400
TZNAME:America/New_York EDT
END:DAYLIGHT
BEGIN:DAYLIGHT
DTSTART:20210314T030000
RDATE:20211107T010000
TZOFFSETFROM:-0500
TZOFFSETTO:-0400
TZNAME:America/New_York EDT
END:DAYLIGHT
BEGIN:DAYLIGHT
DTSTART:20220313T030000
RDATE:20221106T010000
TZOFFSETFROM:-0500
TZOFFSETTO:-0400
TZNAME:America/New_York EDT
END:DAYLIGHT
BEGIN:DAYLIGHT
DTSTART:20230312T030000
RDATE:20231105T010000
TZOFFSETFROM:-0500
TZOFFSETTO:-0400
TZNAME:America/New_York EDT
END:DAYLIGHT
BEGIN:DAYLIGHT
DTSTART:20240310T030000
RDATE:20241103T010000
TZOFFSETFROM:-0500
TZOFFSETTO:-0400
TZNAME:America/New_York EDT
END:DAYLIGHT
BEGIN:DAYLIGHT
DTSTART:20250309T030000
RDATE:20251102T010000
TZOFFSETFROM:-0500
TZOFFSETTO:-0400
TZNAME:America/New_York EDT
END:DAYLIGHT
BEGIN:DAYLIGHT
DTSTART:20260308T030000
RDATE:20261101T010000
TZOFFSETFROM:-0500
TZOFFSETTO:-0400
TZNAME:America/New_York EDT
END:DAYLIGHT
BEGIN:DAYLIGHT
DTSTART:20270314T030000
RDATE:20271107T010000
TZOFFSETFROM:-0500
TZOFFSETTO:-0400
TZNAME:America/New_York EDT
END:DAYLIGHT
BEGIN:DAYLIGHT
DTSTART:20280312T030000
RDATE:20281105T010000
TZOFFSETFROM:-0500
TZOFFSETTO:-0400
TZNAME:America/New_York EDT
END:DAYLIGHT
BEGIN:DAYLIGHT
DTSTART:20290311T030000
RDATE:20291104T010000
TZOFFSETFROM:-0500
TZOFFSETTO:-0400
TZNAME:America/New_York EDT
END:DAYLIGHT
BEGIN:DAYLIGHT
DTSTART:20300310T030000
RDATE:20301103T010000
TZOFFSETFROM:-0500
TZOFFSETTO:-0400
TZNAME:America/New_York EDT
END:DAYLIGHT
BEGIN:DAYLIGHT
DTSTART:20310309T030000
RDATE:20311102T010000
TZOFFSETFROM:-0500
TZOFFSETTO:-0400
TZNAME:America/New_York EDT
END:DAYLIGHT
END:VTIMEZONE
BEGIN:VEVENT
UID:ec60fa1f4685c433bd2ef0575ca72bd5
CATEGORIES:Art-Camps
CREATED:20201106T204907
SUMMARY:The Best Pick! Thanksgiving Mini Art Camps November 23-27
LOCATION:Art In The Pod
DESCRIPTION:MINI CAMPS ARE BACK AT ART IN THE POD!\nThe Best Pick! Thanksgiving Mini Ar
 t Camp\nLet your pumpkin be the shining star in this warm and moving painti
 ng in the style of Vincent Van Gogh! Campers will also enjoy creating a pum
 pkin patch using the technique of printmaking!First Project: 11”X14” Acryli
 c Canvas Painting\nSecond Project: Printmaking ProjectEach session will off
 er unique projects, so feel free to sign up for more than just one! Morning
 , Afternoon and Full Day mini camp sessions available.\nBring a nut-free sn
 ack and a beverage. Dress for mess.WEDNESDAY, NOVEMBER 25\n9:00 AM-12:00 PM
 REGISTER TODAY AT ARTINTHEPOD.COM OR CALL 215-355-9278\nAGES 6-12\nSpace is
  limited! Register today online at artinthepod.com or call 215-355-9278.\nO
 nly $52 per session.\nAges 6-12.\nMorning: 9am-12pm\nAfternoon: 1pm-4pm\nFu
 ll Day available.\n\n
X-ALT-DESC;FMTTYPE=text/html:<h3><strong>MINI CAMPS ARE BACK AT ART IN THE POD!<br />The Best Pick! Than
 ksgiving Mini Art Camp<br /></strong></h3><h3>Let your pumpkin be the shini
 ng star in this warm and moving painting in the style of Vincent Van Gogh! 
 Campers will also enjoy creating a pumpkin patch using the technique of pri
 ntmaking!</h3><h3>First Project: 11”X14” Acrylic Canvas Painting<br />Secon
 d Project: Printmaking Project</h3><h3>Each session will offer unique proje
 cts, so feel free to sign up for more than just one! Morning, Afternoon and
  Full Day mini camp sessions available.<br /><strong><em>Bring a nut-free s
 nack and a beverage. Dress for mess.</em></strong></h3><h2><strong>WEDNESDA
 Y, NOVEMBER 25</strong><br /><strong>9:00 AM-12:00 PM</strong></h2><p>REGIS
 TER TODAY AT ARTINTHEPOD.COM OR CALL 215-355-9278<br />AGES 6-12</p><p>Spac
 e is limited! Register today online at artinthepod.com or call 215-355-9278
 .<br />Only $52 per session.<br />Ages 6-12.<br />Morning: 9am-12pm<br />Af
 ternoon: 1pm-4pm<br />Full Day available<strong>.</strong></p><p></p>
DTSTAMP:20260424T110545
DTSTART;TZID=America/New_York:20201125T090000
DTEND;TZID=America/New_York:20201125T120000
SEQUENCE:0
TRANSP:OPAQUE
END:VEVENT
END:VCALENDAR