BEGIN:VCALENDAR
VERSION:2.0
PRODID:-//jEvents 2.0 for Joomla//EN
CALSCALE:GREGORIAN
METHOD:PUBLISH
BEGIN:VTIMEZONE
TZID:America/New_York
BEGIN:STANDARD
DTSTART:20161106T010000
RDATE:20170312T030000
TZOFFSETFROM:-0400
TZOFFSETTO:-0500
TZNAME:America/New_York EST
END:STANDARD
BEGIN:STANDARD
DTSTART:20171105T010000
RDATE:20180311T030000
TZOFFSETFROM:-0400
TZOFFSETTO:-0500
TZNAME:America/New_York EST
END:STANDARD
BEGIN:STANDARD
DTSTART:20181104T010000
RDATE:20190310T030000
TZOFFSETFROM:-0400
TZOFFSETTO:-0500
TZNAME:America/New_York EST
END:STANDARD
BEGIN:STANDARD
DTSTART:20191103T010000
RDATE:20200308T030000
TZOFFSETFROM:-0400
TZOFFSETTO:-0500
TZNAME:America/New_York EST
END:STANDARD
BEGIN:STANDARD
DTSTART:20201101T010000
RDATE:20210314T030000
TZOFFSETFROM:-0400
TZOFFSETTO:-0500
TZNAME:America/New_York EST
END:STANDARD
BEGIN:STANDARD
DTSTART:20211107T010000
RDATE:20220313T030000
TZOFFSETFROM:-0400
TZOFFSETTO:-0500
TZNAME:America/New_York EST
END:STANDARD
BEGIN:STANDARD
DTSTART:20221106T010000
RDATE:20230312T030000
TZOFFSETFROM:-0400
TZOFFSETTO:-0500
TZNAME:America/New_York EST
END:STANDARD
BEGIN:STANDARD
DTSTART:20231105T010000
RDATE:20240310T030000
TZOFFSETFROM:-0400
TZOFFSETTO:-0500
TZNAME:America/New_York EST
END:STANDARD
BEGIN:STANDARD
DTSTART:20241103T010000
RDATE:20250309T030000
TZOFFSETFROM:-0400
TZOFFSETTO:-0500
TZNAME:America/New_York EST
END:STANDARD
BEGIN:STANDARD
DTSTART:20251102T010000
RDATE:20260308T030000
TZOFFSETFROM:-0400
TZOFFSETTO:-0500
TZNAME:America/New_York EST
END:STANDARD
BEGIN:STANDARD
DTSTART:20261101T010000
RDATE:20270314T030000
TZOFFSETFROM:-0400
TZOFFSETTO:-0500
TZNAME:America/New_York EST
END:STANDARD
BEGIN:STANDARD
DTSTART:20271107T010000
RDATE:20280312T030000
TZOFFSETFROM:-0400
TZOFFSETTO:-0500
TZNAME:America/New_York EST
END:STANDARD
BEGIN:STANDARD
DTSTART:20281105T010000
RDATE:20290311T030000
TZOFFSETFROM:-0400
TZOFFSETTO:-0500
TZNAME:America/New_York EST
END:STANDARD
BEGIN:STANDARD
DTSTART:20291104T010000
RDATE:20300310T030000
TZOFFSETFROM:-0400
TZOFFSETTO:-0500
TZNAME:America/New_York EST
END:STANDARD
BEGIN:STANDARD
DTSTART:20301103T010000
RDATE:20310309T030000
TZOFFSETFROM:-0400
TZOFFSETTO:-0500
TZNAME:America/New_York EST
END:STANDARD
BEGIN:STANDARD
DTSTART:20311102T010000
RDATE:20320314T030000
TZOFFSETFROM:-0400
TZOFFSETTO:-0500
TZNAME:America/New_York EST
END:STANDARD
BEGIN:DAYLIGHT
DTSTART:20161020T190000
RDATE:20161106T010000
TZOFFSETFROM:-0500
TZOFFSETTO:-0400
TZNAME:America/New_York EDT
END:DAYLIGHT
BEGIN:DAYLIGHT
DTSTART:20170312T030000
RDATE:20171105T010000
TZOFFSETFROM:-0500
TZOFFSETTO:-0400
TZNAME:America/New_York EDT
END:DAYLIGHT
BEGIN:DAYLIGHT
DTSTART:20180311T030000
RDATE:20181104T010000
TZOFFSETFROM:-0500
TZOFFSETTO:-0400
TZNAME:America/New_York EDT
END:DAYLIGHT
BEGIN:DAYLIGHT
DTSTART:20190310T030000
RDATE:20191103T010000
TZOFFSETFROM:-0500
TZOFFSETTO:-0400
TZNAME:America/New_York EDT
END:DAYLIGHT
BEGIN:DAYLIGHT
DTSTART:20200308T030000
RDATE:20201101T010000
TZOFFSETFROM:-0500
TZOFFSETTO:-0400
TZNAME:America/New_York EDT
END:DAYLIGHT
BEGIN:DAYLIGHT
DTSTART:20210314T030000
RDATE:20211107T010000
TZOFFSETFROM:-0500
TZOFFSETTO:-0400
TZNAME:America/New_York EDT
END:DAYLIGHT
BEGIN:DAYLIGHT
DTSTART:20220313T030000
RDATE:20221106T010000
TZOFFSETFROM:-0500
TZOFFSETTO:-0400
TZNAME:America/New_York EDT
END:DAYLIGHT
BEGIN:DAYLIGHT
DTSTART:20230312T030000
RDATE:20231105T010000
TZOFFSETFROM:-0500
TZOFFSETTO:-0400
TZNAME:America/New_York EDT
END:DAYLIGHT
BEGIN:DAYLIGHT
DTSTART:20240310T030000
RDATE:20241103T010000
TZOFFSETFROM:-0500
TZOFFSETTO:-0400
TZNAME:America/New_York EDT
END:DAYLIGHT
BEGIN:DAYLIGHT
DTSTART:20250309T030000
RDATE:20251102T010000
TZOFFSETFROM:-0500
TZOFFSETTO:-0400
TZNAME:America/New_York EDT
END:DAYLIGHT
BEGIN:DAYLIGHT
DTSTART:20260308T030000
RDATE:20261101T010000
TZOFFSETFROM:-0500
TZOFFSETTO:-0400
TZNAME:America/New_York EDT
END:DAYLIGHT
BEGIN:DAYLIGHT
DTSTART:20270314T030000
RDATE:20271107T010000
TZOFFSETFROM:-0500
TZOFFSETTO:-0400
TZNAME:America/New_York EDT
END:DAYLIGHT
BEGIN:DAYLIGHT
DTSTART:20280312T030000
RDATE:20281105T010000
TZOFFSETFROM:-0500
TZOFFSETTO:-0400
TZNAME:America/New_York EDT
END:DAYLIGHT
BEGIN:DAYLIGHT
DTSTART:20290311T030000
RDATE:20291104T010000
TZOFFSETFROM:-0500
TZOFFSETTO:-0400
TZNAME:America/New_York EDT
END:DAYLIGHT
BEGIN:DAYLIGHT
DTSTART:20300310T030000
RDATE:20301103T010000
TZOFFSETFROM:-0500
TZOFFSETTO:-0400
TZNAME:America/New_York EDT
END:DAYLIGHT
BEGIN:DAYLIGHT
DTSTART:20310309T030000
RDATE:20311102T010000
TZOFFSETFROM:-0500
TZOFFSETTO:-0400
TZNAME:America/New_York EDT
END:DAYLIGHT
END:VTIMEZONE
BEGIN:VEVENT
UID:65a237d78b4f6afbe919a187c0004a1b
CATEGORIES:BYO Events
CREATED:20170928T184157
SUMMARY:Glass Fusion BYOB - Sunset Panel SOLD OUT
LOCATION:Art In The Pod
DESCRIPTION:Glass Fusion - Sunset Panel "SOLD OUT"\n\nPHONE ONLY - REGISTRATION FOR THI
 S EVENT.\nIF YOU REACH OUR VOICEMAIL PLEASE LEAVE THE FOLLOWING INFORMATION
  TO SAVE YOUR PLACE:\nName, How Many People, Date and a Phone Number we can
  call to confirm your seats.\nEvent Description:\nThis classes instruction 
 will be on the Sunset Panel as seen in the picture.\nCreate your very own F
 used Glass art panel while learning the art of glass fusing using Spectrum 
 96 System glass. In this class we will be using a wide variety of materials
  and techniques to create your finished piece. The Finished piece for this 
 class is approximately 7"x5".\nFirst we will use a combination of glass ena
 mels and glazes to paint your initial design onto a 5"x7 " pre-cut glass . 
 After your main design is dry we will  continue adding more embellishments 
 to finish and bring your final creation to life. If you feel creative you m
 ay pick your own design to create your very own glass fusion masterpiece.\n
 Your finished piece will be contour fired to allow a variety of different d
 epths.\nAll works will be ready for pickup in 7 - 14 days.\nCost: $75 Octob
 er SPECIAL $30\n
X-ALT-DESC;FMTTYPE=text/html:<p><strong>Glass Fusion - Sunset Panel <strong>"SOLD OUT"</strong><br /></s
 trong></p><p><strong>PHONE ONLY - REGISTRATION FOR THIS </strong><strong>EV
 ENT</strong>.<br /><strong>IF YOU REACH OUR VOICEMAIL PLEASE LEAVE THE FOLL
 OWING INFORMATION TO SAVE YOUR PLACE:</strong><br />Name, How Many People, 
 Date and a Phone Number we can call to confirm your seats.</p><p><strong>Ev
 ent Description:</strong></p><p>This classes instruction will be on the&nbs
 p;Sunset Panel as seen in the picture.</p><p>Create your very own Fused Gla
 ss art panel while learning the art of glass fusing using Spectrum 96 Syste
 m glass. In this class we will be using a wide variety of materials and tec
 hniques to create your finished piece.&nbsp;The Finished piece&nbsp;for thi
 s class&nbsp;is approximately 7"x5".</p><p>First we will use a combination 
 of&nbsp;glass enamels and glazes to paint&nbsp;your initial design onto a 5
 "x7 " pre-cut glass . After your main design is dry we will&nbsp; continue 
 adding more embellishments to finish and bring your final creation to life.
  If you feel creative you may pick your own design to create your very own 
 glass fusion masterpiece.</p><p>Your finished piece will be contour fired t
 o allow a variety of different depths.</p><p>All works will be ready for pi
 ckup in 7 - 14 days.</p><p><strong>Cost:&nbsp;<span style="text-decoration:
  line-through;">$75</span>&nbsp;October SPECIAL&nbsp;$30</strong></p>
DTSTAMP:20260425T121443
DTSTART;TZID=America/New_York:20171021T190000
DTEND;TZID=America/New_York:20171021T210000
SEQUENCE:0
TRANSP:OPAQUE
END:VEVENT
END:VCALENDAR