BEGIN:VCALENDAR
VERSION:2.0
PRODID:-//jEvents 2.0 for Joomla//EN
CALSCALE:GREGORIAN
METHOD:PUBLISH
BEGIN:VTIMEZONE
TZID:America/New_York
BEGIN:STANDARD
DTSTART:20201101T010000
RDATE:20210314T030000
TZOFFSETFROM:-0400
TZOFFSETTO:-0500
TZNAME:America/New_York EST
END:STANDARD
BEGIN:STANDARD
DTSTART:20211107T010000
RDATE:20220313T030000
TZOFFSETFROM:-0400
TZOFFSETTO:-0500
TZNAME:America/New_York EST
END:STANDARD
BEGIN:STANDARD
DTSTART:20221106T010000
RDATE:20230312T030000
TZOFFSETFROM:-0400
TZOFFSETTO:-0500
TZNAME:America/New_York EST
END:STANDARD
BEGIN:STANDARD
DTSTART:20231105T010000
RDATE:20240310T030000
TZOFFSETFROM:-0400
TZOFFSETTO:-0500
TZNAME:America/New_York EST
END:STANDARD
BEGIN:STANDARD
DTSTART:20241103T010000
RDATE:20250309T030000
TZOFFSETFROM:-0400
TZOFFSETTO:-0500
TZNAME:America/New_York EST
END:STANDARD
BEGIN:STANDARD
DTSTART:20251102T010000
RDATE:20260308T030000
TZOFFSETFROM:-0400
TZOFFSETTO:-0500
TZNAME:America/New_York EST
END:STANDARD
BEGIN:STANDARD
DTSTART:20261101T010000
RDATE:20270314T030000
TZOFFSETFROM:-0400
TZOFFSETTO:-0500
TZNAME:America/New_York EST
END:STANDARD
BEGIN:STANDARD
DTSTART:20271107T010000
RDATE:20280312T030000
TZOFFSETFROM:-0400
TZOFFSETTO:-0500
TZNAME:America/New_York EST
END:STANDARD
BEGIN:STANDARD
DTSTART:20281105T010000
RDATE:20290311T030000
TZOFFSETFROM:-0400
TZOFFSETTO:-0500
TZNAME:America/New_York EST
END:STANDARD
BEGIN:STANDARD
DTSTART:20291104T010000
RDATE:20300310T030000
TZOFFSETFROM:-0400
TZOFFSETTO:-0500
TZNAME:America/New_York EST
END:STANDARD
BEGIN:STANDARD
DTSTART:20301103T010000
RDATE:20310309T030000
TZOFFSETFROM:-0400
TZOFFSETTO:-0500
TZNAME:America/New_York EST
END:STANDARD
BEGIN:STANDARD
DTSTART:20311102T010000
RDATE:20320314T030000
TZOFFSETFROM:-0400
TZOFFSETTO:-0500
TZNAME:America/New_York EST
END:STANDARD
BEGIN:DAYLIGHT
DTSTART:20200801T090000
RDATE:20201101T010000
TZOFFSETFROM:-0500
TZOFFSETTO:-0400
TZNAME:America/New_York EDT
END:DAYLIGHT
BEGIN:DAYLIGHT
DTSTART:20210314T030000
RDATE:20211107T010000
TZOFFSETFROM:-0500
TZOFFSETTO:-0400
TZNAME:America/New_York EDT
END:DAYLIGHT
BEGIN:DAYLIGHT
DTSTART:20220313T030000
RDATE:20221106T010000
TZOFFSETFROM:-0500
TZOFFSETTO:-0400
TZNAME:America/New_York EDT
END:DAYLIGHT
BEGIN:DAYLIGHT
DTSTART:20230312T030000
RDATE:20231105T010000
TZOFFSETFROM:-0500
TZOFFSETTO:-0400
TZNAME:America/New_York EDT
END:DAYLIGHT
BEGIN:DAYLIGHT
DTSTART:20240310T030000
RDATE:20241103T010000
TZOFFSETFROM:-0500
TZOFFSETTO:-0400
TZNAME:America/New_York EDT
END:DAYLIGHT
BEGIN:DAYLIGHT
DTSTART:20250309T030000
RDATE:20251102T010000
TZOFFSETFROM:-0500
TZOFFSETTO:-0400
TZNAME:America/New_York EDT
END:DAYLIGHT
BEGIN:DAYLIGHT
DTSTART:20260308T030000
RDATE:20261101T010000
TZOFFSETFROM:-0500
TZOFFSETTO:-0400
TZNAME:America/New_York EDT
END:DAYLIGHT
BEGIN:DAYLIGHT
DTSTART:20270314T030000
RDATE:20271107T010000
TZOFFSETFROM:-0500
TZOFFSETTO:-0400
TZNAME:America/New_York EDT
END:DAYLIGHT
BEGIN:DAYLIGHT
DTSTART:20280312T030000
RDATE:20281105T010000
TZOFFSETFROM:-0500
TZOFFSETTO:-0400
TZNAME:America/New_York EDT
END:DAYLIGHT
BEGIN:DAYLIGHT
DTSTART:20290311T030000
RDATE:20291104T010000
TZOFFSETFROM:-0500
TZOFFSETTO:-0400
TZNAME:America/New_York EDT
END:DAYLIGHT
BEGIN:DAYLIGHT
DTSTART:20300310T030000
RDATE:20301103T010000
TZOFFSETFROM:-0500
TZOFFSETTO:-0400
TZNAME:America/New_York EDT
END:DAYLIGHT
BEGIN:DAYLIGHT
DTSTART:20310309T030000
RDATE:20311102T010000
TZOFFSETFROM:-0500
TZOFFSETTO:-0400
TZNAME:America/New_York EDT
END:DAYLIGHT
END:VTIMEZONE
BEGIN:VEVENT
UID:88e08636a043f9205b48f32dad9fdb64
CATEGORIES:Art-Camps
CREATED:20210318T183253
SUMMARY:Art Camp 2021 August 2nd-6th GIUSEPPE ARCIMBOLDO! 9am-12pm
LOCATION:Art In The Pod
DESCRIPTION:Art Camp 2021 August 2nd-6th GIUSEPPE ARCIMBOLDO! 9am-12pm\nInspired By Fea
 tured Artist: GIUSEPPE ARCIMBOLDOHave a creative, fun and exciting summer a
 t Art In The Pod!Campers ages 6-12 will be inspired by a different featured
  artist each week as they explore various art mediums such as drawing, canv
 as painting, watercolor, clay building, print making, glass fusion, mixed m
 edia and more!We provide children the opportunity to grow and express their
  own creativity in a fun a nurturing environment.Create fun abstract works 
 of art using color, form and designs! Let your imagination go, using music 
 to create your own geometric masterpieces.Camp Hours:\nMorning Session 9:00
 AM - 12:00PM\nAfternoon Session 1:00PM - 4:00PM\nFull Day Session 9:00AM - 
 4:00PM\n \n\n<a style="font-size: xx-large; font-weight: bolder;" title="Su
 mmer Camp Registration" href="index.php?option=com_hikashop&amp;view=catego
 ry&amp;layout=listing&amp;Itemid=166">REGISTER FOR CAMPS CLICK HERE!</a>\n
X-ALT-DESC;FMTTYPE=text/html:<h2><strong>Art Camp 2021 August 2nd-6th GIUSEPPE ARCIMBOLDO! 9am-12pm</str
 ong><br /><strong>Inspired By Featured Artist:&nbsp;<strong>GIUSEPPE ARCIMB
 OLDO</strong></strong></h2><h3><strong>Have a creative, fun and exciting su
 mmer at Art In The Pod!</strong></h3><h3>Campers ages 6-12 will be inspired
  by a different featured artist each week as they explore various art mediu
 ms such as drawing, canvas painting, watercolor, clay building, print makin
 g, glass fusion, mixed media and more!</h3><h3>We provide children the oppo
 rtunity to grow and express their own creativity in a fun a nurturing envir
 onment.</h3><h3>Create fun abstract works of art using color, form and desi
 gns! Let your imagination go, using music to create your own geometric mast
 erpieces.</h3><p><strong>Camp Hours:</strong><br />Morning Session 9:00AM -
  12:00PM<br />Afternoon Session 1:00PM - 4:00PM<br />Full Day Session 9:00A
 M - 4:00PM</p><p>&nbsp;</p><p><a style="font-size: xx-large; font-weight: b
 older;" title="Summer Camp Registration" href="index.php?option=com_hikasho
 p&amp;view=category&amp;layout=listing&amp;Itemid=166"><span style="color: 
 #ff0000;">REGISTER FOR CAMPS</span> <span style="text-decoration: underline
 ;">CLICK HERE</span>!</a></p><p><a style="font-size: xx-large; font-weight:
  bolder;" title="Summer Camp Registration" href="index.php?option=com_hikas
 hop&amp;view=category&amp;layout=listing&amp;Itemid=166"><span style="color
 : #ff0000;">REGISTER FOR CAMPS</span> <span style="text-decoration: underli
 ne;">CLICK HERE</span>!</a></p>
DTSTAMP:20260424T133857
DTSTART;TZID=America/New_York:20210802T090000
DTEND;TZID=America/New_York:20210806T120000
SEQUENCE:0
TRANSP:OPAQUE
END:VEVENT
END:VCALENDAR