BEGIN:VCALENDAR
VERSION:2.0
PRODID:-//jEvents 2.0 for Joomla//EN
CALSCALE:GREGORIAN
METHOD:PUBLISH
BEGIN:VTIMEZONE
TZID:America/New_York
BEGIN:STANDARD
DTSTART:20201101T010000
RDATE:20210314T030000
TZOFFSETFROM:-0400
TZOFFSETTO:-0500
TZNAME:America/New_York EST
END:STANDARD
BEGIN:STANDARD
DTSTART:20211107T010000
RDATE:20220313T030000
TZOFFSETFROM:-0400
TZOFFSETTO:-0500
TZNAME:America/New_York EST
END:STANDARD
BEGIN:STANDARD
DTSTART:20221106T010000
RDATE:20230312T030000
TZOFFSETFROM:-0400
TZOFFSETTO:-0500
TZNAME:America/New_York EST
END:STANDARD
BEGIN:STANDARD
DTSTART:20231105T010000
RDATE:20240310T030000
TZOFFSETFROM:-0400
TZOFFSETTO:-0500
TZNAME:America/New_York EST
END:STANDARD
BEGIN:STANDARD
DTSTART:20241103T010000
RDATE:20250309T030000
TZOFFSETFROM:-0400
TZOFFSETTO:-0500
TZNAME:America/New_York EST
END:STANDARD
BEGIN:STANDARD
DTSTART:20251102T010000
RDATE:20260308T030000
TZOFFSETFROM:-0400
TZOFFSETTO:-0500
TZNAME:America/New_York EST
END:STANDARD
BEGIN:STANDARD
DTSTART:20261101T010000
RDATE:20270314T030000
TZOFFSETFROM:-0400
TZOFFSETTO:-0500
TZNAME:America/New_York EST
END:STANDARD
BEGIN:STANDARD
DTSTART:20271107T010000
RDATE:20280312T030000
TZOFFSETFROM:-0400
TZOFFSETTO:-0500
TZNAME:America/New_York EST
END:STANDARD
BEGIN:STANDARD
DTSTART:20281105T010000
RDATE:20290311T030000
TZOFFSETFROM:-0400
TZOFFSETTO:-0500
TZNAME:America/New_York EST
END:STANDARD
BEGIN:STANDARD
DTSTART:20291104T010000
RDATE:20300310T030000
TZOFFSETFROM:-0400
TZOFFSETTO:-0500
TZNAME:America/New_York EST
END:STANDARD
BEGIN:STANDARD
DTSTART:20301103T010000
RDATE:20310309T030000
TZOFFSETFROM:-0400
TZOFFSETTO:-0500
TZNAME:America/New_York EST
END:STANDARD
BEGIN:STANDARD
DTSTART:20311102T010000
RDATE:20320314T030000
TZOFFSETFROM:-0400
TZOFFSETTO:-0500
TZNAME:America/New_York EST
END:STANDARD
BEGIN:DAYLIGHT
DTSTART:20200905T090000
RDATE:20201101T010000
TZOFFSETFROM:-0500
TZOFFSETTO:-0400
TZNAME:America/New_York EDT
END:DAYLIGHT
BEGIN:DAYLIGHT
DTSTART:20210314T030000
RDATE:20211107T010000
TZOFFSETFROM:-0500
TZOFFSETTO:-0400
TZNAME:America/New_York EDT
END:DAYLIGHT
BEGIN:DAYLIGHT
DTSTART:20220313T030000
RDATE:20221106T010000
TZOFFSETFROM:-0500
TZOFFSETTO:-0400
TZNAME:America/New_York EDT
END:DAYLIGHT
BEGIN:DAYLIGHT
DTSTART:20230312T030000
RDATE:20231105T010000
TZOFFSETFROM:-0500
TZOFFSETTO:-0400
TZNAME:America/New_York EDT
END:DAYLIGHT
BEGIN:DAYLIGHT
DTSTART:20240310T030000
RDATE:20241103T010000
TZOFFSETFROM:-0500
TZOFFSETTO:-0400
TZNAME:America/New_York EDT
END:DAYLIGHT
BEGIN:DAYLIGHT
DTSTART:20250309T030000
RDATE:20251102T010000
TZOFFSETFROM:-0500
TZOFFSETTO:-0400
TZNAME:America/New_York EDT
END:DAYLIGHT
BEGIN:DAYLIGHT
DTSTART:20260308T030000
RDATE:20261101T010000
TZOFFSETFROM:-0500
TZOFFSETTO:-0400
TZNAME:America/New_York EDT
END:DAYLIGHT
BEGIN:DAYLIGHT
DTSTART:20270314T030000
RDATE:20271107T010000
TZOFFSETFROM:-0500
TZOFFSETTO:-0400
TZNAME:America/New_York EDT
END:DAYLIGHT
BEGIN:DAYLIGHT
DTSTART:20280312T030000
RDATE:20281105T010000
TZOFFSETFROM:-0500
TZOFFSETTO:-0400
TZNAME:America/New_York EDT
END:DAYLIGHT
BEGIN:DAYLIGHT
DTSTART:20290311T030000
RDATE:20291104T010000
TZOFFSETFROM:-0500
TZOFFSETTO:-0400
TZNAME:America/New_York EDT
END:DAYLIGHT
BEGIN:DAYLIGHT
DTSTART:20300310T030000
RDATE:20301103T010000
TZOFFSETFROM:-0500
TZOFFSETTO:-0400
TZNAME:America/New_York EDT
END:DAYLIGHT
BEGIN:DAYLIGHT
DTSTART:20310309T030000
RDATE:20311102T010000
TZOFFSETFROM:-0500
TZOFFSETTO:-0400
TZNAME:America/New_York EDT
END:DAYLIGHT
END:VTIMEZONE
BEGIN:VEVENT
UID:ecd8ec541e5280e00957d3b3973010c2
CATEGORIES:Art-Camps
CREATED:20210904T133008
SUMMARY:GETTING READY FOR FALL! In Studio Mini Art Camp 
LOCATION:Art In The Pod
DESCRIPTION:GETTING READY FOR FALL! In Studio Mini Art Camp\nGATHER YOUR SUPPLIES AND S
 CURRY OVER TO CREATE THIS FRIENDLY SQUIRREL PAINTING!\nFOR THE SECOND PROJE
 CT, KIDS WILL CREATE A HAND-BUILT CLAY ACORN! (THE CLAY PROJECT WILL BE FIR
 ED IN OUR KILN AND WE WILL CALL YOU WHEN IT IS READY TO BE GLAZED).First Pr
 oject: 11”X14” Acrylic Canvas Painting\nSecond Project: Clay Hand BuildingE
 ach session will offer unique projects, so feel free to sign up for more th
 an just one! Morning, Afternoon and Full Day mini camp sessions available.\
 nBring a nut-free snack and a beverage. Dress for mess. \nAges 6-12\n9:00am
  – 12:00pm, 1:00 - 4:00pm or Full Day.\n$52.00 per session\nSpace is limite
 d.\nRegister online at artinthepod.com or call 215-355-9art.\nDress for a m
 ess and bring a nut free snack.\n
X-ALT-DESC;FMTTYPE=text/html:<h3><strong><span style="color: #000000;">GETTING READY FOR FALL! In Studio
  Mini Art Camp</span><br /></strong></h3><h3>GATHER YOUR SUPPLIES AND SCURR
 Y OVER TO CREATE THIS FRIENDLY SQUIRREL PAINTING!<br />FOR THE SECOND PROJE
 CT, KIDS WILL CREATE A HAND-BUILT CLAY ACORN! (THE CLAY PROJECT WILL BE FIR
 ED IN OUR KILN AND WE WILL CALL YOU WHEN IT IS READY TO BE GLAZED).</h3><h3
 ><span style="color: #000000;"><strong>First Project:</strong></span> 11”X1
 4” Acrylic Canvas Painting<br /><span style="color: #000000;"><strong>Secon
 d Project: </strong></span>Clay Hand Building</h3><h3>Each session will off
 er unique projects, so feel free to sign up for more than just one! Morning
 , Afternoon and Full Day mini camp sessions available.<br /><strong><em>Bri
 ng a nut-free snack and a beverage. Dress for mess.</em></strong></h3><p>&n
 bsp;</p><p style="text-align: center;"><strong><span style="color: #000000;
 ">Ages 6-12</span></strong></p><p style="text-align: center;"><strong><span
  style="color: #000000;">9:00am – 12:00pm, 1:00 - 4:00pm or Full Day.</span
 ></strong></p><p style="text-align: center;"><strong><span style="color: #0
 00000;">$52.00 per session</span></strong></p><p style="text-align: center;
 "><strong><span style="color: #000000;">Space is limited.</span></strong></
 p><p style="text-align: center;"><strong><span style="color: #000000;">Regi
 ster online at artinthepod.com or call 215-355-9art.</span></strong></p><p 
 style="text-align: center;"><strong><span style="color: #000000;">Dress for
  a mess and bring a nut free snack.</span></strong></p>
DTSTAMP:20260424T104639
DTSTART;TZID=America/New_York:20210906T090000
DTEND;TZID=America/New_York:20210906T120000
SEQUENCE:0
TRANSP:OPAQUE
END:VEVENT
END:VCALENDAR