BEGIN:VCALENDAR
VERSION:2.0
PRODID:-//jEvents 2.0 for Joomla//EN
CALSCALE:GREGORIAN
METHOD:PUBLISH
BEGIN:VTIMEZONE
TZID:America/New_York
BEGIN:STANDARD
DTSTART:20201101T010000
RDATE:20210314T030000
TZOFFSETFROM:-0400
TZOFFSETTO:-0500
TZNAME:America/New_York EST
END:STANDARD
BEGIN:STANDARD
DTSTART:20211107T010000
RDATE:20220313T030000
TZOFFSETFROM:-0400
TZOFFSETTO:-0500
TZNAME:America/New_York EST
END:STANDARD
BEGIN:STANDARD
DTSTART:20221106T010000
RDATE:20230312T030000
TZOFFSETFROM:-0400
TZOFFSETTO:-0500
TZNAME:America/New_York EST
END:STANDARD
BEGIN:STANDARD
DTSTART:20231105T010000
RDATE:20240310T030000
TZOFFSETFROM:-0400
TZOFFSETTO:-0500
TZNAME:America/New_York EST
END:STANDARD
BEGIN:STANDARD
DTSTART:20241103T010000
RDATE:20250309T030000
TZOFFSETFROM:-0400
TZOFFSETTO:-0500
TZNAME:America/New_York EST
END:STANDARD
BEGIN:STANDARD
DTSTART:20251102T010000
RDATE:20260308T030000
TZOFFSETFROM:-0400
TZOFFSETTO:-0500
TZNAME:America/New_York EST
END:STANDARD
BEGIN:STANDARD
DTSTART:20261101T010000
RDATE:20270314T030000
TZOFFSETFROM:-0400
TZOFFSETTO:-0500
TZNAME:America/New_York EST
END:STANDARD
BEGIN:STANDARD
DTSTART:20271107T010000
RDATE:20280312T030000
TZOFFSETFROM:-0400
TZOFFSETTO:-0500
TZNAME:America/New_York EST
END:STANDARD
BEGIN:STANDARD
DTSTART:20281105T010000
RDATE:20290311T030000
TZOFFSETFROM:-0400
TZOFFSETTO:-0500
TZNAME:America/New_York EST
END:STANDARD
BEGIN:STANDARD
DTSTART:20291104T010000
RDATE:20300310T030000
TZOFFSETFROM:-0400
TZOFFSETTO:-0500
TZNAME:America/New_York EST
END:STANDARD
BEGIN:STANDARD
DTSTART:20301103T010000
RDATE:20310309T030000
TZOFFSETFROM:-0400
TZOFFSETTO:-0500
TZNAME:America/New_York EST
END:STANDARD
BEGIN:STANDARD
DTSTART:20311102T010000
RDATE:20320314T030000
TZOFFSETFROM:-0400
TZOFFSETTO:-0500
TZNAME:America/New_York EST
END:STANDARD
BEGIN:DAYLIGHT
DTSTART:20200906T130000
RDATE:20201101T010000
TZOFFSETFROM:-0500
TZOFFSETTO:-0400
TZNAME:America/New_York EDT
END:DAYLIGHT
BEGIN:DAYLIGHT
DTSTART:20210314T030000
RDATE:20211107T010000
TZOFFSETFROM:-0500
TZOFFSETTO:-0400
TZNAME:America/New_York EDT
END:DAYLIGHT
BEGIN:DAYLIGHT
DTSTART:20220313T030000
RDATE:20221106T010000
TZOFFSETFROM:-0500
TZOFFSETTO:-0400
TZNAME:America/New_York EDT
END:DAYLIGHT
BEGIN:DAYLIGHT
DTSTART:20230312T030000
RDATE:20231105T010000
TZOFFSETFROM:-0500
TZOFFSETTO:-0400
TZNAME:America/New_York EDT
END:DAYLIGHT
BEGIN:DAYLIGHT
DTSTART:20240310T030000
RDATE:20241103T010000
TZOFFSETFROM:-0500
TZOFFSETTO:-0400
TZNAME:America/New_York EDT
END:DAYLIGHT
BEGIN:DAYLIGHT
DTSTART:20250309T030000
RDATE:20251102T010000
TZOFFSETFROM:-0500
TZOFFSETTO:-0400
TZNAME:America/New_York EDT
END:DAYLIGHT
BEGIN:DAYLIGHT
DTSTART:20260308T030000
RDATE:20261101T010000
TZOFFSETFROM:-0500
TZOFFSETTO:-0400
TZNAME:America/New_York EDT
END:DAYLIGHT
BEGIN:DAYLIGHT
DTSTART:20270314T030000
RDATE:20271107T010000
TZOFFSETFROM:-0500
TZOFFSETTO:-0400
TZNAME:America/New_York EDT
END:DAYLIGHT
BEGIN:DAYLIGHT
DTSTART:20280312T030000
RDATE:20281105T010000
TZOFFSETFROM:-0500
TZOFFSETTO:-0400
TZNAME:America/New_York EDT
END:DAYLIGHT
BEGIN:DAYLIGHT
DTSTART:20290311T030000
RDATE:20291104T010000
TZOFFSETFROM:-0500
TZOFFSETTO:-0400
TZNAME:America/New_York EDT
END:DAYLIGHT
BEGIN:DAYLIGHT
DTSTART:20300310T030000
RDATE:20301103T010000
TZOFFSETFROM:-0500
TZOFFSETTO:-0400
TZNAME:America/New_York EDT
END:DAYLIGHT
BEGIN:DAYLIGHT
DTSTART:20310309T030000
RDATE:20311102T010000
TZOFFSETFROM:-0500
TZOFFSETTO:-0400
TZNAME:America/New_York EDT
END:DAYLIGHT
END:VTIMEZONE
BEGIN:VEVENT
UID:a4caa7de0eca0cc5065cbd394f35e6a8
CATEGORIES:Art-Camps
CREATED:20210904T134034
SUMMARY:MUMS THE WORD! In Studio Mini Art Camp 
LOCATION:Art In The Pod
DESCRIPTION:MUMS THE WORD! In Studio Mini Art Camp\nSTEP INTO FALL WITH BASKETS OF MUMS
  AND PAINT YOUR FAVORITE FALL COLORS ON CANVAS! KIDS WILL ALSO EXPLORE DIFF
 ERENT BLENDING TECHNIQUES WITH CHARCOAL IN A STILL LIFE DRAWING!First Proje
 ct: 11”X14” Acrylic Canvas Painting\nSecond Project: Charcoal DrawingEach s
 ession will offer unique projects, so feel free to sign up for more than ju
 st one! Morning, Afternoon and Full Day mini camp sessions available.\nBrin
 g a nut-free snack and a beverage. Dress for mess. \nAges 6-12\n9:00am – 12
 :00pm, 1:00 - 4:00pm or Full Day.\n$52.00 per session\nSpace is limited.\nR
 egister online at artinthepod.com or call 215-355-9art.\nDress for a mess a
 nd bring a nut free snack.\n
X-ALT-DESC;FMTTYPE=text/html:<h3><strong><span style="color: #000000;">MUMS THE WORD! In Studio Mini Art
  Camp</span><br /></strong></h3><h3>STEP INTO FALL WITH BASKETS OF MUMS AND
  PAINT YOUR FAVORITE FALL COLORS ON CANVAS! KIDS WILL ALSO EXPLORE DIFFEREN
 T BLENDING TECHNIQUES WITH CHARCOAL IN A STILL LIFE DRAWING!</h3><h3><span 
 style="color: #000000;"><strong>First Project:</strong></span> 11”X14” Acry
 lic Canvas Painting<br /><span style="color: #000000;"><strong>Second Proje
 ct: </strong></span>Charcoal Drawing</h3><h3>Each session will offer unique
  projects, so feel free to sign up for more than just one! Morning, Afterno
 on and Full Day mini camp sessions available.<br /><strong><em>Bring a nut-
 free snack and a beverage. Dress for mess.</em></strong></h3><p>&nbsp;</p><
 p style="text-align: center;"><strong><span style="color: #000000;">Ages 6-
 12</span></strong></p><p style="text-align: center;"><strong><span style="c
 olor: #000000;">9:00am – 12:00pm, 1:00 - 4:00pm or Full Day.</span></strong
 ></p><p style="text-align: center;"><strong><span style="color: #000000;">$
 52.00 per session</span></strong></p><p style="text-align: center;"><strong
 ><span style="color: #000000;">Space is limited.</span></strong></p><p styl
 e="text-align: center;"><strong><span style="color: #000000;">Register onli
 ne at artinthepod.com or call 215-355-9art.</span></strong></p><p style="te
 xt-align: center;"><strong><span style="color: #000000;">Dress for a mess a
 nd bring a nut free snack.</span></strong></p>
DTSTAMP:20260424T104639
DTSTART;TZID=America/New_York:20210907T130000
DTEND;TZID=America/New_York:20210907T160000
SEQUENCE:0
TRANSP:OPAQUE
END:VEVENT
END:VCALENDAR