BEGIN:VCALENDAR
VERSION:2.0
PRODID:-//jEvents 2.0 for Joomla//EN
CALSCALE:GREGORIAN
METHOD:PUBLISH
BEGIN:VTIMEZONE
TZID:America/New_York
BEGIN:STANDARD
DTSTART:20201101T010000
RDATE:20210314T030000
TZOFFSETFROM:-0400
TZOFFSETTO:-0500
TZNAME:America/New_York EST
END:STANDARD
BEGIN:STANDARD
DTSTART:20211107T010000
RDATE:20220313T030000
TZOFFSETFROM:-0400
TZOFFSETTO:-0500
TZNAME:America/New_York EST
END:STANDARD
BEGIN:STANDARD
DTSTART:20221106T010000
RDATE:20230312T030000
TZOFFSETFROM:-0400
TZOFFSETTO:-0500
TZNAME:America/New_York EST
END:STANDARD
BEGIN:STANDARD
DTSTART:20231105T010000
RDATE:20240310T030000
TZOFFSETFROM:-0400
TZOFFSETTO:-0500
TZNAME:America/New_York EST
END:STANDARD
BEGIN:STANDARD
DTSTART:20241103T010000
RDATE:20250309T030000
TZOFFSETFROM:-0400
TZOFFSETTO:-0500
TZNAME:America/New_York EST
END:STANDARD
BEGIN:STANDARD
DTSTART:20251102T010000
RDATE:20260308T030000
TZOFFSETFROM:-0400
TZOFFSETTO:-0500
TZNAME:America/New_York EST
END:STANDARD
BEGIN:STANDARD
DTSTART:20261101T010000
RDATE:20270314T030000
TZOFFSETFROM:-0400
TZOFFSETTO:-0500
TZNAME:America/New_York EST
END:STANDARD
BEGIN:STANDARD
DTSTART:20271107T010000
RDATE:20280312T030000
TZOFFSETFROM:-0400
TZOFFSETTO:-0500
TZNAME:America/New_York EST
END:STANDARD
BEGIN:STANDARD
DTSTART:20281105T010000
RDATE:20290311T030000
TZOFFSETFROM:-0400
TZOFFSETTO:-0500
TZNAME:America/New_York EST
END:STANDARD
BEGIN:STANDARD
DTSTART:20291104T010000
RDATE:20300310T030000
TZOFFSETFROM:-0400
TZOFFSETTO:-0500
TZNAME:America/New_York EST
END:STANDARD
BEGIN:STANDARD
DTSTART:20301103T010000
RDATE:20310309T030000
TZOFFSETFROM:-0400
TZOFFSETTO:-0500
TZNAME:America/New_York EST
END:STANDARD
BEGIN:STANDARD
DTSTART:20311102T010000
RDATE:20320314T030000
TZOFFSETFROM:-0400
TZOFFSETTO:-0500
TZNAME:America/New_York EST
END:STANDARD
BEGIN:DAYLIGHT
DTSTART:20200907T130000
RDATE:20201101T010000
TZOFFSETFROM:-0500
TZOFFSETTO:-0400
TZNAME:America/New_York EDT
END:DAYLIGHT
BEGIN:DAYLIGHT
DTSTART:20210314T030000
RDATE:20211107T010000
TZOFFSETFROM:-0500
TZOFFSETTO:-0400
TZNAME:America/New_York EDT
END:DAYLIGHT
BEGIN:DAYLIGHT
DTSTART:20220313T030000
RDATE:20221106T010000
TZOFFSETFROM:-0500
TZOFFSETTO:-0400
TZNAME:America/New_York EDT
END:DAYLIGHT
BEGIN:DAYLIGHT
DTSTART:20230312T030000
RDATE:20231105T010000
TZOFFSETFROM:-0500
TZOFFSETTO:-0400
TZNAME:America/New_York EDT
END:DAYLIGHT
BEGIN:DAYLIGHT
DTSTART:20240310T030000
RDATE:20241103T010000
TZOFFSETFROM:-0500
TZOFFSETTO:-0400
TZNAME:America/New_York EDT
END:DAYLIGHT
BEGIN:DAYLIGHT
DTSTART:20250309T030000
RDATE:20251102T010000
TZOFFSETFROM:-0500
TZOFFSETTO:-0400
TZNAME:America/New_York EDT
END:DAYLIGHT
BEGIN:DAYLIGHT
DTSTART:20260308T030000
RDATE:20261101T010000
TZOFFSETFROM:-0500
TZOFFSETTO:-0400
TZNAME:America/New_York EDT
END:DAYLIGHT
BEGIN:DAYLIGHT
DTSTART:20270314T030000
RDATE:20271107T010000
TZOFFSETFROM:-0500
TZOFFSETTO:-0400
TZNAME:America/New_York EDT
END:DAYLIGHT
BEGIN:DAYLIGHT
DTSTART:20280312T030000
RDATE:20281105T010000
TZOFFSETFROM:-0500
TZOFFSETTO:-0400
TZNAME:America/New_York EDT
END:DAYLIGHT
BEGIN:DAYLIGHT
DTSTART:20290311T030000
RDATE:20291104T010000
TZOFFSETFROM:-0500
TZOFFSETTO:-0400
TZNAME:America/New_York EDT
END:DAYLIGHT
BEGIN:DAYLIGHT
DTSTART:20300310T030000
RDATE:20301103T010000
TZOFFSETFROM:-0500
TZOFFSETTO:-0400
TZNAME:America/New_York EDT
END:DAYLIGHT
BEGIN:DAYLIGHT
DTSTART:20310309T030000
RDATE:20311102T010000
TZOFFSETFROM:-0500
TZOFFSETTO:-0400
TZNAME:America/New_York EDT
END:DAYLIGHT
END:VTIMEZONE
BEGIN:VEVENT
UID:99c296309a4bc88388923f5d1bb70713
CATEGORIES:Art-Camps
CREATED:20210904T134613
SUMMARY:PEEK-A-BOO! In Studio Mini Art Camp 
LOCATION:Art In The Pod
DESCRIPTION:PEEK-A-BOO! In Studio Mini Art Camp\nLOOK WHO IS HIDING IN THE GARDEN! CAMP
 ERS WILL HAVE FUN PAINTING THIS ENLARGED FLOWER AND CUTE CATERPILLAR ON CAN
 VAS, INSPIRED BY THE ARTIST GEORGIA O’KEEFFE. FOR THE SECOND PROJECT, KIDS 
 WILL HAVE FUN USING CHALK PASTELS TO CREATE A BEAUTIFUL ENLARGED FLOWER OF 
 THEIR CHOICE!First Project: 11”X14” Acrylic Canvas Painting\nSecond Project
 : Chalk Pastel ProjectEach session will offer unique projects, so feel free
  to sign up for more than just one! Morning, Afternoon and Full Day mini ca
 mp sessions available.\nBring a nut-free snack and a beverage. Dress for me
 ss. \nAges 6-12\n9:00am – 12:00pm, 1:00 - 4:00pm or Full Day.\n$52.00 per s
 ession\nSpace is limited.\nRegister online at artinthepod.com or call 215-3
 55-9art.\nDress for a mess and bring a nut free snack.\n
X-ALT-DESC;FMTTYPE=text/html:<h3><strong><span style="color: #000000;">PEEK-A-BOO! In Studio Mini Art Ca
 mp</span><br /></strong></h3><h3>LOOK WHO IS HIDING IN THE GARDEN! CAMPERS 
 WILL HAVE FUN PAINTING THIS ENLARGED FLOWER AND CUTE CATERPILLAR ON CANVAS,
  INSPIRED BY THE ARTIST GEORGIA O’KEEFFE. FOR THE SECOND PROJECT, KIDS WILL
  HAVE FUN USING CHALK PASTELS TO CREATE A BEAUTIFUL ENLARGED FLOWER OF THEI
 R CHOICE!</h3><h3><span style="color: #000000;"><strong>First Project:</str
 ong></span> 11”X14” Acrylic Canvas Painting<br /><span style="color: #00000
 0;"><strong>Second Project: </strong></span>Chalk Pastel Project</h3><h3>Ea
 ch session will offer unique projects, so feel free to sign up for more tha
 n just one! Morning, Afternoon and Full Day mini camp sessions available.<b
 r /><strong><em>Bring a nut-free snack and a beverage. Dress for mess.</em>
 </strong></h3><p>&nbsp;</p><p style="text-align: center;"><strong><span sty
 le="color: #000000;">Ages 6-12</span></strong></p><p style="text-align: cen
 ter;"><strong><span style="color: #000000;">9:00am – 12:00pm, 1:00 - 4:00pm
  or Full Day.</span></strong></p><p style="text-align: center;"><strong><sp
 an style="color: #000000;">$52.00 per session</span></strong></p><p style="
 text-align: center;"><strong><span style="color: #000000;">Space is limited
 .</span></strong></p><p style="text-align: center;"><strong><span style="co
 lor: #000000;">Register online at artinthepod.com or call 215-355-9art.</sp
 an></strong></p><p style="text-align: center;"><strong><span style="color: 
 #000000;">Dress for a mess and bring a nut free snack.</span></strong></p>
DTSTAMP:20260424T104638
DTSTART;TZID=America/New_York:20210908T130000
DTEND;TZID=America/New_York:20210908T160000
SEQUENCE:0
TRANSP:OPAQUE
END:VEVENT
END:VCALENDAR