BEGIN:VCALENDAR
VERSION:2.0
PRODID:-//jEvents 2.0 for Joomla//EN
CALSCALE:GREGORIAN
METHOD:PUBLISH
BEGIN:VTIMEZONE
TZID:America/New_York
BEGIN:STANDARD
DTSTART:20201125T090000
RDATE:20210314T030000
TZOFFSETFROM:-0400
TZOFFSETTO:-0500
TZNAME:America/New_York EST
END:STANDARD
BEGIN:STANDARD
DTSTART:20211107T010000
RDATE:20220313T030000
TZOFFSETFROM:-0400
TZOFFSETTO:-0500
TZNAME:America/New_York EST
END:STANDARD
BEGIN:STANDARD
DTSTART:20221106T010000
RDATE:20230312T030000
TZOFFSETFROM:-0400
TZOFFSETTO:-0500
TZNAME:America/New_York EST
END:STANDARD
BEGIN:STANDARD
DTSTART:20231105T010000
RDATE:20240310T030000
TZOFFSETFROM:-0400
TZOFFSETTO:-0500
TZNAME:America/New_York EST
END:STANDARD
BEGIN:STANDARD
DTSTART:20241103T010000
RDATE:20250309T030000
TZOFFSETFROM:-0400
TZOFFSETTO:-0500
TZNAME:America/New_York EST
END:STANDARD
BEGIN:STANDARD
DTSTART:20251102T010000
RDATE:20260308T030000
TZOFFSETFROM:-0400
TZOFFSETTO:-0500
TZNAME:America/New_York EST
END:STANDARD
BEGIN:STANDARD
DTSTART:20261101T010000
RDATE:20270314T030000
TZOFFSETFROM:-0400
TZOFFSETTO:-0500
TZNAME:America/New_York EST
END:STANDARD
BEGIN:STANDARD
DTSTART:20271107T010000
RDATE:20280312T030000
TZOFFSETFROM:-0400
TZOFFSETTO:-0500
TZNAME:America/New_York EST
END:STANDARD
BEGIN:STANDARD
DTSTART:20281105T010000
RDATE:20290311T030000
TZOFFSETFROM:-0400
TZOFFSETTO:-0500
TZNAME:America/New_York EST
END:STANDARD
BEGIN:STANDARD
DTSTART:20291104T010000
RDATE:20300310T030000
TZOFFSETFROM:-0400
TZOFFSETTO:-0500
TZNAME:America/New_York EST
END:STANDARD
BEGIN:STANDARD
DTSTART:20301103T010000
RDATE:20310309T030000
TZOFFSETFROM:-0400
TZOFFSETTO:-0500
TZNAME:America/New_York EST
END:STANDARD
BEGIN:STANDARD
DTSTART:20311102T010000
RDATE:20320314T030000
TZOFFSETFROM:-0400
TZOFFSETTO:-0500
TZNAME:America/New_York EST
END:STANDARD
BEGIN:DAYLIGHT
DTSTART:20210314T030000
RDATE:20211107T010000
TZOFFSETFROM:-0500
TZOFFSETTO:-0400
TZNAME:America/New_York EDT
END:DAYLIGHT
BEGIN:DAYLIGHT
DTSTART:20220313T030000
RDATE:20221106T010000
TZOFFSETFROM:-0500
TZOFFSETTO:-0400
TZNAME:America/New_York EDT
END:DAYLIGHT
BEGIN:DAYLIGHT
DTSTART:20230312T030000
RDATE:20231105T010000
TZOFFSETFROM:-0500
TZOFFSETTO:-0400
TZNAME:America/New_York EDT
END:DAYLIGHT
BEGIN:DAYLIGHT
DTSTART:20240310T030000
RDATE:20241103T010000
TZOFFSETFROM:-0500
TZOFFSETTO:-0400
TZNAME:America/New_York EDT
END:DAYLIGHT
BEGIN:DAYLIGHT
DTSTART:20250309T030000
RDATE:20251102T010000
TZOFFSETFROM:-0500
TZOFFSETTO:-0400
TZNAME:America/New_York EDT
END:DAYLIGHT
BEGIN:DAYLIGHT
DTSTART:20260308T030000
RDATE:20261101T010000
TZOFFSETFROM:-0500
TZOFFSETTO:-0400
TZNAME:America/New_York EDT
END:DAYLIGHT
BEGIN:DAYLIGHT
DTSTART:20270314T030000
RDATE:20271107T010000
TZOFFSETFROM:-0500
TZOFFSETTO:-0400
TZNAME:America/New_York EDT
END:DAYLIGHT
BEGIN:DAYLIGHT
DTSTART:20280312T030000
RDATE:20281105T010000
TZOFFSETFROM:-0500
TZOFFSETTO:-0400
TZNAME:America/New_York EDT
END:DAYLIGHT
BEGIN:DAYLIGHT
DTSTART:20290311T030000
RDATE:20291104T010000
TZOFFSETFROM:-0500
TZOFFSETTO:-0400
TZNAME:America/New_York EDT
END:DAYLIGHT
BEGIN:DAYLIGHT
DTSTART:20300310T030000
RDATE:20301103T010000
TZOFFSETFROM:-0500
TZOFFSETTO:-0400
TZNAME:America/New_York EDT
END:DAYLIGHT
BEGIN:DAYLIGHT
DTSTART:20310309T030000
RDATE:20311102T010000
TZOFFSETFROM:-0500
TZOFFSETTO:-0400
TZNAME:America/New_York EDT
END:DAYLIGHT
END:VTIMEZONE
BEGIN:VEVENT
UID:bfc798c245c8e3fc9a3a03f1e89db1ae
CATEGORIES:Art-Camps
CREATED:20211104T181656
SUMMARY:TAKE YOUR PICK! In Studio Mini Art Camp 
LOCATION:Art In The Pod
DESCRIPTION:TAKE YOUR PICK! In Studio Mini Art Camp\nJoin this healthy mouse for a litt
 le nibble! Campers will enjoy painting this curious mouse, in a still life,
  on canvas! For the second project, campers will create a slice of fruit wi
 th clay! This project will need to be fired in our kiln and we will call yo
 u to come back to glaze it!First Project: 11”X14” Acrylic Canvas Painting\n
 Second Project: Clay Making ProjectEach session will offer unique projects,
  so feel free to sign up for more than just one! Morning, Afternoon and Ful
 l Day mini camp sessions available.\nBring a nut-free snack and a beverage.
  Dress for mess. \nAges 6-12\n9:00am – 12:00pm, 1:00 - 4:00pm or Full Day.\
 n$54.00 per session\nSpace is limited.\nRegister online at artinthepod.com 
 or call 215-355-9art.\nDress for a mess and bring a nut free snack.\n
X-ALT-DESC;FMTTYPE=text/html:<h3><strong><span style="color: #000000;">TAKE YOUR PICK! In Studio Mini Ar
 t Camp</span><br /></strong></h3><h3>Join this healthy mouse for a little n
 ibble! Campers will enjoy painting this curious mouse, in a still life, on 
 canvas! For the second project, campers will create a slice of fruit with c
 lay! This project will need to be fired in our kiln and we will call you to
  come back to glaze it!</h3><h3><span style="color: #000000;"><strong>First
  Project:</strong></span> 11”X14” Acrylic Canvas Painting<br /><span style=
 "color: #000000;"><strong>Second Project: </strong></span>Clay Making Proje
 ct</h3><h3>Each session will offer unique projects, so feel free to sign up
  for more than just one! Morning, Afternoon and Full Day mini camp sessions
  available.<br /><strong><em>Bring a nut-free snack and a beverage. Dress f
 or mess.</em></strong></h3><p>&nbsp;</p><p style="text-align: center;"><str
 ong><span style="color: #000000;">Ages 6-12</span></strong></p><p style="te
 xt-align: center;"><strong><span style="color: #000000;">9:00am – 12:00pm, 
 1:00 - 4:00pm or Full Day.</span></strong></p><p style="text-align: center;
 "><strong><span style="color: #000000;">$54.00 per session</span></strong><
 /p><p style="text-align: center;"><strong><span style="color: #000000;">Spa
 ce is limited.</span></strong></p><p style="text-align: center;"><strong><s
 pan style="color: #000000;">Register online at artinthepod.com or call 215-
 355-9art.</span></strong></p><p style="text-align: center;"><strong><span s
 tyle="color: #000000;">Dress for a mess and bring a nut free snack.</span><
 /strong></p>
DTSTAMP:20260424T043247
DTSTART;TZID=America/New_York:20211126T090000
DTEND;TZID=America/New_York:20211126T120000
SEQUENCE:0
TRANSP:OPAQUE
END:VEVENT
END:VCALENDAR