BEGIN:VCALENDAR
VERSION:2.0
PRODID:-//jEvents 2.0 for Joomla//EN
CALSCALE:GREGORIAN
METHOD:PUBLISH
BEGIN:VTIMEZONE
TZID:America/New_York
BEGIN:STANDARD
DTSTART:20201229T090000
RDATE:20210314T030000
TZOFFSETFROM:-0400
TZOFFSETTO:-0500
TZNAME:America/New_York EST
END:STANDARD
BEGIN:STANDARD
DTSTART:20211107T010000
RDATE:20220313T030000
TZOFFSETFROM:-0400
TZOFFSETTO:-0500
TZNAME:America/New_York EST
END:STANDARD
BEGIN:STANDARD
DTSTART:20221106T010000
RDATE:20230312T030000
TZOFFSETFROM:-0400
TZOFFSETTO:-0500
TZNAME:America/New_York EST
END:STANDARD
BEGIN:STANDARD
DTSTART:20231105T010000
RDATE:20240310T030000
TZOFFSETFROM:-0400
TZOFFSETTO:-0500
TZNAME:America/New_York EST
END:STANDARD
BEGIN:STANDARD
DTSTART:20241103T010000
RDATE:20250309T030000
TZOFFSETFROM:-0400
TZOFFSETTO:-0500
TZNAME:America/New_York EST
END:STANDARD
BEGIN:STANDARD
DTSTART:20251102T010000
RDATE:20260308T030000
TZOFFSETFROM:-0400
TZOFFSETTO:-0500
TZNAME:America/New_York EST
END:STANDARD
BEGIN:STANDARD
DTSTART:20261101T010000
RDATE:20270314T030000
TZOFFSETFROM:-0400
TZOFFSETTO:-0500
TZNAME:America/New_York EST
END:STANDARD
BEGIN:STANDARD
DTSTART:20271107T010000
RDATE:20280312T030000
TZOFFSETFROM:-0400
TZOFFSETTO:-0500
TZNAME:America/New_York EST
END:STANDARD
BEGIN:STANDARD
DTSTART:20281105T010000
RDATE:20290311T030000
TZOFFSETFROM:-0400
TZOFFSETTO:-0500
TZNAME:America/New_York EST
END:STANDARD
BEGIN:STANDARD
DTSTART:20291104T010000
RDATE:20300310T030000
TZOFFSETFROM:-0400
TZOFFSETTO:-0500
TZNAME:America/New_York EST
END:STANDARD
BEGIN:STANDARD
DTSTART:20301103T010000
RDATE:20310309T030000
TZOFFSETFROM:-0400
TZOFFSETTO:-0500
TZNAME:America/New_York EST
END:STANDARD
BEGIN:STANDARD
DTSTART:20311102T010000
RDATE:20320314T030000
TZOFFSETFROM:-0400
TZOFFSETTO:-0500
TZNAME:America/New_York EST
END:STANDARD
BEGIN:DAYLIGHT
DTSTART:20210314T030000
RDATE:20211107T010000
TZOFFSETFROM:-0500
TZOFFSETTO:-0400
TZNAME:America/New_York EDT
END:DAYLIGHT
BEGIN:DAYLIGHT
DTSTART:20220313T030000
RDATE:20221106T010000
TZOFFSETFROM:-0500
TZOFFSETTO:-0400
TZNAME:America/New_York EDT
END:DAYLIGHT
BEGIN:DAYLIGHT
DTSTART:20230312T030000
RDATE:20231105T010000
TZOFFSETFROM:-0500
TZOFFSETTO:-0400
TZNAME:America/New_York EDT
END:DAYLIGHT
BEGIN:DAYLIGHT
DTSTART:20240310T030000
RDATE:20241103T010000
TZOFFSETFROM:-0500
TZOFFSETTO:-0400
TZNAME:America/New_York EDT
END:DAYLIGHT
BEGIN:DAYLIGHT
DTSTART:20250309T030000
RDATE:20251102T010000
TZOFFSETFROM:-0500
TZOFFSETTO:-0400
TZNAME:America/New_York EDT
END:DAYLIGHT
BEGIN:DAYLIGHT
DTSTART:20260308T030000
RDATE:20261101T010000
TZOFFSETFROM:-0500
TZOFFSETTO:-0400
TZNAME:America/New_York EDT
END:DAYLIGHT
BEGIN:DAYLIGHT
DTSTART:20270314T030000
RDATE:20271107T010000
TZOFFSETFROM:-0500
TZOFFSETTO:-0400
TZNAME:America/New_York EDT
END:DAYLIGHT
BEGIN:DAYLIGHT
DTSTART:20280312T030000
RDATE:20281105T010000
TZOFFSETFROM:-0500
TZOFFSETTO:-0400
TZNAME:America/New_York EDT
END:DAYLIGHT
BEGIN:DAYLIGHT
DTSTART:20290311T030000
RDATE:20291104T010000
TZOFFSETFROM:-0500
TZOFFSETTO:-0400
TZNAME:America/New_York EDT
END:DAYLIGHT
BEGIN:DAYLIGHT
DTSTART:20300310T030000
RDATE:20301103T010000
TZOFFSETFROM:-0500
TZOFFSETTO:-0400
TZNAME:America/New_York EDT
END:DAYLIGHT
BEGIN:DAYLIGHT
DTSTART:20310309T030000
RDATE:20311102T010000
TZOFFSETFROM:-0500
TZOFFSETTO:-0400
TZNAME:America/New_York EDT
END:DAYLIGHT
END:VTIMEZONE
BEGIN:VEVENT
UID:e5cdd0483c3e4f32f73d09aeb285a1a3
CATEGORIES:Art-Camps
CREATED:20211211T190710
SUMMARY:SNOWBOARDER! In Studio Mini Art Camp 
LOCATION:Art In The Pod
DESCRIPTION:SNOWBOARDER! In Studio Mini Art Camp\nJump on board and ride in style as we
  paint this snowboarding penguin on canvas!  Campers will also explore with
  oil pastels and create an owl in a winter landscape.First Project: 11”X14”
  Acrylic Canvas Painting\nSecond Project: Oil Pastel ProjectEach session wi
 ll offer unique projects, so feel free to sign up for more than just one! M
 orning, Afternoon and Full Day mini camp sessions available.\nBring a nut-f
 ree snack and a beverage. Dress for mess. \nAges 6-12\n9:00am – 12:00pm, 1:
 00 - 4:00pm or Full Day.\n$54.00 per session\nSpace is limited.\nRegister o
 nline at artinthepod.com or call 215-355-9art.\nDress for a mess and bring 
 a nut free snack.\n
X-ALT-DESC;FMTTYPE=text/html:<h3><strong><span style="color: #000000;">SNOWBOARDER! In Studio Mini Art C
 amp</span><br /></strong></h3><h3>Jump on board and ride in style as we pai
 nt this snowboarding penguin on canvas!&nbsp; Campers will also explore wit
 h oil pastels and create an owl in a winter landscape.</h3><h3><span style=
 "color: #000000;"><strong>First Project:</strong></span> 11”X14” Acrylic Ca
 nvas Painting<br /><span style="color: #000000;"><strong>Second Project: </
 strong></span>Oil Pastel Project</h3><h3>Each session will offer unique pro
 jects, so feel free to sign up for more than just one! Morning, Afternoon a
 nd Full Day mini camp sessions available.<br /><strong><em>Bring a nut-free
  snack and a beverage. Dress for mess.</em></strong></h3><p>&nbsp;</p><p st
 yle="text-align: center;"><strong><span style="color: #000000;">Ages 6-12</
 span></strong></p><p style="text-align: center;"><strong><span style="color
 : #000000;">9:00am – 12:00pm, 1:00 - 4:00pm or Full Day.</span></strong></p
 ><p style="text-align: center;"><strong><span style="color: #000000;">$54.0
 0 per session</span></strong></p><p style="text-align: center;"><strong><sp
 an style="color: #000000;">Space is limited.</span></strong></p><p style="t
 ext-align: center;"><strong><span style="color: #000000;">Register online a
 t artinthepod.com or call 215-355-9art.</span></strong></p><p style="text-a
 lign: center;"><strong><span style="color: #000000;">Dress for a mess and b
 ring a nut free snack.</span></strong></p>
DTSTAMP:20260423T230126
DTSTART;TZID=America/New_York:20211230T090000
DTEND;TZID=America/New_York:20211230T120000
SEQUENCE:0
TRANSP:OPAQUE
END:VEVENT
END:VCALENDAR