BEGIN:VCALENDAR
VERSION:2.0
PRODID:-//jEvents 2.0 for Joomla//EN
CALSCALE:GREGORIAN
METHOD:PUBLISH
BEGIN:VTIMEZONE
TZID:America/New_York
BEGIN:STANDARD
DTSTART:20171105T010000
RDATE:20180311T030000
TZOFFSETFROM:-0400
TZOFFSETTO:-0500
TZNAME:America/New_York EST
END:STANDARD
BEGIN:STANDARD
DTSTART:20181104T010000
RDATE:20190310T030000
TZOFFSETFROM:-0400
TZOFFSETTO:-0500
TZNAME:America/New_York EST
END:STANDARD
BEGIN:STANDARD
DTSTART:20191103T010000
RDATE:20200308T030000
TZOFFSETFROM:-0400
TZOFFSETTO:-0500
TZNAME:America/New_York EST
END:STANDARD
BEGIN:STANDARD
DTSTART:20201101T010000
RDATE:20210314T030000
TZOFFSETFROM:-0400
TZOFFSETTO:-0500
TZNAME:America/New_York EST
END:STANDARD
BEGIN:STANDARD
DTSTART:20211107T010000
RDATE:20220313T030000
TZOFFSETFROM:-0400
TZOFFSETTO:-0500
TZNAME:America/New_York EST
END:STANDARD
BEGIN:STANDARD
DTSTART:20221106T010000
RDATE:20230312T030000
TZOFFSETFROM:-0400
TZOFFSETTO:-0500
TZNAME:America/New_York EST
END:STANDARD
BEGIN:STANDARD
DTSTART:20231105T010000
RDATE:20240310T030000
TZOFFSETFROM:-0400
TZOFFSETTO:-0500
TZNAME:America/New_York EST
END:STANDARD
BEGIN:STANDARD
DTSTART:20241103T010000
RDATE:20250309T030000
TZOFFSETFROM:-0400
TZOFFSETTO:-0500
TZNAME:America/New_York EST
END:STANDARD
BEGIN:STANDARD
DTSTART:20251102T010000
RDATE:20260308T030000
TZOFFSETFROM:-0400
TZOFFSETTO:-0500
TZNAME:America/New_York EST
END:STANDARD
BEGIN:STANDARD
DTSTART:20261101T010000
RDATE:20270314T030000
TZOFFSETFROM:-0400
TZOFFSETTO:-0500
TZNAME:America/New_York EST
END:STANDARD
BEGIN:STANDARD
DTSTART:20271107T010000
RDATE:20280312T030000
TZOFFSETFROM:-0400
TZOFFSETTO:-0500
TZNAME:America/New_York EST
END:STANDARD
BEGIN:STANDARD
DTSTART:20281105T010000
RDATE:20290311T030000
TZOFFSETFROM:-0400
TZOFFSETTO:-0500
TZNAME:America/New_York EST
END:STANDARD
BEGIN:STANDARD
DTSTART:20291104T010000
RDATE:20300310T030000
TZOFFSETFROM:-0400
TZOFFSETTO:-0500
TZNAME:America/New_York EST
END:STANDARD
BEGIN:STANDARD
DTSTART:20301103T010000
RDATE:20310309T030000
TZOFFSETFROM:-0400
TZOFFSETTO:-0500
TZNAME:America/New_York EST
END:STANDARD
BEGIN:STANDARD
DTSTART:20311102T010000
RDATE:20320314T030000
TZOFFSETFROM:-0400
TZOFFSETTO:-0500
TZNAME:America/New_York EST
END:STANDARD
BEGIN:DAYLIGHT
DTSTART:20170325T130000
RDATE:20171105T010000
TZOFFSETFROM:-0500
TZOFFSETTO:-0400
TZNAME:America/New_York EDT
END:DAYLIGHT
BEGIN:DAYLIGHT
DTSTART:20180311T030000
RDATE:20181104T010000
TZOFFSETFROM:-0500
TZOFFSETTO:-0400
TZNAME:America/New_York EDT
END:DAYLIGHT
BEGIN:DAYLIGHT
DTSTART:20190310T030000
RDATE:20191103T010000
TZOFFSETFROM:-0500
TZOFFSETTO:-0400
TZNAME:America/New_York EDT
END:DAYLIGHT
BEGIN:DAYLIGHT
DTSTART:20200308T030000
RDATE:20201101T010000
TZOFFSETFROM:-0500
TZOFFSETTO:-0400
TZNAME:America/New_York EDT
END:DAYLIGHT
BEGIN:DAYLIGHT
DTSTART:20210314T030000
RDATE:20211107T010000
TZOFFSETFROM:-0500
TZOFFSETTO:-0400
TZNAME:America/New_York EDT
END:DAYLIGHT
BEGIN:DAYLIGHT
DTSTART:20220313T030000
RDATE:20221106T010000
TZOFFSETFROM:-0500
TZOFFSETTO:-0400
TZNAME:America/New_York EDT
END:DAYLIGHT
BEGIN:DAYLIGHT
DTSTART:20230312T030000
RDATE:20231105T010000
TZOFFSETFROM:-0500
TZOFFSETTO:-0400
TZNAME:America/New_York EDT
END:DAYLIGHT
BEGIN:DAYLIGHT
DTSTART:20240310T030000
RDATE:20241103T010000
TZOFFSETFROM:-0500
TZOFFSETTO:-0400
TZNAME:America/New_York EDT
END:DAYLIGHT
BEGIN:DAYLIGHT
DTSTART:20250309T030000
RDATE:20251102T010000
TZOFFSETFROM:-0500
TZOFFSETTO:-0400
TZNAME:America/New_York EDT
END:DAYLIGHT
BEGIN:DAYLIGHT
DTSTART:20260308T030000
RDATE:20261101T010000
TZOFFSETFROM:-0500
TZOFFSETTO:-0400
TZNAME:America/New_York EDT
END:DAYLIGHT
BEGIN:DAYLIGHT
DTSTART:20270314T030000
RDATE:20271107T010000
TZOFFSETFROM:-0500
TZOFFSETTO:-0400
TZNAME:America/New_York EDT
END:DAYLIGHT
BEGIN:DAYLIGHT
DTSTART:20280312T030000
RDATE:20281105T010000
TZOFFSETFROM:-0500
TZOFFSETTO:-0400
TZNAME:America/New_York EDT
END:DAYLIGHT
BEGIN:DAYLIGHT
DTSTART:20290311T030000
RDATE:20291104T010000
TZOFFSETFROM:-0500
TZOFFSETTO:-0400
TZNAME:America/New_York EDT
END:DAYLIGHT
BEGIN:DAYLIGHT
DTSTART:20300310T030000
RDATE:20301103T010000
TZOFFSETFROM:-0500
TZOFFSETTO:-0400
TZNAME:America/New_York EDT
END:DAYLIGHT
BEGIN:DAYLIGHT
DTSTART:20310309T030000
RDATE:20311102T010000
TZOFFSETFROM:-0500
TZOFFSETTO:-0400
TZNAME:America/New_York EDT
END:DAYLIGHT
END:VTIMEZONE
BEGIN:VEVENT
UID:330897ebda36836d04d221f56a5f39d2
CATEGORIES:Art-Camps
CREATED:20180303T204549
SUMMARY:PM Art Mini-Camp "Spring Splash"
LOCATION:Art In The Pod
DESCRIPTION:Spring Splash\nAs birds return in warmer weather, campers will make a splas
 h painting an acrylic birdbath scene on an 11x14" canvas. For the second pr
 oject, kids will create a birdhouse painting using watercolors.Monday, Marc
 h 26th\n1:00 P.M. -4:00 P.M.\n1ST PROJECT: 11X14 INCH CANVAS PAINTING\n2ND 
 PROJECT: For the second project, kids will create a birdhouse painting usin
 g watercolors.\nREGISTER TODAY AT ARTINTHEPOD.COM OR CALL 215-355-9278\nONL
 Y 38.00 PER SESSION!\nAGES 6-12\nSPRING BREAK MINI CAMPS Hurry, space is li
 mited! Register today online at artinthepod.com or call 215-355-9278. Only 
 $38 per session Ages 6-12 Morning: 9am-12pm Afternoon: 1pm-4pm Full Day ava
 ilable Each day, we will celebrate Spring with a canvas painting and explor
 e other art mediums such as watercolor, drawing, pastels, clay, glass fusio
 n, mixed media, printmaking and more! Please bring a nut-free snack and dre
 ss for a mess.\nART IN THE POD\n216 BUSTLETON PIKE\nCHURCHVILLE, PA 18966\n
X-ALT-DESC;FMTTYPE=text/html:<h3><strong>Spring Splash<br />As birds return in warmer weather, campers w
 ill make a splash painting an acrylic birdbath scene on an 11x14" canvas. F
 or the second project, kids will create a birdhouse painting using watercol
 ors.</strong></h3><p><strong>Monday, March 26th</strong><br /><strong>1:00 
 P.M. -4:00 P.M.</strong><br /><strong>1ST PROJECT:</strong> 11X14 INCH CANV
 AS PAINTING<br /><strong>2ND PROJECT:</strong> For the second project, kids
  will create a birdhouse painting using watercolors.</p><p>REGISTER TODAY A
 T ARTINTHEPOD.COM OR CALL 215-355-9278<br />ONLY 38.00 PER SESSION!<br />AG
 ES 6-12</p><p>SPRING BREAK MINI CAMPS Hurry, space is limited! Register tod
 ay online at artinthepod.com or call 215-355-9278. Only $38 per session Age
 s 6-12 Morning: 9am-12pm Afternoon: 1pm-4pm Full Day available Each day, we
  will celebrate Spring with a canvas painting and explore other art mediums
  such as watercolor, drawing, pastels, clay, glass fusion, mixed media, pri
 ntmaking and more! Please bring a nut-free snack and dress for a mess.</p><
 p><strong>ART IN THE POD</strong><br /><strong>216 BUSTLETON PIKE</strong><
 br /><strong>CHURCHVILLE, PA 18966</strong></p>
DTSTAMP:20260425T020221
DTSTART;TZID=America/New_York:20180326T130000
DTEND;TZID=America/New_York:20180326T160000
SEQUENCE:0
TRANSP:OPAQUE
END:VEVENT
END:VCALENDAR