BEGIN:VCALENDAR
VERSION:2.0
PRODID:-//jEvents 2.0 for Joomla//EN
CALSCALE:GREGORIAN
METHOD:PUBLISH
BEGIN:VTIMEZONE
TZID:America/New_York
BEGIN:STANDARD
DTSTART:20161106T010000
RDATE:20170312T030000
TZOFFSETFROM:-0400
TZOFFSETTO:-0500
TZNAME:America/New_York EST
END:STANDARD
BEGIN:STANDARD
DTSTART:20171105T010000
RDATE:20180311T030000
TZOFFSETFROM:-0400
TZOFFSETTO:-0500
TZNAME:America/New_York EST
END:STANDARD
BEGIN:STANDARD
DTSTART:20181104T010000
RDATE:20190310T030000
TZOFFSETFROM:-0400
TZOFFSETTO:-0500
TZNAME:America/New_York EST
END:STANDARD
BEGIN:STANDARD
DTSTART:20191103T010000
RDATE:20200308T030000
TZOFFSETFROM:-0400
TZOFFSETTO:-0500
TZNAME:America/New_York EST
END:STANDARD
BEGIN:STANDARD
DTSTART:20201101T010000
RDATE:20210314T030000
TZOFFSETFROM:-0400
TZOFFSETTO:-0500
TZNAME:America/New_York EST
END:STANDARD
BEGIN:STANDARD
DTSTART:20211107T010000
RDATE:20220313T030000
TZOFFSETFROM:-0400
TZOFFSETTO:-0500
TZNAME:America/New_York EST
END:STANDARD
BEGIN:STANDARD
DTSTART:20221106T010000
RDATE:20230312T030000
TZOFFSETFROM:-0400
TZOFFSETTO:-0500
TZNAME:America/New_York EST
END:STANDARD
BEGIN:STANDARD
DTSTART:20231105T010000
RDATE:20240310T030000
TZOFFSETFROM:-0400
TZOFFSETTO:-0500
TZNAME:America/New_York EST
END:STANDARD
BEGIN:STANDARD
DTSTART:20241103T010000
RDATE:20250309T030000
TZOFFSETFROM:-0400
TZOFFSETTO:-0500
TZNAME:America/New_York EST
END:STANDARD
BEGIN:STANDARD
DTSTART:20251102T010000
RDATE:20260308T030000
TZOFFSETFROM:-0400
TZOFFSETTO:-0500
TZNAME:America/New_York EST
END:STANDARD
BEGIN:STANDARD
DTSTART:20261101T010000
RDATE:20270314T030000
TZOFFSETFROM:-0400
TZOFFSETTO:-0500
TZNAME:America/New_York EST
END:STANDARD
BEGIN:STANDARD
DTSTART:20271107T010000
RDATE:20280312T030000
TZOFFSETFROM:-0400
TZOFFSETTO:-0500
TZNAME:America/New_York EST
END:STANDARD
BEGIN:STANDARD
DTSTART:20281105T010000
RDATE:20290311T030000
TZOFFSETFROM:-0400
TZOFFSETTO:-0500
TZNAME:America/New_York EST
END:STANDARD
BEGIN:STANDARD
DTSTART:20291104T010000
RDATE:20300310T030000
TZOFFSETFROM:-0400
TZOFFSETTO:-0500
TZNAME:America/New_York EST
END:STANDARD
BEGIN:STANDARD
DTSTART:20301103T010000
RDATE:20310309T030000
TZOFFSETFROM:-0400
TZOFFSETTO:-0500
TZNAME:America/New_York EST
END:STANDARD
BEGIN:STANDARD
DTSTART:20311102T010000
RDATE:20320314T030000
TZOFFSETFROM:-0400
TZOFFSETTO:-0500
TZNAME:America/New_York EST
END:STANDARD
BEGIN:DAYLIGHT
DTSTART:20161027T193000
RDATE:20161106T010000
TZOFFSETFROM:-0500
TZOFFSETTO:-0400
TZNAME:America/New_York EDT
END:DAYLIGHT
BEGIN:DAYLIGHT
DTSTART:20170312T030000
RDATE:20171105T010000
TZOFFSETFROM:-0500
TZOFFSETTO:-0400
TZNAME:America/New_York EDT
END:DAYLIGHT
BEGIN:DAYLIGHT
DTSTART:20180311T030000
RDATE:20181104T010000
TZOFFSETFROM:-0500
TZOFFSETTO:-0400
TZNAME:America/New_York EDT
END:DAYLIGHT
BEGIN:DAYLIGHT
DTSTART:20190310T030000
RDATE:20191103T010000
TZOFFSETFROM:-0500
TZOFFSETTO:-0400
TZNAME:America/New_York EDT
END:DAYLIGHT
BEGIN:DAYLIGHT
DTSTART:20200308T030000
RDATE:20201101T010000
TZOFFSETFROM:-0500
TZOFFSETTO:-0400
TZNAME:America/New_York EDT
END:DAYLIGHT
BEGIN:DAYLIGHT
DTSTART:20210314T030000
RDATE:20211107T010000
TZOFFSETFROM:-0500
TZOFFSETTO:-0400
TZNAME:America/New_York EDT
END:DAYLIGHT
BEGIN:DAYLIGHT
DTSTART:20220313T030000
RDATE:20221106T010000
TZOFFSETFROM:-0500
TZOFFSETTO:-0400
TZNAME:America/New_York EDT
END:DAYLIGHT
BEGIN:DAYLIGHT
DTSTART:20230312T030000
RDATE:20231105T010000
TZOFFSETFROM:-0500
TZOFFSETTO:-0400
TZNAME:America/New_York EDT
END:DAYLIGHT
BEGIN:DAYLIGHT
DTSTART:20240310T030000
RDATE:20241103T010000
TZOFFSETFROM:-0500
TZOFFSETTO:-0400
TZNAME:America/New_York EDT
END:DAYLIGHT
BEGIN:DAYLIGHT
DTSTART:20250309T030000
RDATE:20251102T010000
TZOFFSETFROM:-0500
TZOFFSETTO:-0400
TZNAME:America/New_York EDT
END:DAYLIGHT
BEGIN:DAYLIGHT
DTSTART:20260308T030000
RDATE:20261101T010000
TZOFFSETFROM:-0500
TZOFFSETTO:-0400
TZNAME:America/New_York EDT
END:DAYLIGHT
BEGIN:DAYLIGHT
DTSTART:20270314T030000
RDATE:20271107T010000
TZOFFSETFROM:-0500
TZOFFSETTO:-0400
TZNAME:America/New_York EDT
END:DAYLIGHT
BEGIN:DAYLIGHT
DTSTART:20280312T030000
RDATE:20281105T010000
TZOFFSETFROM:-0500
TZOFFSETTO:-0400
TZNAME:America/New_York EDT
END:DAYLIGHT
BEGIN:DAYLIGHT
DTSTART:20290311T030000
RDATE:20291104T010000
TZOFFSETFROM:-0500
TZOFFSETTO:-0400
TZNAME:America/New_York EDT
END:DAYLIGHT
BEGIN:DAYLIGHT
DTSTART:20300310T030000
RDATE:20301103T010000
TZOFFSETFROM:-0500
TZOFFSETTO:-0400
TZNAME:America/New_York EDT
END:DAYLIGHT
BEGIN:DAYLIGHT
DTSTART:20310309T030000
RDATE:20311102T010000
TZOFFSETFROM:-0500
TZOFFSETTO:-0400
TZNAME:America/New_York EDT
END:DAYLIGHT
END:VTIMEZONE
BEGIN:VEVENT
UID:e817aed2cd64592bc461787d10e7584e
CATEGORIES:BYO Events
CREATED:20171015T190347
SUMMARY:Public Acrylic Paint Pouring - Starry Night
LOCATION:Art In The Pod
DESCRIPTION:Acrylic Paint Pouring with additional techniques to create your very own ve
 rsion of "Starry Night"We know so many of you have been waiting patiently f
 or our acrylic paint pouring classes. Well, here it is, open to the public.
 Class Description:In this class you will be guided through the evening with
  a step step instruction on our very own fluid version of the famous Starry
  Night by Vincent. "Acrylic Paint Pouring classes" Our newest addition to t
 he studio. With fluid painting it's much easier to achieve what many artist
  study years to perfect. We will warm up with some paint mixing and a dirty
  pour on one of our 6x6' plaster canvases. This first pour should help you 
 with a better understanding of how the paint flows and blends together on a
  plaster canvas. After a short break to reorganize and give you a chance to
  pour some of your favorite beverage, We will move onto the main creation o
 f the evening. Since we are creating objects in our pour, we have found the
  best size canvas to use is 8x10 inches. Not to big and not to small, after
  all this class is about fun and leaving your stress outside. Please take a
  look at the video's and important information below before registering.\nI
 mportant Class InformationFirst and most important... Dress for a MESS!\nAc
 rylic paint does stain clothes. Please dress accordingly. We do supply apro
 ns but if you are like us, a painter that likes to get into their work, the
 n please, please, please dress for the paint.\nYou will most likely have to
  leave your paintings overnight to dry.\nClass Fee: $45 per person\nInstruc
 tors: Nina/Jane/Rich\nMinimum Age: 16\nSupplies Needed: None, all provided.
 \nSkill Level: All\nDress Code: We have aprons available, but it is always 
 wise to wear old clothes as this can be a messy (but extremely fun!) projec
 t.\nPick Up Your Dried and Coated Piece of Art On or After Friday, November
  3rd\n\nSo many of you have been in the studio and have seen how amazing th
 e resin finish looks on these pieces. There are some extra steps that must 
 be completed before you can apply a gloss or resin finish.(see below)\nIn t
 hese first classes we will be including the optional Resin coating to Bring
  Out the Inner Vibrance in the Colors of Your Piece. (due to the process of
  drying, preparation and resin application your piece will be available for
  pick within 3-5 days) In future classes we will be charging for this addit
 ional service.\n \nTERMS: \nPayment Policy: Payment online or in studio is 
 required to guarantee your reservation. No Vouchers Accepted. Reservations 
 Will Automatically Cancel In 60 Minutes If Payment Is Not Completed. Need h
 elp to complete your reservation? Call us at 215.355.9278 to complete your 
 reservation.\nCancellation/Refund/Studio Credit Policy: We require 7 day no
 tice of cancellation for this event so that we may offer your spot to someo
 ne else. A full refund will be given for individuals cancelling with 7 or m
 ore days notice only.\nMiscellaneous: If you are registering for your guest
  we suggest you notify them of these terms.\n \n \n\n
X-ALT-DESC;FMTTYPE=text/html:<h2>Acrylic Paint Pouring with additional techniques to create your very ow
 n version of "Starry Night"</h2><h3>We know so many of you have been waitin
 g patiently for our acrylic paint pouring classes. Well, here it is, open t
 o the public.</h3><h3>Class Description:</h3><p>In this class you will be g
 uided through the evening with a step step instruction on our very own flui
 d version of the famous Starry Night by Vincent. "Acrylic Paint Pouring cla
 sses" Our newest addition to the studio. With fluid painting it's much easi
 er to achieve what many artist study years to perfect. We will warm up with
  some paint mixing and a dirty pour on one of our 6x6' plaster canvases. Th
 is first pour should help you with a better understanding of how the paint 
 flows and blends together on a plaster canvas. After a short break to reorg
 anize and give you a chance to pour some of your favorite beverage, We will
  move onto the main creation of the evening. Since we are creating objects 
 in our pour, we have found the best size canvas to use is 8x10 inches. Not 
 to big and not to small, after all this class is about fun and leaving your
  stress outside. Please take a look at the video's and important informatio
 n below before registering.</p><h3><strong>Important Class Information</str
 ong></h3><p>First and most important... <strong>Dress for a MESS!</strong><
 br />Acrylic paint does stain clothes. Please dress accordingly. We do supp
 ly aprons but if you are like us, a painter that likes to get into their wo
 rk, then please, please, please dress for the paint.<br />You will most lik
 ely have to leave your paintings overnight to dry.</p><p><strong>Class Fee:
 </strong> $45 per person<br /><strong>Instructors:</strong> Nina/Jane/Rich<
 br /><strong>Minimum Age:</strong> 16<br /><strong>Supplies Needed:</strong
 > None, all provided.<br /><strong>Skill Level:</strong> All<br /><strong>D
 ress Code:</strong> We have aprons available, but it is always wise to wear
  old clothes as this can be a messy (but extremely fun!) project.<br />Pick
  Up Your Dried and Coated Piece of Art On or After Friday, November 3rd</p>
 <p><br />So many of you have been in the studio and have seen how amazing t
 he resin finish looks on these pieces. There are some extra steps that must
  be completed before you can apply a gloss or resin finish.(see below)<br /
 ><strong>In these first classes we will be including the optional <span sty
 le="text-decoration: underline;">Resin coating to Bring Out the Inner Vibra
 nce in the Colors of Your Piece.</span></strong> (due to the process of dry
 ing, preparation and resin application your piece will be available for pic
 k within 3-5 days) In future classes we will be charging for this additiona
 l service.</p><p>&nbsp;</p><p><strong>TERMS: <br />Payment Policy:</strong>
  Payment online or in studio is required to guarantee your reservation. No 
 Vouchers Accepted. <span id="rsvp_field26_span_"><span style="text-decorati
 on: underline;">Reservations Will Automatically Cancel In 60 Minutes If Pay
 ment Is Not Completed</span>. Need help to complete your reservation? Call 
 us at 215.355.9278 to complete your reservation.<br /></span><strong>Cancel
 lation/Refund/Studio Credit Policy:</strong> We require 7 day notice of can
 cellation for this event so that we may offer your spot to someone else. A 
 full refund will be given for individuals cancelling with 7 or more days no
 tice only.<br /><strong>Miscellaneous: </strong>If you are registering for 
 your guest we suggest you notify them of these terms.</p><p>&nbsp;</p><p>&n
 bsp;</p><p><iframe src="https://www.youtube.com/embed/UJdoVdXiJbA" width="5
 60" height="315" frameborder="0" allowfullscreen="allowfullscreen"></iframe
 ></p>
DTSTAMP:20260425T101818
DTSTART;TZID=America/New_York:20171028T193000
DTEND;TZID=America/New_York:20171028T213000
SEQUENCE:0
TRANSP:OPAQUE
END:VEVENT
END:VCALENDAR