BEGIN:VCALENDAR
VERSION:2.0
PRODID:-//jEvents 2.0 for Joomla//EN
CALSCALE:GREGORIAN
METHOD:PUBLISH
BEGIN:VTIMEZONE
TZID:America/New_York
BEGIN:STANDARD
DTSTART:20161124T193000
RDATE:20170312T030000
TZOFFSETFROM:-0400
TZOFFSETTO:-0500
TZNAME:America/New_York EST
END:STANDARD
BEGIN:STANDARD
DTSTART:20171105T010000
RDATE:20180311T030000
TZOFFSETFROM:-0400
TZOFFSETTO:-0500
TZNAME:America/New_York EST
END:STANDARD
BEGIN:STANDARD
DTSTART:20181104T010000
RDATE:20190310T030000
TZOFFSETFROM:-0400
TZOFFSETTO:-0500
TZNAME:America/New_York EST
END:STANDARD
BEGIN:STANDARD
DTSTART:20191103T010000
RDATE:20200308T030000
TZOFFSETFROM:-0400
TZOFFSETTO:-0500
TZNAME:America/New_York EST
END:STANDARD
BEGIN:STANDARD
DTSTART:20201101T010000
RDATE:20210314T030000
TZOFFSETFROM:-0400
TZOFFSETTO:-0500
TZNAME:America/New_York EST
END:STANDARD
BEGIN:STANDARD
DTSTART:20211107T010000
RDATE:20220313T030000
TZOFFSETFROM:-0400
TZOFFSETTO:-0500
TZNAME:America/New_York EST
END:STANDARD
BEGIN:STANDARD
DTSTART:20221106T010000
RDATE:20230312T030000
TZOFFSETFROM:-0400
TZOFFSETTO:-0500
TZNAME:America/New_York EST
END:STANDARD
BEGIN:STANDARD
DTSTART:20231105T010000
RDATE:20240310T030000
TZOFFSETFROM:-0400
TZOFFSETTO:-0500
TZNAME:America/New_York EST
END:STANDARD
BEGIN:STANDARD
DTSTART:20241103T010000
RDATE:20250309T030000
TZOFFSETFROM:-0400
TZOFFSETTO:-0500
TZNAME:America/New_York EST
END:STANDARD
BEGIN:STANDARD
DTSTART:20251102T010000
RDATE:20260308T030000
TZOFFSETFROM:-0400
TZOFFSETTO:-0500
TZNAME:America/New_York EST
END:STANDARD
BEGIN:STANDARD
DTSTART:20261101T010000
RDATE:20270314T030000
TZOFFSETFROM:-0400
TZOFFSETTO:-0500
TZNAME:America/New_York EST
END:STANDARD
BEGIN:STANDARD
DTSTART:20271107T010000
RDATE:20280312T030000
TZOFFSETFROM:-0400
TZOFFSETTO:-0500
TZNAME:America/New_York EST
END:STANDARD
BEGIN:STANDARD
DTSTART:20281105T010000
RDATE:20290311T030000
TZOFFSETFROM:-0400
TZOFFSETTO:-0500
TZNAME:America/New_York EST
END:STANDARD
BEGIN:STANDARD
DTSTART:20291104T010000
RDATE:20300310T030000
TZOFFSETFROM:-0400
TZOFFSETTO:-0500
TZNAME:America/New_York EST
END:STANDARD
BEGIN:STANDARD
DTSTART:20301103T010000
RDATE:20310309T030000
TZOFFSETFROM:-0400
TZOFFSETTO:-0500
TZNAME:America/New_York EST
END:STANDARD
BEGIN:STANDARD
DTSTART:20311102T010000
RDATE:20320314T030000
TZOFFSETFROM:-0400
TZOFFSETTO:-0500
TZNAME:America/New_York EST
END:STANDARD
BEGIN:DAYLIGHT
DTSTART:20170312T030000
RDATE:20171105T010000
TZOFFSETFROM:-0500
TZOFFSETTO:-0400
TZNAME:America/New_York EDT
END:DAYLIGHT
BEGIN:DAYLIGHT
DTSTART:20180311T030000
RDATE:20181104T010000
TZOFFSETFROM:-0500
TZOFFSETTO:-0400
TZNAME:America/New_York EDT
END:DAYLIGHT
BEGIN:DAYLIGHT
DTSTART:20190310T030000
RDATE:20191103T010000
TZOFFSETFROM:-0500
TZOFFSETTO:-0400
TZNAME:America/New_York EDT
END:DAYLIGHT
BEGIN:DAYLIGHT
DTSTART:20200308T030000
RDATE:20201101T010000
TZOFFSETFROM:-0500
TZOFFSETTO:-0400
TZNAME:America/New_York EDT
END:DAYLIGHT
BEGIN:DAYLIGHT
DTSTART:20210314T030000
RDATE:20211107T010000
TZOFFSETFROM:-0500
TZOFFSETTO:-0400
TZNAME:America/New_York EDT
END:DAYLIGHT
BEGIN:DAYLIGHT
DTSTART:20220313T030000
RDATE:20221106T010000
TZOFFSETFROM:-0500
TZOFFSETTO:-0400
TZNAME:America/New_York EDT
END:DAYLIGHT
BEGIN:DAYLIGHT
DTSTART:20230312T030000
RDATE:20231105T010000
TZOFFSETFROM:-0500
TZOFFSETTO:-0400
TZNAME:America/New_York EDT
END:DAYLIGHT
BEGIN:DAYLIGHT
DTSTART:20240310T030000
RDATE:20241103T010000
TZOFFSETFROM:-0500
TZOFFSETTO:-0400
TZNAME:America/New_York EDT
END:DAYLIGHT
BEGIN:DAYLIGHT
DTSTART:20250309T030000
RDATE:20251102T010000
TZOFFSETFROM:-0500
TZOFFSETTO:-0400
TZNAME:America/New_York EDT
END:DAYLIGHT
BEGIN:DAYLIGHT
DTSTART:20260308T030000
RDATE:20261101T010000
TZOFFSETFROM:-0500
TZOFFSETTO:-0400
TZNAME:America/New_York EDT
END:DAYLIGHT
BEGIN:DAYLIGHT
DTSTART:20270314T030000
RDATE:20271107T010000
TZOFFSETFROM:-0500
TZOFFSETTO:-0400
TZNAME:America/New_York EDT
END:DAYLIGHT
BEGIN:DAYLIGHT
DTSTART:20280312T030000
RDATE:20281105T010000
TZOFFSETFROM:-0500
TZOFFSETTO:-0400
TZNAME:America/New_York EDT
END:DAYLIGHT
BEGIN:DAYLIGHT
DTSTART:20290311T030000
RDATE:20291104T010000
TZOFFSETFROM:-0500
TZOFFSETTO:-0400
TZNAME:America/New_York EDT
END:DAYLIGHT
BEGIN:DAYLIGHT
DTSTART:20300310T030000
RDATE:20301103T010000
TZOFFSETFROM:-0500
TZOFFSETTO:-0400
TZNAME:America/New_York EDT
END:DAYLIGHT
BEGIN:DAYLIGHT
DTSTART:20310309T030000
RDATE:20311102T010000
TZOFFSETFROM:-0500
TZOFFSETTO:-0400
TZNAME:America/New_York EDT
END:DAYLIGHT
END:VTIMEZONE
BEGIN:VEVENT
UID:a2454a600b556c6ca144f247294c304b
CATEGORIES:BYO Events
CREATED:20171016T060534
SUMMARY:Public Acrylic Paint Pouring - Acrylic Cells Pour on Three 8"x8" studio cast plaster canvases
LOCATION:Art In The Pod
DESCRIPTION:Acrylic Paint Pouring with additional techniques to create your very own ve
 rsion of "Acrylic Cells Pour on Three 8"x8" studio cast plaster canvases "C
 lass Description:In this class you will be guided through the evening with 
 a step step instruction on Acrylic Paint Pouring Our newest addition to the
  studio. With fluid painting it's much easier to achieve what many artist s
 tudy years to perfect. We will warm up with some paint mixing and a dirty p
 our on one of our studio cast 8" x 8" plaster canvases. This first pour sho
 uld help you with a better understanding of how the paint flows and blends 
 together on a plaster canvas. After a short break to reorganize and give yo
 u a chance to pour some of your favorite beverage, We will complete your ad
 ditional poured creations. This class is all about fun and leaving your str
 ess outside. Please take a look at the video's and important information be
 low before registering.\nImportant Class InformationFirst and most importan
 t... Dress for a MESS!\nAcrylic paint does stain clothes. Please dress acco
 rdingly. We do supply aprons but if you are like us, a painter that likes t
 o get into their work, then please, please, please dress for the paint.\nYo
 u will most likely have to leave your paintings overnight to dry.\nClass Fe
 e: $45 per person\nInstructors: Nina/Rich\nMinimum Age: 16\nSupplies Needed
 : None, all provided.\nSkill Level: All\nDress Code: We have aprons availab
 le, but it is always wise to wear old clothes as this can be a messy (but e
 xtremely fun!) project.\n\nSo many of you have been in the studio and have 
 seen how amazing the resin finish looks on these pieces. There are some ext
 ra steps that must be completed before you can apply a gloss or resin finis
 h.(see below)\nIn this class we will be including the optional Resin coatin
 g to Bring Out the Inner Vibrance in the Colors of One of Your Pieces. (due
  to the process of drying, preparation and resin application your resined p
 iece(s) will be available for pick within 7-10 days).\n \nTERMS: \nPayment 
 Policy: Payment online or in studio is required to guarantee your reservati
 on. No Vouchers Accepted. Reservations Will Automatically Cancel In 60 Minu
 tes If Payment Is Not Completed. Need help to complete your reservation? Ca
 ll us at 215.355.92787 to complete your reservation.\nCancellation/Refund/S
 tudio Credit Policy: We require 7 day notice of cancellation for this event
  so that we may offer your spot to someone else. A full refund will be give
 n for individuals cancelling with 7 or more days notice only.\nMiscellaneou
 s: If you are registering for your guest we suggest you notify them of thes
 e terms.\n \n \n\n\n \n
X-ALT-DESC;FMTTYPE=text/html:<h2>Acrylic Paint Pouring with additional techniques to create your very ow
 n version of "Acrylic Cells Pour on Three 8"x8"&nbsp;studio cast plaster ca
 nvases "</h2><h3>Class Description:</h3><p>In this class you will be guided
  through the evening with a step step instruction on Acrylic Paint Pouring 
 Our newest addition to the studio. With fluid painting it's much easier to 
 achieve what many artist study years to perfect. We will warm up with some 
 paint mixing and a dirty pour on one of our studio cast 8" x 8" plaster can
 vases. This first pour should help you with a better understanding of how t
 he paint flows and blends together on a plaster canvas. After a short break
  to reorganize and give you a chance to pour some of your favorite beverage
 , We will complete your additional poured creations. This class is all abou
 t fun and leaving your stress outside. Please take a look at the video's an
 d important information below before registering.</p><h3><strong>Important 
 Class Information</strong></h3><p>First and most important... <strong>Dress
  for a MESS!</strong><br />Acrylic paint does stain clothes. Please dress a
 ccordingly. We do supply aprons but if you are like us, a painter that like
 s to get into their work, then please, please, please dress for the paint.<
 br />You will most likely have to leave your paintings overnight to dry.</p
 ><p><strong>Class Fee:</strong> $45 per person<br /><strong>Instructors:</s
 trong> Nina/Rich<br /><strong>Minimum Age:</strong> 16<br /><strong>Supplie
 s Needed:</strong> None, all provided.<br /><strong>Skill Level:</strong> A
 ll<br /><strong>Dress Code:</strong> We have aprons available, but it is al
 ways wise to wear old clothes as this can be a messy (but extremely fun!) p
 roject.</p><p><br />So many of you have been in the studio and have seen ho
 w amazing the resin finish looks on these pieces. There are some extra step
 s that must be completed before you can apply a gloss or resin finish.(see 
 below)<br /><strong>In this class we will be including the optional <span s
 tyle="text-decoration: underline;">Resin coating to Bring Out the Inner Vib
 rance in the Colors of One of Your Pieces.</span></strong> (due to the proc
 ess of drying, preparation and resin application your resined piece(s) will
  be available for pick within 7-10 days).</p><p>&nbsp;</p><p><strong>TERMS:
  <br />Payment Policy:</strong> Payment online or in studio is required to 
 guarantee your reservation. No Vouchers Accepted. <span id="rsvp_field26_sp
 an_"><span style="text-decoration: underline;">Reservations Will Automatica
 lly Cancel In 60 Minutes If Payment Is Not Completed</span>. Need help to c
 omplete your reservation? Call us at 215.355.92787 to complete your reserva
 tion.<br /></span><strong>Cancellation/Refund/Studio Credit Policy:</strong
 > We require 7 day notice of cancellation for this event so that we may off
 er your spot to someone else. A full refund will be given for individuals c
 ancelling with 7 or more days notice only.<br /><strong>Miscellaneous: </st
 rong>If you are registering for your guest we suggest you notify them of th
 ese terms.</p><p>&nbsp;</p><p>&nbsp;</p><p><iframe src="https://www.youtube
 .com/embed/eFEwneloefI" width="560" height="315" frameborder="0" allowfulls
 creen="allowfullscreen"></iframe></p><p><iframe src="https://www.youtube.co
 m/embed/nuqe5fw3TLM" width="560" height="315" frameborder="0" allowfullscre
 en="allowfullscreen"></iframe></p><p>&nbsp;</p>
DTSTAMP:20260425T104549
DTSTART;TZID=America/New_York:20171125T193000
DTEND;TZID=America/New_York:20171125T213000
SEQUENCE:0
TRANSP:OPAQUE
END:VEVENT
END:VCALENDAR