BEGIN:VCALENDAR
VERSION:2.0
PRODID:-//jEvents 2.0 for Joomla//EN
CALSCALE:GREGORIAN
METHOD:PUBLISH
BEGIN:VTIMEZONE
TZID:America/New_York
BEGIN:STANDARD
DTSTART:20171105T010000
RDATE:20180311T030000
TZOFFSETFROM:-0400
TZOFFSETTO:-0500
TZNAME:America/New_York EST
END:STANDARD
BEGIN:STANDARD
DTSTART:20181104T010000
RDATE:20190310T030000
TZOFFSETFROM:-0400
TZOFFSETTO:-0500
TZNAME:America/New_York EST
END:STANDARD
BEGIN:STANDARD
DTSTART:20191103T010000
RDATE:20200308T030000
TZOFFSETFROM:-0400
TZOFFSETTO:-0500
TZNAME:America/New_York EST
END:STANDARD
BEGIN:STANDARD
DTSTART:20201101T010000
RDATE:20210314T030000
TZOFFSETFROM:-0400
TZOFFSETTO:-0500
TZNAME:America/New_York EST
END:STANDARD
BEGIN:STANDARD
DTSTART:20211107T010000
RDATE:20220313T030000
TZOFFSETFROM:-0400
TZOFFSETTO:-0500
TZNAME:America/New_York EST
END:STANDARD
BEGIN:STANDARD
DTSTART:20221106T010000
RDATE:20230312T030000
TZOFFSETFROM:-0400
TZOFFSETTO:-0500
TZNAME:America/New_York EST
END:STANDARD
BEGIN:STANDARD
DTSTART:20231105T010000
RDATE:20240310T030000
TZOFFSETFROM:-0400
TZOFFSETTO:-0500
TZNAME:America/New_York EST
END:STANDARD
BEGIN:STANDARD
DTSTART:20241103T010000
RDATE:20250309T030000
TZOFFSETFROM:-0400
TZOFFSETTO:-0500
TZNAME:America/New_York EST
END:STANDARD
BEGIN:STANDARD
DTSTART:20251102T010000
RDATE:20260308T030000
TZOFFSETFROM:-0400
TZOFFSETTO:-0500
TZNAME:America/New_York EST
END:STANDARD
BEGIN:STANDARD
DTSTART:20261101T010000
RDATE:20270314T030000
TZOFFSETFROM:-0400
TZOFFSETTO:-0500
TZNAME:America/New_York EST
END:STANDARD
BEGIN:STANDARD
DTSTART:20271107T010000
RDATE:20280312T030000
TZOFFSETFROM:-0400
TZOFFSETTO:-0500
TZNAME:America/New_York EST
END:STANDARD
BEGIN:STANDARD
DTSTART:20281105T010000
RDATE:20290311T030000
TZOFFSETFROM:-0400
TZOFFSETTO:-0500
TZNAME:America/New_York EST
END:STANDARD
BEGIN:STANDARD
DTSTART:20291104T010000
RDATE:20300310T030000
TZOFFSETFROM:-0400
TZOFFSETTO:-0500
TZNAME:America/New_York EST
END:STANDARD
BEGIN:STANDARD
DTSTART:20301103T010000
RDATE:20310309T030000
TZOFFSETFROM:-0400
TZOFFSETTO:-0500
TZNAME:America/New_York EST
END:STANDARD
BEGIN:STANDARD
DTSTART:20311102T010000
RDATE:20320314T030000
TZOFFSETFROM:-0400
TZOFFSETTO:-0500
TZNAME:America/New_York EST
END:STANDARD
BEGIN:DAYLIGHT
DTSTART:20170915T150000
RDATE:20171105T010000
TZOFFSETFROM:-0500
TZOFFSETTO:-0400
TZNAME:America/New_York EDT
END:DAYLIGHT
BEGIN:DAYLIGHT
DTSTART:20180311T030000
RDATE:20181104T010000
TZOFFSETFROM:-0500
TZOFFSETTO:-0400
TZNAME:America/New_York EDT
END:DAYLIGHT
BEGIN:DAYLIGHT
DTSTART:20190310T030000
RDATE:20191103T010000
TZOFFSETFROM:-0500
TZOFFSETTO:-0400
TZNAME:America/New_York EDT
END:DAYLIGHT
BEGIN:DAYLIGHT
DTSTART:20200308T030000
RDATE:20201101T010000
TZOFFSETFROM:-0500
TZOFFSETTO:-0400
TZNAME:America/New_York EDT
END:DAYLIGHT
BEGIN:DAYLIGHT
DTSTART:20210314T030000
RDATE:20211107T010000
TZOFFSETFROM:-0500
TZOFFSETTO:-0400
TZNAME:America/New_York EDT
END:DAYLIGHT
BEGIN:DAYLIGHT
DTSTART:20220313T030000
RDATE:20221106T010000
TZOFFSETFROM:-0500
TZOFFSETTO:-0400
TZNAME:America/New_York EDT
END:DAYLIGHT
BEGIN:DAYLIGHT
DTSTART:20230312T030000
RDATE:20231105T010000
TZOFFSETFROM:-0500
TZOFFSETTO:-0400
TZNAME:America/New_York EDT
END:DAYLIGHT
BEGIN:DAYLIGHT
DTSTART:20240310T030000
RDATE:20241103T010000
TZOFFSETFROM:-0500
TZOFFSETTO:-0400
TZNAME:America/New_York EDT
END:DAYLIGHT
BEGIN:DAYLIGHT
DTSTART:20250309T030000
RDATE:20251102T010000
TZOFFSETFROM:-0500
TZOFFSETTO:-0400
TZNAME:America/New_York EDT
END:DAYLIGHT
BEGIN:DAYLIGHT
DTSTART:20260308T030000
RDATE:20261101T010000
TZOFFSETFROM:-0500
TZOFFSETTO:-0400
TZNAME:America/New_York EDT
END:DAYLIGHT
BEGIN:DAYLIGHT
DTSTART:20270314T030000
RDATE:20271107T010000
TZOFFSETFROM:-0500
TZOFFSETTO:-0400
TZNAME:America/New_York EDT
END:DAYLIGHT
BEGIN:DAYLIGHT
DTSTART:20280312T030000
RDATE:20281105T010000
TZOFFSETFROM:-0500
TZOFFSETTO:-0400
TZNAME:America/New_York EDT
END:DAYLIGHT
BEGIN:DAYLIGHT
DTSTART:20290311T030000
RDATE:20291104T010000
TZOFFSETFROM:-0500
TZOFFSETTO:-0400
TZNAME:America/New_York EDT
END:DAYLIGHT
BEGIN:DAYLIGHT
DTSTART:20300310T030000
RDATE:20301103T010000
TZOFFSETFROM:-0500
TZOFFSETTO:-0400
TZNAME:America/New_York EDT
END:DAYLIGHT
BEGIN:DAYLIGHT
DTSTART:20310309T030000
RDATE:20311102T010000
TZOFFSETFROM:-0500
TZOFFSETTO:-0400
TZNAME:America/New_York EDT
END:DAYLIGHT
END:VTIMEZONE
BEGIN:VEVENT
UID:402dcc2955f2b55fa3b3cdd79e5af1dd
CATEGORIES:Workshops
CREATED:20180903T143858
SUMMARY:Blown Glass Ornaments & Watering Globes- Make Your Own! 9/16/18 3PM
LOCATION:Art In The Pod
DESCRIPTION:Blow your own Christmas Ornaments or Glass Watering Globes!\nIn this worksh
 op you will make hand blown watering globes for your plants or glass orname
 nts for holiday gifts/tree.\nThis class includes 4 Glaskolben tubes.\nAddit
 ional tubes are available for $12 each\nWorkshop Cost: $52\nWorkshop Date: 
 September, 16th, 2018\nWorkshop Time: 3PM\nWorkshop Duration: About 45 Minu
 tes\nCLICK HERE TO REGISTER (holiday-workshops/product/321-blown-glass-orna
 ments-watering-globes-make-your-own-9-16-18-3pm)Holiday ornaments are finis
 hed with a classic silver ornament cap.\nAll materials are included!\nYou m
 ust be 18 or older and all participants need a ticket (no spectators). No e
 xperience is necessary. Please wear cotton clothing, close -toed shoes and 
 secure any loose clothing and hair. No polyester clothing allowed!!! (Polye
 ster Melts)\n\nBecause we have limited space for these workshops, all stude
 nts will need to pay for the workshop at the time they register to reserve 
 their spot. Unpaid spots will not be held. Workshop fees will not be refund
 ed, please be 100% positive you will be attending this workshop before you 
 register. Vouchers (Groupon, Etc...) are not accepted for this workshop.\n<
 a href="holiday-workshops/product/321-blown-glass-ornaments-watering-globes
 -make-your-own-9-16-18-3pm">CLICK HERE TO REGISTER</a>
X-ALT-DESC;FMTTYPE=text/html:<p>Blow your own Christmas Ornaments or Glass Watering Globes!<br />In this
  workshop you will make hand blown watering globes for your plants or glass
  ornaments for holiday gifts/tree.<br />This class includes 4 Glaskolben tu
 bes.<br />Additional tubes are available for $12 each</p><p><strong>Worksho
 p Cost:</strong> $52<br /><strong><strong>Workshop </strong>Date: </strong>
 September, 16th, 2018<br /><strong><strong>Workshop </strong>Time:</strong>
  3PM<br /><strong><strong>Workshop </strong>Duration: </strong>About 45 Min
 utes</p><h2><a href="holiday-workshops/product/321-blown-glass-ornaments-wa
 tering-globes-make-your-own-9-16-18-3pm">CLICK HERE TO REGISTER</a></h2><p>
 Holiday ornaments are finished with a classic silver ornament cap.<br />All
  materials are included!</p><p>You must be <strong>18 or older</strong> and
  all participants need a ticket (no spectators). No experience is necessary
 . Please wear cotton clothing, close -toed shoes and secure any loose cloth
 ing and hair. <strong>No polyester clothing allowed!!! (Polyester Melts)</s
 trong></p><p><iframe src="https://www.youtube.com/embed/JC9vxe03S0M" width=
 "560" height="315" frameborder="0" allowfullscreen="allowfullscreen"></ifra
 me></p><p>Because we have limited space for these workshops, all students w
 ill need to pay for the workshop at the time they register to reserve their
  spot. Unpaid spots will not be held. Workshop fees will not be refunded, p
 lease be 100% positive you will be attending&nbsp;this workshop before you 
 register. Vouchers (Groupon, Etc...) are not accepted for this workshop.</p
 ><h2><a href="holiday-workshops/product/321-blown-glass-ornaments-watering-
 globes-make-your-own-9-16-18-3pm">CLICK HERE TO REGISTER</a></h2>
DTSTAMP:20260425T135348
DTSTART;TZID=America/New_York:20180916T150000
SEQUENCE:0
TRANSP:OPAQUE
END:VEVENT
END:VCALENDAR