BEGIN:VCALENDAR
VERSION:2.0
PRODID:-//jEvents 2.0 for Joomla//EN
CALSCALE:GREGORIAN
METHOD:PUBLISH
BEGIN:VTIMEZONE
TZID:America/New_York
BEGIN:STANDARD
DTSTART:20171105T010000
RDATE:20180311T030000
TZOFFSETFROM:-0400
TZOFFSETTO:-0500
TZNAME:America/New_York EST
END:STANDARD
BEGIN:STANDARD
DTSTART:20181104T010000
RDATE:20190310T030000
TZOFFSETFROM:-0400
TZOFFSETTO:-0500
TZNAME:America/New_York EST
END:STANDARD
BEGIN:STANDARD
DTSTART:20191103T010000
RDATE:20200308T030000
TZOFFSETFROM:-0400
TZOFFSETTO:-0500
TZNAME:America/New_York EST
END:STANDARD
BEGIN:STANDARD
DTSTART:20201101T010000
RDATE:20210314T030000
TZOFFSETFROM:-0400
TZOFFSETTO:-0500
TZNAME:America/New_York EST
END:STANDARD
BEGIN:STANDARD
DTSTART:20211107T010000
RDATE:20220313T030000
TZOFFSETFROM:-0400
TZOFFSETTO:-0500
TZNAME:America/New_York EST
END:STANDARD
BEGIN:STANDARD
DTSTART:20221106T010000
RDATE:20230312T030000
TZOFFSETFROM:-0400
TZOFFSETTO:-0500
TZNAME:America/New_York EST
END:STANDARD
BEGIN:STANDARD
DTSTART:20231105T010000
RDATE:20240310T030000
TZOFFSETFROM:-0400
TZOFFSETTO:-0500
TZNAME:America/New_York EST
END:STANDARD
BEGIN:STANDARD
DTSTART:20241103T010000
RDATE:20250309T030000
TZOFFSETFROM:-0400
TZOFFSETTO:-0500
TZNAME:America/New_York EST
END:STANDARD
BEGIN:STANDARD
DTSTART:20251102T010000
RDATE:20260308T030000
TZOFFSETFROM:-0400
TZOFFSETTO:-0500
TZNAME:America/New_York EST
END:STANDARD
BEGIN:STANDARD
DTSTART:20261101T010000
RDATE:20270314T030000
TZOFFSETFROM:-0400
TZOFFSETTO:-0500
TZNAME:America/New_York EST
END:STANDARD
BEGIN:STANDARD
DTSTART:20271107T010000
RDATE:20280312T030000
TZOFFSETFROM:-0400
TZOFFSETTO:-0500
TZNAME:America/New_York EST
END:STANDARD
BEGIN:STANDARD
DTSTART:20281105T010000
RDATE:20290311T030000
TZOFFSETFROM:-0400
TZOFFSETTO:-0500
TZNAME:America/New_York EST
END:STANDARD
BEGIN:STANDARD
DTSTART:20291104T010000
RDATE:20300310T030000
TZOFFSETFROM:-0400
TZOFFSETTO:-0500
TZNAME:America/New_York EST
END:STANDARD
BEGIN:STANDARD
DTSTART:20301103T010000
RDATE:20310309T030000
TZOFFSETFROM:-0400
TZOFFSETTO:-0500
TZNAME:America/New_York EST
END:STANDARD
BEGIN:STANDARD
DTSTART:20311102T010000
RDATE:20320314T030000
TZOFFSETFROM:-0400
TZOFFSETTO:-0500
TZNAME:America/New_York EST
END:STANDARD
BEGIN:DAYLIGHT
DTSTART:20170921T110000
RDATE:20171105T010000
TZOFFSETFROM:-0500
TZOFFSETTO:-0400
TZNAME:America/New_York EDT
END:DAYLIGHT
BEGIN:DAYLIGHT
DTSTART:20180311T030000
RDATE:20181104T010000
TZOFFSETFROM:-0500
TZOFFSETTO:-0400
TZNAME:America/New_York EDT
END:DAYLIGHT
BEGIN:DAYLIGHT
DTSTART:20190310T030000
RDATE:20191103T010000
TZOFFSETFROM:-0500
TZOFFSETTO:-0400
TZNAME:America/New_York EDT
END:DAYLIGHT
BEGIN:DAYLIGHT
DTSTART:20200308T030000
RDATE:20201101T010000
TZOFFSETFROM:-0500
TZOFFSETTO:-0400
TZNAME:America/New_York EDT
END:DAYLIGHT
BEGIN:DAYLIGHT
DTSTART:20210314T030000
RDATE:20211107T010000
TZOFFSETFROM:-0500
TZOFFSETTO:-0400
TZNAME:America/New_York EDT
END:DAYLIGHT
BEGIN:DAYLIGHT
DTSTART:20220313T030000
RDATE:20221106T010000
TZOFFSETFROM:-0500
TZOFFSETTO:-0400
TZNAME:America/New_York EDT
END:DAYLIGHT
BEGIN:DAYLIGHT
DTSTART:20230312T030000
RDATE:20231105T010000
TZOFFSETFROM:-0500
TZOFFSETTO:-0400
TZNAME:America/New_York EDT
END:DAYLIGHT
BEGIN:DAYLIGHT
DTSTART:20240310T030000
RDATE:20241103T010000
TZOFFSETFROM:-0500
TZOFFSETTO:-0400
TZNAME:America/New_York EDT
END:DAYLIGHT
BEGIN:DAYLIGHT
DTSTART:20250309T030000
RDATE:20251102T010000
TZOFFSETFROM:-0500
TZOFFSETTO:-0400
TZNAME:America/New_York EDT
END:DAYLIGHT
BEGIN:DAYLIGHT
DTSTART:20260308T030000
RDATE:20261101T010000
TZOFFSETFROM:-0500
TZOFFSETTO:-0400
TZNAME:America/New_York EDT
END:DAYLIGHT
BEGIN:DAYLIGHT
DTSTART:20270314T030000
RDATE:20271107T010000
TZOFFSETFROM:-0500
TZOFFSETTO:-0400
TZNAME:America/New_York EDT
END:DAYLIGHT
BEGIN:DAYLIGHT
DTSTART:20280312T030000
RDATE:20281105T010000
TZOFFSETFROM:-0500
TZOFFSETTO:-0400
TZNAME:America/New_York EDT
END:DAYLIGHT
BEGIN:DAYLIGHT
DTSTART:20290311T030000
RDATE:20291104T010000
TZOFFSETFROM:-0500
TZOFFSETTO:-0400
TZNAME:America/New_York EDT
END:DAYLIGHT
BEGIN:DAYLIGHT
DTSTART:20300310T030000
RDATE:20301103T010000
TZOFFSETFROM:-0500
TZOFFSETTO:-0400
TZNAME:America/New_York EDT
END:DAYLIGHT
BEGIN:DAYLIGHT
DTSTART:20310309T030000
RDATE:20311102T010000
TZOFFSETFROM:-0500
TZOFFSETTO:-0400
TZNAME:America/New_York EDT
END:DAYLIGHT
END:VTIMEZONE
BEGIN:VEVENT
UID:23e7e3e3d8a246b611f7842e5d982354
CATEGORIES:Workshops
CREATED:20180903T153400
SUMMARY:Blown Glass Ornaments & Watering Globes- Make Your Own! 9/22/18 11AM
LOCATION:Art In The Pod
DESCRIPTION:Blow your own Christmas Ornaments or Glass Watering Globes!\nIn this worksh
 op you will make hand blown watering globes for your plants or glass orname
 nts for holiday gifts/tree.\nThis class includes 4 Glaskolben tubes.\nAddit
 ional tubes are available for $12 each\nWorkshop Cost: $52\nWorkshop Date: 
 September, 22nd, 2018\nWorkshop Time: 11AM\nWorkshop Duration: About 45 Min
 utes\nCLICK HERE TO REGISTER (holiday-workshops/product/323-blown-glass-orn
 aments-watering-globes-make-your-own-9-22-18-11am)Holiday ornaments are fin
 ished with a classic silver ornament cap.\nAll materials are included!\nYou
  must be 18 or older and all participants need a ticket (no spectators). No
  experience is necessary. Please wear cotton clothing, close -toed shoes an
 d secure any loose clothing and hair. No polyester clothing allowed!!! (Pol
 yester Melts)\n\nBecause we have limited space for these workshops, all stu
 dents will need to pay for the workshop at the time they register to reserv
 e their spot. Unpaid spots will not be held. Workshop fees will not be refu
 nded, please be 100% positive you will be attending this workshop before yo
 u register. Vouchers (Groupon, Etc...) are not accepted for this workshop.\
 n<a href="holiday-workshops/product/323-blown-glass-ornaments-watering-glob
 es-make-your-own-9-22-18-11am">CLICK HERE TO REGISTER</a>
X-ALT-DESC;FMTTYPE=text/html:<p>Blow your own Christmas Ornaments or Glass Watering Globes!<br />In this
  workshop you will make hand blown watering globes for your plants or glass
  ornaments for holiday gifts/tree.<br />This class includes 4 Glaskolben tu
 bes.<br />Additional tubes are available for $12 each</p><p><strong>Worksho
 p Cost:</strong> $52<br /><strong><strong>Workshop </strong>Date: </strong>
 September, 22nd, 2018<br /><strong><strong>Workshop </strong>Time:</strong>
  11AM<br /><strong><strong>Workshop </strong>Duration: </strong>About 45 Mi
 nutes</p><h2><a href="holiday-workshops/product/323-blown-glass-ornaments-w
 atering-globes-make-your-own-9-22-18-11am">CLICK HERE TO REGISTER</a></h2><
 p>Holiday ornaments are finished with a classic silver ornament cap.<br />A
 ll materials are included!</p><p>You must be <strong>18 or older</strong> a
 nd all participants need a ticket (no spectators). No experience is necessa
 ry. Please wear cotton clothing, close -toed shoes and secure any loose clo
 thing and hair. <strong>No polyester clothing allowed!!! (Polyester Melts)<
 /strong></p><p><iframe src="https://www.youtube.com/embed/JC9vxe03S0M" widt
 h="560" height="315" frameborder="0" allowfullscreen="allowfullscreen"></if
 rame></p><p>Because we have limited space for these workshops, all students
  will need to pay for the workshop at the time they register to reserve the
 ir spot. Unpaid spots will not be held. Workshop fees will not be refunded,
  please be 100% positive you will be attending&nbsp;this workshop before yo
 u register. Vouchers (Groupon, Etc...) are not accepted for this workshop.<
 /p><h2><a href="holiday-workshops/product/323-blown-glass-ornaments-waterin
 g-globes-make-your-own-9-22-18-11am">CLICK HERE TO REGISTER</a></h2>
DTSTAMP:20260425T135158
DTSTART;TZID=America/New_York:20180922T110000
SEQUENCE:0
TRANSP:OPAQUE
END:VEVENT
END:VCALENDAR