BEGIN:VCALENDAR
VERSION:2.0
PRODID:-//jEvents 2.0 for Joomla//EN
CALSCALE:GREGORIAN
METHOD:PUBLISH
BEGIN:VTIMEZONE
TZID:America/New_York
BEGIN:STANDARD
DTSTART:20171105T010000
RDATE:20180311T030000
TZOFFSETFROM:-0400
TZOFFSETTO:-0500
TZNAME:America/New_York EST
END:STANDARD
BEGIN:STANDARD
DTSTART:20181104T010000
RDATE:20190310T030000
TZOFFSETFROM:-0400
TZOFFSETTO:-0500
TZNAME:America/New_York EST
END:STANDARD
BEGIN:STANDARD
DTSTART:20191103T010000
RDATE:20200308T030000
TZOFFSETFROM:-0400
TZOFFSETTO:-0500
TZNAME:America/New_York EST
END:STANDARD
BEGIN:STANDARD
DTSTART:20201101T010000
RDATE:20210314T030000
TZOFFSETFROM:-0400
TZOFFSETTO:-0500
TZNAME:America/New_York EST
END:STANDARD
BEGIN:STANDARD
DTSTART:20211107T010000
RDATE:20220313T030000
TZOFFSETFROM:-0400
TZOFFSETTO:-0500
TZNAME:America/New_York EST
END:STANDARD
BEGIN:STANDARD
DTSTART:20221106T010000
RDATE:20230312T030000
TZOFFSETFROM:-0400
TZOFFSETTO:-0500
TZNAME:America/New_York EST
END:STANDARD
BEGIN:STANDARD
DTSTART:20231105T010000
RDATE:20240310T030000
TZOFFSETFROM:-0400
TZOFFSETTO:-0500
TZNAME:America/New_York EST
END:STANDARD
BEGIN:STANDARD
DTSTART:20241103T010000
RDATE:20250309T030000
TZOFFSETFROM:-0400
TZOFFSETTO:-0500
TZNAME:America/New_York EST
END:STANDARD
BEGIN:STANDARD
DTSTART:20251102T010000
RDATE:20260308T030000
TZOFFSETFROM:-0400
TZOFFSETTO:-0500
TZNAME:America/New_York EST
END:STANDARD
BEGIN:STANDARD
DTSTART:20261101T010000
RDATE:20270314T030000
TZOFFSETFROM:-0400
TZOFFSETTO:-0500
TZNAME:America/New_York EST
END:STANDARD
BEGIN:STANDARD
DTSTART:20271107T010000
RDATE:20280312T030000
TZOFFSETFROM:-0400
TZOFFSETTO:-0500
TZNAME:America/New_York EST
END:STANDARD
BEGIN:STANDARD
DTSTART:20281105T010000
RDATE:20290311T030000
TZOFFSETFROM:-0400
TZOFFSETTO:-0500
TZNAME:America/New_York EST
END:STANDARD
BEGIN:STANDARD
DTSTART:20291104T010000
RDATE:20300310T030000
TZOFFSETFROM:-0400
TZOFFSETTO:-0500
TZNAME:America/New_York EST
END:STANDARD
BEGIN:STANDARD
DTSTART:20301103T010000
RDATE:20310309T030000
TZOFFSETFROM:-0400
TZOFFSETTO:-0500
TZNAME:America/New_York EST
END:STANDARD
BEGIN:STANDARD
DTSTART:20311102T010000
RDATE:20320314T030000
TZOFFSETFROM:-0400
TZOFFSETTO:-0500
TZNAME:America/New_York EST
END:STANDARD
BEGIN:DAYLIGHT
DTSTART:20170918T100000
RDATE:20171105T010000
TZOFFSETFROM:-0500
TZOFFSETTO:-0400
TZNAME:America/New_York EDT
END:DAYLIGHT
BEGIN:DAYLIGHT
DTSTART:20180311T030000
RDATE:20181104T010000
TZOFFSETFROM:-0500
TZOFFSETTO:-0400
TZNAME:America/New_York EDT
END:DAYLIGHT
BEGIN:DAYLIGHT
DTSTART:20190310T030000
RDATE:20191103T010000
TZOFFSETFROM:-0500
TZOFFSETTO:-0400
TZNAME:America/New_York EDT
END:DAYLIGHT
BEGIN:DAYLIGHT
DTSTART:20200308T030000
RDATE:20201101T010000
TZOFFSETFROM:-0500
TZOFFSETTO:-0400
TZNAME:America/New_York EDT
END:DAYLIGHT
BEGIN:DAYLIGHT
DTSTART:20210314T030000
RDATE:20211107T010000
TZOFFSETFROM:-0500
TZOFFSETTO:-0400
TZNAME:America/New_York EDT
END:DAYLIGHT
BEGIN:DAYLIGHT
DTSTART:20220313T030000
RDATE:20221106T010000
TZOFFSETFROM:-0500
TZOFFSETTO:-0400
TZNAME:America/New_York EDT
END:DAYLIGHT
BEGIN:DAYLIGHT
DTSTART:20230312T030000
RDATE:20231105T010000
TZOFFSETFROM:-0500
TZOFFSETTO:-0400
TZNAME:America/New_York EDT
END:DAYLIGHT
BEGIN:DAYLIGHT
DTSTART:20240310T030000
RDATE:20241103T010000
TZOFFSETFROM:-0500
TZOFFSETTO:-0400
TZNAME:America/New_York EDT
END:DAYLIGHT
BEGIN:DAYLIGHT
DTSTART:20250309T030000
RDATE:20251102T010000
TZOFFSETFROM:-0500
TZOFFSETTO:-0400
TZNAME:America/New_York EDT
END:DAYLIGHT
BEGIN:DAYLIGHT
DTSTART:20260308T030000
RDATE:20261101T010000
TZOFFSETFROM:-0500
TZOFFSETTO:-0400
TZNAME:America/New_York EDT
END:DAYLIGHT
BEGIN:DAYLIGHT
DTSTART:20270314T030000
RDATE:20271107T010000
TZOFFSETFROM:-0500
TZOFFSETTO:-0400
TZNAME:America/New_York EDT
END:DAYLIGHT
BEGIN:DAYLIGHT
DTSTART:20280312T030000
RDATE:20281105T010000
TZOFFSETFROM:-0500
TZOFFSETTO:-0400
TZNAME:America/New_York EDT
END:DAYLIGHT
BEGIN:DAYLIGHT
DTSTART:20290311T030000
RDATE:20291104T010000
TZOFFSETFROM:-0500
TZOFFSETTO:-0400
TZNAME:America/New_York EDT
END:DAYLIGHT
BEGIN:DAYLIGHT
DTSTART:20300310T030000
RDATE:20301103T010000
TZOFFSETFROM:-0500
TZOFFSETTO:-0400
TZNAME:America/New_York EDT
END:DAYLIGHT
BEGIN:DAYLIGHT
DTSTART:20310309T030000
RDATE:20311102T010000
TZOFFSETFROM:-0500
TZOFFSETTO:-0400
TZNAME:America/New_York EDT
END:DAYLIGHT
END:VTIMEZONE
BEGIN:VEVENT
UID:1e69226c33c1a0808a65518007957604
CATEGORIES:Workshops
CREATED:20180918T111115
SUMMARY:ArtLab Slime Time & Fluid Art Paint Pour
LOCATION:Art In The Pod
DESCRIPTION:Art in the Pod welcomes you to sign up for our new Art Lab events, for all 
 ages. Beat the heat and enjoy DIY slime-making and paint pouring in our air
  conditioned studio. All materials and easy step-by-step instructions are s
 upplied. Time slots are filling up fast! \nDIY Workshop Includes:\nUp to 2 
 hours of studio time to complete your paint pour and slime time.\n\nPaint P
 our\n4 inch plaster disc (pre-made in our studio)\nPaints premixed with pou
 ring additives\n\nSlime Time\nAll Materials to make your very own slime (8o
 z)\nSlime Container that you decorate\nClass Fee: $30 per person\nMinimum A
 ge: 6\nSupplies Needed: None, all provided.\nSkill Level: All\nDress Code: 
 We have aprons available, but it is always wise to wear old clothes as this
  can be a messy (but extremely fun!) project.\n\n\nTERMS: \nPayment Policy:
  Payment online or in studio is required to guarantee your reservation. No 
 Vouchers Accepted. Reservations Will Automatically Cancel In 60 Minutes If 
 Payment Is Not Completed. Need help to complete your reservation? Call us a
 t 215.355.92787 to complete your reservation.\nCancellation/Refund/Studio C
 redit Policy: No cash refunds/Studio credit only. A Studio Credit will be g
 iven for individuals cancelling with at least 48 Hours or more notice only.
  \nMiscellaneous: Four attendee maximum per group. Please arrive on time, a
 rriving past your reserved time slot may require your artlab to be cancelle
 d/rescheduled\n\n
X-ALT-DESC;FMTTYPE=text/html:<p><span style="background-color: #ffffff;">Art in the Pod welcomes you to 
 sign up for our new Art Lab events, for all ages. Beat the heat and enjoy D
 IY slime-making and paint pouring in our air conditioned studio. All materi
 als and easy step-by-step instructions are supplied. Time slots are filling
  up fast! </span></p><p><strong>DIY Workshop Includes:</strong></p><p><stro
 ng>Up to 2 hours of studio time to complete your paint pour and slime time.
 <br /><br /><span style="text-decoration: underline;"><strong>Paint Pour<br
  /></strong></span></strong>4 inch plaster disc (pre-made in our studio)<st
 rong><br /></strong>Paints premixed with pouring additives<br /><br /><stro
 ng><span style="text-decoration: underline;">Slime Time</span></strong><br 
 />All Materials to make your very own slime (8oz)<br />Slime Container that
  you decorate</p><p><strong>Class Fee:</strong> $30 per person<br /><strong
 >Minimum Age:</strong> 6<br /><strong>Supplies Needed:</strong> None, all p
 rovided.<br /><strong>Skill Level:</strong> All<br /><strong>Dress Code:</s
 trong> We have aprons available, but it is always wise to wear old clothes 
 as this can be a messy (but extremely fun!) project.<br /><br /></p><p styl
 e="font-size: small; color: #000000;"><strong>TERMS: <br />Payment Policy:<
 /strong> Payment online or in studio is required to guarantee your reservat
 ion. No Vouchers Accepted. <span id="rsvp_field26_span_"><span style="text-
 decoration: underline;">Reservations Will Automatically Cancel In 60 Minute
 s If Payment Is Not Completed</span>. Need help to complete your reservatio
 n? Call us at 215.355.92787 to complete your reservation.<br /></span><stro
 ng>Cancellation/Refund/Studio Credit Policy:</strong> No cash refunds/Studi
 o credit only. A Studio Credit will be given for individuals cancelling wit
 h at least 48 Hours or more notice only. <br /><strong>Miscellaneous: </str
 ong>Four attendee maximum per group. Please arrive on time, arriving past y
 our reserved time slot may require your artlab to be cancelled/rescheduled<
 strong><br /></strong></p>
DTSTAMP:20260425T135618
DTSTART;TZID=America/New_York:20180919T100000
DTEND;TZID=America/New_York:20180919T120000
SEQUENCE:0
TRANSP:OPAQUE
END:VEVENT
END:VCALENDAR