BEGIN:VCALENDAR
VERSION:2.0
PRODID:-//jEvents 2.0 for Joomla//EN
CALSCALE:GREGORIAN
METHOD:PUBLISH
BEGIN:VTIMEZONE
TZID:America/New_York
BEGIN:STANDARD
DTSTART:20171105T010000
RDATE:20180311T030000
TZOFFSETFROM:-0400
TZOFFSETTO:-0500
TZNAME:America/New_York EST
END:STANDARD
BEGIN:STANDARD
DTSTART:20181104T010000
RDATE:20190310T030000
TZOFFSETFROM:-0400
TZOFFSETTO:-0500
TZNAME:America/New_York EST
END:STANDARD
BEGIN:STANDARD
DTSTART:20191103T010000
RDATE:20200308T030000
TZOFFSETFROM:-0400
TZOFFSETTO:-0500
TZNAME:America/New_York EST
END:STANDARD
BEGIN:STANDARD
DTSTART:20201101T010000
RDATE:20210314T030000
TZOFFSETFROM:-0400
TZOFFSETTO:-0500
TZNAME:America/New_York EST
END:STANDARD
BEGIN:STANDARD
DTSTART:20211107T010000
RDATE:20220313T030000
TZOFFSETFROM:-0400
TZOFFSETTO:-0500
TZNAME:America/New_York EST
END:STANDARD
BEGIN:STANDARD
DTSTART:20221106T010000
RDATE:20230312T030000
TZOFFSETFROM:-0400
TZOFFSETTO:-0500
TZNAME:America/New_York EST
END:STANDARD
BEGIN:STANDARD
DTSTART:20231105T010000
RDATE:20240310T030000
TZOFFSETFROM:-0400
TZOFFSETTO:-0500
TZNAME:America/New_York EST
END:STANDARD
BEGIN:STANDARD
DTSTART:20241103T010000
RDATE:20250309T030000
TZOFFSETFROM:-0400
TZOFFSETTO:-0500
TZNAME:America/New_York EST
END:STANDARD
BEGIN:STANDARD
DTSTART:20251102T010000
RDATE:20260308T030000
TZOFFSETFROM:-0400
TZOFFSETTO:-0500
TZNAME:America/New_York EST
END:STANDARD
BEGIN:STANDARD
DTSTART:20261101T010000
RDATE:20270314T030000
TZOFFSETFROM:-0400
TZOFFSETTO:-0500
TZNAME:America/New_York EST
END:STANDARD
BEGIN:STANDARD
DTSTART:20271107T010000
RDATE:20280312T030000
TZOFFSETFROM:-0400
TZOFFSETTO:-0500
TZNAME:America/New_York EST
END:STANDARD
BEGIN:STANDARD
DTSTART:20281105T010000
RDATE:20290311T030000
TZOFFSETFROM:-0400
TZOFFSETTO:-0500
TZNAME:America/New_York EST
END:STANDARD
BEGIN:STANDARD
DTSTART:20291104T010000
RDATE:20300310T030000
TZOFFSETFROM:-0400
TZOFFSETTO:-0500
TZNAME:America/New_York EST
END:STANDARD
BEGIN:STANDARD
DTSTART:20301103T010000
RDATE:20310309T030000
TZOFFSETFROM:-0400
TZOFFSETTO:-0500
TZNAME:America/New_York EST
END:STANDARD
BEGIN:STANDARD
DTSTART:20311102T010000
RDATE:20320314T030000
TZOFFSETFROM:-0400
TZOFFSETTO:-0500
TZNAME:America/New_York EST
END:STANDARD
BEGIN:DAYLIGHT
DTSTART:20170928T000000
RDATE:20171105T010000
TZOFFSETFROM:-0500
TZOFFSETTO:-0400
TZNAME:America/New_York EDT
END:DAYLIGHT
BEGIN:DAYLIGHT
DTSTART:20180311T030000
RDATE:20181104T010000
TZOFFSETFROM:-0500
TZOFFSETTO:-0400
TZNAME:America/New_York EDT
END:DAYLIGHT
BEGIN:DAYLIGHT
DTSTART:20190310T030000
RDATE:20191103T010000
TZOFFSETFROM:-0500
TZOFFSETTO:-0400
TZNAME:America/New_York EDT
END:DAYLIGHT
BEGIN:DAYLIGHT
DTSTART:20200308T030000
RDATE:20201101T010000
TZOFFSETFROM:-0500
TZOFFSETTO:-0400
TZNAME:America/New_York EDT
END:DAYLIGHT
BEGIN:DAYLIGHT
DTSTART:20210314T030000
RDATE:20211107T010000
TZOFFSETFROM:-0500
TZOFFSETTO:-0400
TZNAME:America/New_York EDT
END:DAYLIGHT
BEGIN:DAYLIGHT
DTSTART:20220313T030000
RDATE:20221106T010000
TZOFFSETFROM:-0500
TZOFFSETTO:-0400
TZNAME:America/New_York EDT
END:DAYLIGHT
BEGIN:DAYLIGHT
DTSTART:20230312T030000
RDATE:20231105T010000
TZOFFSETFROM:-0500
TZOFFSETTO:-0400
TZNAME:America/New_York EDT
END:DAYLIGHT
BEGIN:DAYLIGHT
DTSTART:20240310T030000
RDATE:20241103T010000
TZOFFSETFROM:-0500
TZOFFSETTO:-0400
TZNAME:America/New_York EDT
END:DAYLIGHT
BEGIN:DAYLIGHT
DTSTART:20250309T030000
RDATE:20251102T010000
TZOFFSETFROM:-0500
TZOFFSETTO:-0400
TZNAME:America/New_York EDT
END:DAYLIGHT
BEGIN:DAYLIGHT
DTSTART:20260308T030000
RDATE:20261101T010000
TZOFFSETFROM:-0500
TZOFFSETTO:-0400
TZNAME:America/New_York EDT
END:DAYLIGHT
BEGIN:DAYLIGHT
DTSTART:20270314T030000
RDATE:20271107T010000
TZOFFSETFROM:-0500
TZOFFSETTO:-0400
TZNAME:America/New_York EDT
END:DAYLIGHT
BEGIN:DAYLIGHT
DTSTART:20280312T030000
RDATE:20281105T010000
TZOFFSETFROM:-0500
TZOFFSETTO:-0400
TZNAME:America/New_York EDT
END:DAYLIGHT
BEGIN:DAYLIGHT
DTSTART:20290311T030000
RDATE:20291104T010000
TZOFFSETFROM:-0500
TZOFFSETTO:-0400
TZNAME:America/New_York EDT
END:DAYLIGHT
BEGIN:DAYLIGHT
DTSTART:20300310T030000
RDATE:20301103T010000
TZOFFSETFROM:-0500
TZOFFSETTO:-0400
TZNAME:America/New_York EDT
END:DAYLIGHT
BEGIN:DAYLIGHT
DTSTART:20310309T030000
RDATE:20311102T010000
TZOFFSETFROM:-0500
TZOFFSETTO:-0400
TZNAME:America/New_York EDT
END:DAYLIGHT
END:VTIMEZONE
BEGIN:VEVENT
UID:2fb4ff048f095d11bcd8db1b5731f390
CATEGORIES:Workshops
CREATED:20180926T213815
SUMMARY:ArtLab Slime Time & Fluid Art Paint Pour
LOCATION:Art In The Pod
DESCRIPTION:We have open Art Lab times today from 1 to 5pm \nCall the studio for availa
 ble times.\n\nPH: 215.355.9278\nArt in the Pod welcomes you to sign up for 
 our new Art Lab events, for all ages. Beat the heat and enjoy DIY slime-mak
 ing and paint pouring in our air conditioned studio. All materials and easy
  step-by-step instructions are supplied. Time slots are filling up fast! \n
 DIY Workshop Includes:\nUp to 2 hours of studio time to complete your paint
  pour and slime time.\nCall To Register\n\nPaint Pour\n4 inch plaster disc 
 (pre-made in our studio)\nPaints premixed with pouring additives\n\nSlime T
 ime\nAll Materials to make your very own slime (8oz)\nSlime Container that 
 you decorate\nClass Fee: $30 per person\nMinimum Age: 6\nSupplies Needed: N
 one, all provided.\nSkill Level: All\nDress Code: We have aprons available,
  but it is always wise to wear old clothes as this can be a messy (but extr
 emely fun!) project.\n\n\nTERMS: \nPayment Policy: Payment online or in stu
 dio is required to guarantee your reservation. No Vouchers Accepted. Reserv
 ations Will Automatically Cancel In 60 Minutes If Payment Is Not Completed.
  Need help to complete your reservation? Call us at 215.355.92787 to comple
 te your reservation.\nCancellation/Refund/Studio Credit Policy: No cash ref
 unds/Studio credit only. A Studio Credit will be given for individuals canc
 elling with at least 48 Hours or more notice only. \nMiscellaneous: Four at
 tendee maximum per group. Please arrive on time, arriving past your reserve
 d time slot may require your artlab to be cancelled/rescheduled\n\n
X-ALT-DESC;FMTTYPE=text/html:<p><span style="background-color: #ffffff;"><strong>We have open Art Lab ti
 mes today from 1 to 5pm </strong><br /><strong>Call the studio for availabl
 e times.</strong><br /></span></p><p><strong>PH: 215.355.9278</strong></p><
 p><span style="background-color: #ffffff;">Art in the Pod welcomes you to s
 ign up for our new Art Lab events, for all ages. Beat the heat and enjoy DI
 Y slime-making and paint pouring in our air conditioned studio. All materia
 ls and easy step-by-step instructions are supplied. Time slots are filling 
 up fast! </span></p><p><strong>DIY Workshop Includes:</strong></p><p><stron
 g>Up to 2 hours of studio time to complete your paint pour and slime time.<
 /strong></p><p><strong><strong>Call To Register</strong><br /><br /><span s
 tyle="text-decoration: underline;"><strong>Paint Pour<br /></strong></span>
 </strong>4 inch plaster disc (pre-made in our studio)<strong><br /></strong
 >Paints premixed with pouring additives<br /><br /><strong><span style="tex
 t-decoration: underline;">Slime Time</span></strong><br />All Materials to 
 make your very own slime (8oz)<br />Slime Container that you decorate</p><p
 ><strong>Class Fee:</strong> $30 per person<br /><strong>Minimum Age:</stro
 ng> 6<br /><strong>Supplies Needed:</strong> None, all provided.<br /><stro
 ng>Skill Level:</strong> All<br /><strong>Dress Code:</strong> We have apro
 ns available, but it is always wise to wear old clothes as this can be a me
 ssy (but extremely fun!) project.<br /><br /></p><p style="font-size: small
 ; color: #000000;"><strong>TERMS: <br />Payment Policy:</strong> Payment on
 line or in studio is required to guarantee your reservation. No Vouchers Ac
 cepted. <span id="rsvp_field26_span_"><span style="text-decoration: underli
 ne;">Reservations Will Automatically Cancel In 60 Minutes If Payment Is Not
  Completed</span>. Need help to complete your reservation? Call us at 215.3
 55.92787 to complete your reservation.<br /></span><strong>Cancellation/Ref
 und/Studio Credit Policy:</strong> No cash refunds/Studio credit only. A St
 udio Credit will be given for individuals cancelling with at least 48 Hours
  or more notice only. <br /><strong>Miscellaneous: </strong>Four attendee m
 aximum per group. Please arrive on time, arriving past your reserved time s
 lot may require your artlab to be cancelled/rescheduled<strong><br /></stro
 ng></p>
DTSTAMP:20260425T135240
DTSTART;TZID=America/New_York;VALUE=DATE:20180929
DTEND;TZID=America/New_York;VALUE=DATE:20180930
SEQUENCE:0
TRANSP:OPAQUE
END:VEVENT
END:VCALENDAR