BEGIN:VCALENDAR
VERSION:2.0
PRODID:-//jEvents 2.0 for Joomla//EN
CALSCALE:GREGORIAN
METHOD:PUBLISH
BEGIN:VTIMEZONE
TZID:America/New_York
BEGIN:STANDARD
DTSTART:20171212T193000
RDATE:20180311T030000
TZOFFSETFROM:-0400
TZOFFSETTO:-0500
TZNAME:America/New_York EST
END:STANDARD
BEGIN:STANDARD
DTSTART:20181104T010000
RDATE:20190310T030000
TZOFFSETFROM:-0400
TZOFFSETTO:-0500
TZNAME:America/New_York EST
END:STANDARD
BEGIN:STANDARD
DTSTART:20191103T010000
RDATE:20200308T030000
TZOFFSETFROM:-0400
TZOFFSETTO:-0500
TZNAME:America/New_York EST
END:STANDARD
BEGIN:STANDARD
DTSTART:20201101T010000
RDATE:20210314T030000
TZOFFSETFROM:-0400
TZOFFSETTO:-0500
TZNAME:America/New_York EST
END:STANDARD
BEGIN:STANDARD
DTSTART:20211107T010000
RDATE:20220313T030000
TZOFFSETFROM:-0400
TZOFFSETTO:-0500
TZNAME:America/New_York EST
END:STANDARD
BEGIN:STANDARD
DTSTART:20221106T010000
RDATE:20230312T030000
TZOFFSETFROM:-0400
TZOFFSETTO:-0500
TZNAME:America/New_York EST
END:STANDARD
BEGIN:STANDARD
DTSTART:20231105T010000
RDATE:20240310T030000
TZOFFSETFROM:-0400
TZOFFSETTO:-0500
TZNAME:America/New_York EST
END:STANDARD
BEGIN:STANDARD
DTSTART:20241103T010000
RDATE:20250309T030000
TZOFFSETFROM:-0400
TZOFFSETTO:-0500
TZNAME:America/New_York EST
END:STANDARD
BEGIN:STANDARD
DTSTART:20251102T010000
RDATE:20260308T030000
TZOFFSETFROM:-0400
TZOFFSETTO:-0500
TZNAME:America/New_York EST
END:STANDARD
BEGIN:STANDARD
DTSTART:20261101T010000
RDATE:20270314T030000
TZOFFSETFROM:-0400
TZOFFSETTO:-0500
TZNAME:America/New_York EST
END:STANDARD
BEGIN:STANDARD
DTSTART:20271107T010000
RDATE:20280312T030000
TZOFFSETFROM:-0400
TZOFFSETTO:-0500
TZNAME:America/New_York EST
END:STANDARD
BEGIN:STANDARD
DTSTART:20281105T010000
RDATE:20290311T030000
TZOFFSETFROM:-0400
TZOFFSETTO:-0500
TZNAME:America/New_York EST
END:STANDARD
BEGIN:STANDARD
DTSTART:20291104T010000
RDATE:20300310T030000
TZOFFSETFROM:-0400
TZOFFSETTO:-0500
TZNAME:America/New_York EST
END:STANDARD
BEGIN:STANDARD
DTSTART:20301103T010000
RDATE:20310309T030000
TZOFFSETFROM:-0400
TZOFFSETTO:-0500
TZNAME:America/New_York EST
END:STANDARD
BEGIN:STANDARD
DTSTART:20311102T010000
RDATE:20320314T030000
TZOFFSETFROM:-0400
TZOFFSETTO:-0500
TZNAME:America/New_York EST
END:STANDARD
BEGIN:DAYLIGHT
DTSTART:20180311T030000
RDATE:20181104T010000
TZOFFSETFROM:-0500
TZOFFSETTO:-0400
TZNAME:America/New_York EDT
END:DAYLIGHT
BEGIN:DAYLIGHT
DTSTART:20190310T030000
RDATE:20191103T010000
TZOFFSETFROM:-0500
TZOFFSETTO:-0400
TZNAME:America/New_York EDT
END:DAYLIGHT
BEGIN:DAYLIGHT
DTSTART:20200308T030000
RDATE:20201101T010000
TZOFFSETFROM:-0500
TZOFFSETTO:-0400
TZNAME:America/New_York EDT
END:DAYLIGHT
BEGIN:DAYLIGHT
DTSTART:20210314T030000
RDATE:20211107T010000
TZOFFSETFROM:-0500
TZOFFSETTO:-0400
TZNAME:America/New_York EDT
END:DAYLIGHT
BEGIN:DAYLIGHT
DTSTART:20220313T030000
RDATE:20221106T010000
TZOFFSETFROM:-0500
TZOFFSETTO:-0400
TZNAME:America/New_York EDT
END:DAYLIGHT
BEGIN:DAYLIGHT
DTSTART:20230312T030000
RDATE:20231105T010000
TZOFFSETFROM:-0500
TZOFFSETTO:-0400
TZNAME:America/New_York EDT
END:DAYLIGHT
BEGIN:DAYLIGHT
DTSTART:20240310T030000
RDATE:20241103T010000
TZOFFSETFROM:-0500
TZOFFSETTO:-0400
TZNAME:America/New_York EDT
END:DAYLIGHT
BEGIN:DAYLIGHT
DTSTART:20250309T030000
RDATE:20251102T010000
TZOFFSETFROM:-0500
TZOFFSETTO:-0400
TZNAME:America/New_York EDT
END:DAYLIGHT
BEGIN:DAYLIGHT
DTSTART:20260308T030000
RDATE:20261101T010000
TZOFFSETFROM:-0500
TZOFFSETTO:-0400
TZNAME:America/New_York EDT
END:DAYLIGHT
BEGIN:DAYLIGHT
DTSTART:20270314T030000
RDATE:20271107T010000
TZOFFSETFROM:-0500
TZOFFSETTO:-0400
TZNAME:America/New_York EDT
END:DAYLIGHT
BEGIN:DAYLIGHT
DTSTART:20280312T030000
RDATE:20281105T010000
TZOFFSETFROM:-0500
TZOFFSETTO:-0400
TZNAME:America/New_York EDT
END:DAYLIGHT
BEGIN:DAYLIGHT
DTSTART:20290311T030000
RDATE:20291104T010000
TZOFFSETFROM:-0500
TZOFFSETTO:-0400
TZNAME:America/New_York EDT
END:DAYLIGHT
BEGIN:DAYLIGHT
DTSTART:20300310T030000
RDATE:20301103T010000
TZOFFSETFROM:-0500
TZOFFSETTO:-0400
TZNAME:America/New_York EDT
END:DAYLIGHT
BEGIN:DAYLIGHT
DTSTART:20310309T030000
RDATE:20311102T010000
TZOFFSETFROM:-0500
TZOFFSETTO:-0400
TZNAME:America/New_York EDT
END:DAYLIGHT
END:VTIMEZONE
BEGIN:VEVENT
UID:dd00da4c06a4bab4ce137c00b323b20d
CATEGORIES:BYO Events
CREATED:20181126T232408
SUMMARY:Open BYOB Painting - Christmas Ornament
LOCATION:Art In The Pod
DESCRIPTION:Open BYOB Painting - Christmas OrnamentDescription: You will create your ve
 ry own masterpiece on a 16" x 20" canvas to take with you.\nGrab a few frie
 nds your favorite form of liquid inspiration and favorite food, then head o
 ver to Art in the Pod to create a lasting masterpiece you're sure to love:\
 nWe provide all necessary materials and supplies for you.\nALSO PROVIDED\nA
 prons. (please dress appropriately as acrylic paint can stain)\nPlastic win
 e cups and bottle openers.\nIndividual painting times will vary. This will 
 be in an adult oriented atmosphere designed by Art In The Pod for a evening
  of fun and enjoyment.\nTERMS: \nPayment Policy: Payment online or in studi
 o is required to guarantee your reservation. No Vouchers Accepted. Reservat
 ions Will Automatically Cancel In 60 Minutes If Payment Is Not Completed. N
 eed help to complete your reservation? Call us at 215.355.92787 to complete
  your reservation.\nCancellation/Refund/Studio Credit Policy: No cash refun
 ds/Studio credit only. A Studio Credit will be given for individuals cancel
 ling with at least 48 Hours or more notice only. \nMiscellaneous: If you ar
 e registering for your guest we suggest you notify them of these terms.\n
X-ALT-DESC;FMTTYPE=text/html:<h3>Open BYOB Painting - Christmas Ornament</h3><p><strong>Description:</st
 rong> You will create your very own masterpiece on a 16" x 20" canvas to ta
 ke with you.</p><p>Grab a few friends your favorite form of liquid inspirat
 ion and favorite food, then head over to Art in the Pod to create a lasting
  masterpiece you're sure to love:</p><p>We provide all necessary materials 
 and supplies for you.<br />ALSO PROVIDED<br />Aprons. (please dress appropr
 iately as acrylic paint can stain)<br />Plastic wine cups and bottle opener
 s.</p><p>Individual painting times will vary. This will be in an adult orie
 nted atmosphere designed by Art In The Pod for a evening of fun and enjoyme
 nt.</p><p><strong>TERMS: <br />Payment Policy:</strong> Payment online or i
 n studio is required to guarantee your reservation. No Vouchers Accepted. <
 span id="rsvp_field26_span_"><span style="text-decoration: underline;">Rese
 rvations Will Automatically Cancel In 60 Minutes If Payment Is Not Complete
 d</span>. Need help to complete your reservation? Call us at 215.355.92787 
 to complete your reservation.<br /></span><strong>Cancellation/Refund/Studi
 o Credit Policy:</strong> No cash refunds/Studio credit only. A Studio Cred
 it will be given for individuals cancelling with at least 48 Hours or more 
 notice only. <br /><strong>Miscellaneous: </strong>If you are registering f
 or your guest we suggest you notify them of these terms.</p>
DTSTAMP:20260425T040130
DTSTART;TZID=America/New_York:20181213T193000
SEQUENCE:0
TRANSP:OPAQUE
END:VEVENT
END:VCALENDAR