BEGIN:VCALENDAR
VERSION:2.0
PRODID:-//jEvents 2.0 for Joomla//EN
CALSCALE:GREGORIAN
METHOD:PUBLISH
BEGIN:VTIMEZONE
TZID:America/New_York
BEGIN:STANDARD
DTSTART:20171226T130000
RDATE:20180311T030000
TZOFFSETFROM:-0400
TZOFFSETTO:-0500
TZNAME:America/New_York EST
END:STANDARD
BEGIN:STANDARD
DTSTART:20181104T010000
RDATE:20190310T030000
TZOFFSETFROM:-0400
TZOFFSETTO:-0500
TZNAME:America/New_York EST
END:STANDARD
BEGIN:STANDARD
DTSTART:20191103T010000
RDATE:20200308T030000
TZOFFSETFROM:-0400
TZOFFSETTO:-0500
TZNAME:America/New_York EST
END:STANDARD
BEGIN:STANDARD
DTSTART:20201101T010000
RDATE:20210314T030000
TZOFFSETFROM:-0400
TZOFFSETTO:-0500
TZNAME:America/New_York EST
END:STANDARD
BEGIN:STANDARD
DTSTART:20211107T010000
RDATE:20220313T030000
TZOFFSETFROM:-0400
TZOFFSETTO:-0500
TZNAME:America/New_York EST
END:STANDARD
BEGIN:STANDARD
DTSTART:20221106T010000
RDATE:20230312T030000
TZOFFSETFROM:-0400
TZOFFSETTO:-0500
TZNAME:America/New_York EST
END:STANDARD
BEGIN:STANDARD
DTSTART:20231105T010000
RDATE:20240310T030000
TZOFFSETFROM:-0400
TZOFFSETTO:-0500
TZNAME:America/New_York EST
END:STANDARD
BEGIN:STANDARD
DTSTART:20241103T010000
RDATE:20250309T030000
TZOFFSETFROM:-0400
TZOFFSETTO:-0500
TZNAME:America/New_York EST
END:STANDARD
BEGIN:STANDARD
DTSTART:20251102T010000
RDATE:20260308T030000
TZOFFSETFROM:-0400
TZOFFSETTO:-0500
TZNAME:America/New_York EST
END:STANDARD
BEGIN:STANDARD
DTSTART:20261101T010000
RDATE:20270314T030000
TZOFFSETFROM:-0400
TZOFFSETTO:-0500
TZNAME:America/New_York EST
END:STANDARD
BEGIN:STANDARD
DTSTART:20271107T010000
RDATE:20280312T030000
TZOFFSETFROM:-0400
TZOFFSETTO:-0500
TZNAME:America/New_York EST
END:STANDARD
BEGIN:STANDARD
DTSTART:20281105T010000
RDATE:20290311T030000
TZOFFSETFROM:-0400
TZOFFSETTO:-0500
TZNAME:America/New_York EST
END:STANDARD
BEGIN:STANDARD
DTSTART:20291104T010000
RDATE:20300310T030000
TZOFFSETFROM:-0400
TZOFFSETTO:-0500
TZNAME:America/New_York EST
END:STANDARD
BEGIN:STANDARD
DTSTART:20301103T010000
RDATE:20310309T030000
TZOFFSETFROM:-0400
TZOFFSETTO:-0500
TZNAME:America/New_York EST
END:STANDARD
BEGIN:STANDARD
DTSTART:20311102T010000
RDATE:20320314T030000
TZOFFSETFROM:-0400
TZOFFSETTO:-0500
TZNAME:America/New_York EST
END:STANDARD
BEGIN:DAYLIGHT
DTSTART:20180311T030000
RDATE:20181104T010000
TZOFFSETFROM:-0500
TZOFFSETTO:-0400
TZNAME:America/New_York EDT
END:DAYLIGHT
BEGIN:DAYLIGHT
DTSTART:20190310T030000
RDATE:20191103T010000
TZOFFSETFROM:-0500
TZOFFSETTO:-0400
TZNAME:America/New_York EDT
END:DAYLIGHT
BEGIN:DAYLIGHT
DTSTART:20200308T030000
RDATE:20201101T010000
TZOFFSETFROM:-0500
TZOFFSETTO:-0400
TZNAME:America/New_York EDT
END:DAYLIGHT
BEGIN:DAYLIGHT
DTSTART:20210314T030000
RDATE:20211107T010000
TZOFFSETFROM:-0500
TZOFFSETTO:-0400
TZNAME:America/New_York EDT
END:DAYLIGHT
BEGIN:DAYLIGHT
DTSTART:20220313T030000
RDATE:20221106T010000
TZOFFSETFROM:-0500
TZOFFSETTO:-0400
TZNAME:America/New_York EDT
END:DAYLIGHT
BEGIN:DAYLIGHT
DTSTART:20230312T030000
RDATE:20231105T010000
TZOFFSETFROM:-0500
TZOFFSETTO:-0400
TZNAME:America/New_York EDT
END:DAYLIGHT
BEGIN:DAYLIGHT
DTSTART:20240310T030000
RDATE:20241103T010000
TZOFFSETFROM:-0500
TZOFFSETTO:-0400
TZNAME:America/New_York EDT
END:DAYLIGHT
BEGIN:DAYLIGHT
DTSTART:20250309T030000
RDATE:20251102T010000
TZOFFSETFROM:-0500
TZOFFSETTO:-0400
TZNAME:America/New_York EDT
END:DAYLIGHT
BEGIN:DAYLIGHT
DTSTART:20260308T030000
RDATE:20261101T010000
TZOFFSETFROM:-0500
TZOFFSETTO:-0400
TZNAME:America/New_York EDT
END:DAYLIGHT
BEGIN:DAYLIGHT
DTSTART:20270314T030000
RDATE:20271107T010000
TZOFFSETFROM:-0500
TZOFFSETTO:-0400
TZNAME:America/New_York EDT
END:DAYLIGHT
BEGIN:DAYLIGHT
DTSTART:20280312T030000
RDATE:20281105T010000
TZOFFSETFROM:-0500
TZOFFSETTO:-0400
TZNAME:America/New_York EDT
END:DAYLIGHT
BEGIN:DAYLIGHT
DTSTART:20290311T030000
RDATE:20291104T010000
TZOFFSETFROM:-0500
TZOFFSETTO:-0400
TZNAME:America/New_York EDT
END:DAYLIGHT
BEGIN:DAYLIGHT
DTSTART:20300310T030000
RDATE:20301103T010000
TZOFFSETFROM:-0500
TZOFFSETTO:-0400
TZNAME:America/New_York EDT
END:DAYLIGHT
BEGIN:DAYLIGHT
DTSTART:20310309T030000
RDATE:20311102T010000
TZOFFSETFROM:-0500
TZOFFSETTO:-0400
TZNAME:America/New_York EDT
END:DAYLIGHT
END:VTIMEZONE
BEGIN:VEVENT
UID:12e8452d80e89d70a8663cfa1fcc1105
CATEGORIES:Art-Camps
CREATED:20181217T162800
SUMMARY:Melt With Color Acrylic Painting and a Glass Fusion Panel Project Art Mini-Camp
LOCATION:Art In The Pod
DESCRIPTION:Melt With Color!11x14 Canvas Painting and a Glass Fusion Panel ProjectInspi
 red by Marc ChagallLook in the window as campers paint a colorful painting 
 with a snowman in the style of Marc Chagall’s stain glass windows, followed
  by creating a fused glass panel of fireworks over the city scene, using gl
 ass enamels and frit. (This project will be fired in our kiln and we will c
 all you when it is ready to be picked up).\nEach session will offer unique 
 projects, so feel free to sign up for more than just one! Morning, Afternoo
 n and Full Day mini camp sessions available.\nBring a nut-free snack and a 
 beverage. Dress for mess.Thursday, December 27\n1:00 PM - 4:00 PMREGISTER T
 ODAY AT ARTINTHEPOD.COM OR CALL 215-355-9278\nAGES 6-12\nSpace is limited! 
 Register today online at artinthepod.com or call 215-355-9278.\nOnly $42 pe
 r session.\nAges 6-12.\nMorning: 9am-12pm\nAfternoon: 1pm-4pm\nFull Day ava
 ilable.\n
X-ALT-DESC;FMTTYPE=text/html:<h2><strong>Melt With Color!</strong></h2><h2><strong>11x14 Canvas Painting
  and a Glass Fusion Panel Project</strong></h2><h2><strong>Inspired by Marc
  Chagall</strong></h2><h3><strong><strong>Look in the window as campers pai
 nt a colorful painting with a snowman in the style of Marc Chagall’s stain 
 glass windows, followed by creating a fused glass panel of fireworks over t
 he city scene, using glass enamels and frit. (This project will be fired in
  our kiln and we will call you when it is ready to be picked up).<br /></st
 rong></strong></h3><h3>Each session will offer unique projects, so feel fre
 e to sign up for more than just one! Morning, Afternoon and Full Day mini c
 amp sessions available.<br /><em>Bring a nut-free snack and a beverage. Dre
 ss for mess.</em></h3><h2><strong>Thursday, December 27</strong><br /><stro
 ng>1:00 PM - 4:00 PM</strong></h2><p>REGISTER TODAY AT ARTINTHEPOD.COM OR C
 ALL 215-355-9278<br />AGES 6-12</p><p>Space is limited! Register today onli
 ne at artinthepod.com or call 215-355-9278.<br />Only $42 per session.<br /
 >Ages 6-12.<br />Morning: 9am-12pm<br />Afternoon: 1pm-4pm<br />Full Day av
 ailable<strong>.</strong></p>
DTSTAMP:20260425T021020
DTSTART;TZID=America/New_York:20181227T130000
DTEND;TZID=America/New_York:20181227T160000
SEQUENCE:0
TRANSP:OPAQUE
END:VEVENT
END:VCALENDAR