BEGIN:VCALENDAR
VERSION:2.0
PRODID:-//jEvents 2.0 for Joomla//EN
CALSCALE:GREGORIAN
METHOD:PUBLISH
BEGIN:VTIMEZONE
TZID:America/New_York
BEGIN:STANDARD
DTSTART:20181104T010000
RDATE:20190310T030000
TZOFFSETFROM:-0400
TZOFFSETTO:-0500
TZNAME:America/New_York EST
END:STANDARD
BEGIN:STANDARD
DTSTART:20191103T010000
RDATE:20200308T030000
TZOFFSETFROM:-0400
TZOFFSETTO:-0500
TZNAME:America/New_York EST
END:STANDARD
BEGIN:STANDARD
DTSTART:20201101T010000
RDATE:20210314T030000
TZOFFSETFROM:-0400
TZOFFSETTO:-0500
TZNAME:America/New_York EST
END:STANDARD
BEGIN:STANDARD
DTSTART:20211107T010000
RDATE:20220313T030000
TZOFFSETFROM:-0400
TZOFFSETTO:-0500
TZNAME:America/New_York EST
END:STANDARD
BEGIN:STANDARD
DTSTART:20221106T010000
RDATE:20230312T030000
TZOFFSETFROM:-0400
TZOFFSETTO:-0500
TZNAME:America/New_York EST
END:STANDARD
BEGIN:STANDARD
DTSTART:20231105T010000
RDATE:20240310T030000
TZOFFSETFROM:-0400
TZOFFSETTO:-0500
TZNAME:America/New_York EST
END:STANDARD
BEGIN:STANDARD
DTSTART:20241103T010000
RDATE:20250309T030000
TZOFFSETFROM:-0400
TZOFFSETTO:-0500
TZNAME:America/New_York EST
END:STANDARD
BEGIN:STANDARD
DTSTART:20251102T010000
RDATE:20260308T030000
TZOFFSETFROM:-0400
TZOFFSETTO:-0500
TZNAME:America/New_York EST
END:STANDARD
BEGIN:STANDARD
DTSTART:20261101T010000
RDATE:20270314T030000
TZOFFSETFROM:-0400
TZOFFSETTO:-0500
TZNAME:America/New_York EST
END:STANDARD
BEGIN:STANDARD
DTSTART:20271107T010000
RDATE:20280312T030000
TZOFFSETFROM:-0400
TZOFFSETTO:-0500
TZNAME:America/New_York EST
END:STANDARD
BEGIN:STANDARD
DTSTART:20281105T010000
RDATE:20290311T030000
TZOFFSETFROM:-0400
TZOFFSETTO:-0500
TZNAME:America/New_York EST
END:STANDARD
BEGIN:STANDARD
DTSTART:20291104T010000
RDATE:20300310T030000
TZOFFSETFROM:-0400
TZOFFSETTO:-0500
TZNAME:America/New_York EST
END:STANDARD
BEGIN:STANDARD
DTSTART:20301103T010000
RDATE:20310309T030000
TZOFFSETFROM:-0400
TZOFFSETTO:-0500
TZNAME:America/New_York EST
END:STANDARD
BEGIN:STANDARD
DTSTART:20311102T010000
RDATE:20320314T030000
TZOFFSETFROM:-0400
TZOFFSETTO:-0500
TZNAME:America/New_York EST
END:STANDARD
BEGIN:DAYLIGHT
DTSTART:20180321T190000
RDATE:20181104T010000
TZOFFSETFROM:-0500
TZOFFSETTO:-0400
TZNAME:America/New_York EDT
END:DAYLIGHT
BEGIN:DAYLIGHT
DTSTART:20190310T030000
RDATE:20191103T010000
TZOFFSETFROM:-0500
TZOFFSETTO:-0400
TZNAME:America/New_York EDT
END:DAYLIGHT
BEGIN:DAYLIGHT
DTSTART:20200308T030000
RDATE:20201101T010000
TZOFFSETFROM:-0500
TZOFFSETTO:-0400
TZNAME:America/New_York EDT
END:DAYLIGHT
BEGIN:DAYLIGHT
DTSTART:20210314T030000
RDATE:20211107T010000
TZOFFSETFROM:-0500
TZOFFSETTO:-0400
TZNAME:America/New_York EDT
END:DAYLIGHT
BEGIN:DAYLIGHT
DTSTART:20220313T030000
RDATE:20221106T010000
TZOFFSETFROM:-0500
TZOFFSETTO:-0400
TZNAME:America/New_York EDT
END:DAYLIGHT
BEGIN:DAYLIGHT
DTSTART:20230312T030000
RDATE:20231105T010000
TZOFFSETFROM:-0500
TZOFFSETTO:-0400
TZNAME:America/New_York EDT
END:DAYLIGHT
BEGIN:DAYLIGHT
DTSTART:20240310T030000
RDATE:20241103T010000
TZOFFSETFROM:-0500
TZOFFSETTO:-0400
TZNAME:America/New_York EDT
END:DAYLIGHT
BEGIN:DAYLIGHT
DTSTART:20250309T030000
RDATE:20251102T010000
TZOFFSETFROM:-0500
TZOFFSETTO:-0400
TZNAME:America/New_York EDT
END:DAYLIGHT
BEGIN:DAYLIGHT
DTSTART:20260308T030000
RDATE:20261101T010000
TZOFFSETFROM:-0500
TZOFFSETTO:-0400
TZNAME:America/New_York EDT
END:DAYLIGHT
BEGIN:DAYLIGHT
DTSTART:20270314T030000
RDATE:20271107T010000
TZOFFSETFROM:-0500
TZOFFSETTO:-0400
TZNAME:America/New_York EDT
END:DAYLIGHT
BEGIN:DAYLIGHT
DTSTART:20280312T030000
RDATE:20281105T010000
TZOFFSETFROM:-0500
TZOFFSETTO:-0400
TZNAME:America/New_York EDT
END:DAYLIGHT
BEGIN:DAYLIGHT
DTSTART:20290311T030000
RDATE:20291104T010000
TZOFFSETFROM:-0500
TZOFFSETTO:-0400
TZNAME:America/New_York EDT
END:DAYLIGHT
BEGIN:DAYLIGHT
DTSTART:20300310T030000
RDATE:20301103T010000
TZOFFSETFROM:-0500
TZOFFSETTO:-0400
TZNAME:America/New_York EDT
END:DAYLIGHT
BEGIN:DAYLIGHT
DTSTART:20310309T030000
RDATE:20311102T010000
TZOFFSETFROM:-0500
TZOFFSETTO:-0400
TZNAME:America/New_York EDT
END:DAYLIGHT
END:VTIMEZONE
BEGIN:VEVENT
UID:506208766f324f8d9e70fe79c88d8a9a
CATEGORIES:BYO Events
CREATED:20190131T202039
SUMMARY:Introduction to Glass Fusion and Glass Enamels BYOB - Sunflower Panel SOLD OUT
LOCATION:Art In The Pod
DESCRIPTION:SOLD OUT Introduction to Glass Fusion and Glass Enamels BYOB - Sunflower Pa
 nel\n\nPHONE ONLY - REGISTRATION FOR THIS EVENT\nIF YOU REACH OUR VOICEMAIL
  PLEASE LEAVE THE FOLLOWING INFORMATION TO SAVE YOUR PLACE:\nName, How Many
  People, Date and a Phone Number we can call to confirm your seats.\nEvent 
 Description:\nThis classes instruction will be on the Sunflower as seen in 
 the picture.\nCreate your very own Fused Glass art panel while learning the
  art of glass fusing using Spectrum 96 System glass. In this class we will 
 be using a wide variety of materials and techniques to create your finished
  piece. The Finished piece for this class is approximately 7"x5".\nFirst we
  will use a combination of glass enamels and glazes to paint your initial d
 esign onto a 5"x7 " pre-cut glass . After your main design is dry we will  
 continue adding more embellishments to finish and bring your final creation
  to life. If you feel creative you may pick your own design to create your 
 very own glass fusion masterpiece.\nYour finished piece will be contour fir
 ed to allow a variety of different depths.\nAll works will be ready for pic
 kup in 7 - 14 days.\nCost: $75 $40\n\n
X-ALT-DESC;FMTTYPE=text/html:<p><strong>SOLD OUT Introduction to Glass Fusion and Glass Enamels BYOB - S
 unflower Panel<br /></strong></p><p><strong>PHONE ONLY - REGISTRATION FOR T
 HIS EVENT</strong><br /><strong>IF YOU REACH OUR VOICEMAIL PLEASE LEAVE THE
  FOLLOWING INFORMATION TO SAVE YOUR PLACE:</strong><br />Name, How Many Peo
 ple, Date and a Phone Number we can call to confirm your seats.</p><p><stro
 ng>Event Description:</strong><br />This classes instruction will be on the
  Sunflower as seen in the picture.</p><p>Create your very own Fused Glass a
 rt panel while learning the art of glass fusing using Spectrum 96 System gl
 ass. In this class we will be using a wide variety of materials and techniq
 ues to create your finished piece.&nbsp;The Finished piece&nbsp;for this cl
 ass&nbsp;is approximately 7"x5".</p><p>First we will use a combination of&n
 bsp;glass enamels and glazes to paint&nbsp;your initial design onto a 5"x7 
 " pre-cut glass . After your main design is dry we will&nbsp; continue addi
 ng more embellishments to finish and bring your final creation to life. If 
 you feel creative you may pick your own design to create your very own glas
 s fusion masterpiece.</p><p>Your finished piece will be contour fired to al
 low a variety of different depths.</p><p>All works will be ready for pickup
  in 7 - 14 days.</p><p><strong><strong><strong>Cost:&nbsp;<span style="text
 -decoration: line-through;">$75</span> $40<br /></strong></strong></strong>
 </p>
DTSTAMP:20260424T154802
DTSTART;TZID=America/New_York:20190322T190000
DTEND;TZID=America/New_York:20190322T210000
SEQUENCE:0
TRANSP:OPAQUE
END:VEVENT
END:VCALENDAR