BEGIN:VCALENDAR
VERSION:2.0
PRODID:-//jEvents 2.0 for Joomla//EN
CALSCALE:GREGORIAN
METHOD:PUBLISH
BEGIN:VTIMEZONE
TZID:America/New_York
BEGIN:STANDARD
DTSTART:20181104T010000
RDATE:20190310T030000
TZOFFSETFROM:-0400
TZOFFSETTO:-0500
TZNAME:America/New_York EST
END:STANDARD
BEGIN:STANDARD
DTSTART:20191103T010000
RDATE:20200308T030000
TZOFFSETFROM:-0400
TZOFFSETTO:-0500
TZNAME:America/New_York EST
END:STANDARD
BEGIN:STANDARD
DTSTART:20201101T010000
RDATE:20210314T030000
TZOFFSETFROM:-0400
TZOFFSETTO:-0500
TZNAME:America/New_York EST
END:STANDARD
BEGIN:STANDARD
DTSTART:20211107T010000
RDATE:20220313T030000
TZOFFSETFROM:-0400
TZOFFSETTO:-0500
TZNAME:America/New_York EST
END:STANDARD
BEGIN:STANDARD
DTSTART:20221106T010000
RDATE:20230312T030000
TZOFFSETFROM:-0400
TZOFFSETTO:-0500
TZNAME:America/New_York EST
END:STANDARD
BEGIN:STANDARD
DTSTART:20231105T010000
RDATE:20240310T030000
TZOFFSETFROM:-0400
TZOFFSETTO:-0500
TZNAME:America/New_York EST
END:STANDARD
BEGIN:STANDARD
DTSTART:20241103T010000
RDATE:20250309T030000
TZOFFSETFROM:-0400
TZOFFSETTO:-0500
TZNAME:America/New_York EST
END:STANDARD
BEGIN:STANDARD
DTSTART:20251102T010000
RDATE:20260308T030000
TZOFFSETFROM:-0400
TZOFFSETTO:-0500
TZNAME:America/New_York EST
END:STANDARD
BEGIN:STANDARD
DTSTART:20261101T010000
RDATE:20270314T030000
TZOFFSETFROM:-0400
TZOFFSETTO:-0500
TZNAME:America/New_York EST
END:STANDARD
BEGIN:STANDARD
DTSTART:20271107T010000
RDATE:20280312T030000
TZOFFSETFROM:-0400
TZOFFSETTO:-0500
TZNAME:America/New_York EST
END:STANDARD
BEGIN:STANDARD
DTSTART:20281105T010000
RDATE:20290311T030000
TZOFFSETFROM:-0400
TZOFFSETTO:-0500
TZNAME:America/New_York EST
END:STANDARD
BEGIN:STANDARD
DTSTART:20291104T010000
RDATE:20300310T030000
TZOFFSETFROM:-0400
TZOFFSETTO:-0500
TZNAME:America/New_York EST
END:STANDARD
BEGIN:STANDARD
DTSTART:20301103T010000
RDATE:20310309T030000
TZOFFSETFROM:-0400
TZOFFSETTO:-0500
TZNAME:America/New_York EST
END:STANDARD
BEGIN:STANDARD
DTSTART:20311102T010000
RDATE:20320314T030000
TZOFFSETFROM:-0400
TZOFFSETTO:-0500
TZNAME:America/New_York EST
END:STANDARD
BEGIN:DAYLIGHT
DTSTART:20180714T130000
RDATE:20181104T010000
TZOFFSETFROM:-0500
TZOFFSETTO:-0400
TZNAME:America/New_York EDT
END:DAYLIGHT
BEGIN:DAYLIGHT
DTSTART:20190310T030000
RDATE:20191103T010000
TZOFFSETFROM:-0500
TZOFFSETTO:-0400
TZNAME:America/New_York EDT
END:DAYLIGHT
BEGIN:DAYLIGHT
DTSTART:20200308T030000
RDATE:20201101T010000
TZOFFSETFROM:-0500
TZOFFSETTO:-0400
TZNAME:America/New_York EDT
END:DAYLIGHT
BEGIN:DAYLIGHT
DTSTART:20210314T030000
RDATE:20211107T010000
TZOFFSETFROM:-0500
TZOFFSETTO:-0400
TZNAME:America/New_York EDT
END:DAYLIGHT
BEGIN:DAYLIGHT
DTSTART:20220313T030000
RDATE:20221106T010000
TZOFFSETFROM:-0500
TZOFFSETTO:-0400
TZNAME:America/New_York EDT
END:DAYLIGHT
BEGIN:DAYLIGHT
DTSTART:20230312T030000
RDATE:20231105T010000
TZOFFSETFROM:-0500
TZOFFSETTO:-0400
TZNAME:America/New_York EDT
END:DAYLIGHT
BEGIN:DAYLIGHT
DTSTART:20240310T030000
RDATE:20241103T010000
TZOFFSETFROM:-0500
TZOFFSETTO:-0400
TZNAME:America/New_York EDT
END:DAYLIGHT
BEGIN:DAYLIGHT
DTSTART:20250309T030000
RDATE:20251102T010000
TZOFFSETFROM:-0500
TZOFFSETTO:-0400
TZNAME:America/New_York EDT
END:DAYLIGHT
BEGIN:DAYLIGHT
DTSTART:20260308T030000
RDATE:20261101T010000
TZOFFSETFROM:-0500
TZOFFSETTO:-0400
TZNAME:America/New_York EDT
END:DAYLIGHT
BEGIN:DAYLIGHT
DTSTART:20270314T030000
RDATE:20271107T010000
TZOFFSETFROM:-0500
TZOFFSETTO:-0400
TZNAME:America/New_York EDT
END:DAYLIGHT
BEGIN:DAYLIGHT
DTSTART:20280312T030000
RDATE:20281105T010000
TZOFFSETFROM:-0500
TZOFFSETTO:-0400
TZNAME:America/New_York EDT
END:DAYLIGHT
BEGIN:DAYLIGHT
DTSTART:20290311T030000
RDATE:20291104T010000
TZOFFSETFROM:-0500
TZOFFSETTO:-0400
TZNAME:America/New_York EDT
END:DAYLIGHT
BEGIN:DAYLIGHT
DTSTART:20300310T030000
RDATE:20301103T010000
TZOFFSETFROM:-0500
TZOFFSETTO:-0400
TZNAME:America/New_York EDT
END:DAYLIGHT
BEGIN:DAYLIGHT
DTSTART:20310309T030000
RDATE:20311102T010000
TZOFFSETFROM:-0500
TZOFFSETTO:-0400
TZNAME:America/New_York EDT
END:DAYLIGHT
END:VTIMEZONE
BEGIN:VEVENT
UID:94d07630a562654a1a7b45ba23dae3df
CATEGORIES:Art-Camps
CREATED:20190131T210938
SUMMARY:Keep Cool With Kandinsky! Summer Art Camp July 15th-19th
LOCATION:Art In The Pod
DESCRIPTION:Keep Cool With Kandinsky! Summer Art Camp!\nInspired By Featured Artist: WA
 SSILY KANDINSKY\n\n \nHave a creative, fun and exciting summer at Art In Th
 e Pod!Campers ages 6-12 will be inspired by a different featured artist eac
 h week as they explore various art mediums such as drawing, canvas painting
 , watercolor, clay building, print making, glass fusion, mixed media and mo
 re!We provide children the opportunity to grow and express their own creati
 vity in a fun a nurturing environment.Create fun abstract works of art usin
 g color, form and designs! Let your imagination go, using music to create y
 our own geometric masterpieces.Camp Hours:\nMorning Session 9:00AM - 12:00P
 M\nAfternoon Session 1:00PM - 4:00PM\nFull Day Session 9:00AM - 4:00PM\n \n
 \n<a style="font-size: xx-large; font-weight: bolder;" title="Summer Camp R
 egistration" href="index.php?option=com_hikashop&amp;view=category&amp;layo
 ut=listing&amp;Itemid=166">REGISTER FOR CAMPS CLICK HERE!</a>\n
X-ALT-DESC;FMTTYPE=text/html:<h2><strong>Keep Cool With Kandinsky! Summer Art Camp!</strong><br /><stron
 g>Inspired By Featured Artist: WASSILY KANDINSKY<br /><strong><strong><br /
 ></strong></strong></strong></h2><p>&nbsp;</p><h3><strong>Have a creative, 
 fun and exciting summer at Art In The Pod!</strong></h3><h3>Campers ages 6-
 12 will be inspired by a different featured artist each week as they explor
 e various art mediums such as drawing, canvas painting, watercolor, clay bu
 ilding, print making, glass fusion, mixed media and more!</h3><h3>We provid
 e children the opportunity to grow and express their own creativity in a fu
 n a nurturing environment.</h3><h3>Create fun abstract works of art using c
 olor, form and designs! Let your imagination go, using music to create your
  own geometric masterpieces.</h3><p><strong>Camp Hours:</strong><br />Morni
 ng Session 9:00AM - 12:00PM<br />Afternoon Session 1:00PM - 4:00PM<br />Ful
 l Day Session 9:00AM - 4:00PM</p><p>&nbsp;</p><p><a style="font-size: xx-la
 rge; font-weight: bolder;" title="Summer Camp Registration" href="index.php
 ?option=com_hikashop&amp;view=category&amp;layout=listing&amp;Itemid=166"><
 span style="color: #ff0000;">REGISTER FOR CAMPS</span> <span style="text-de
 coration: underline;">CLICK HERE</span>!</a></p><p><a style="font-size: xx-
 large; font-weight: bolder;" title="Summer Camp Registration" href="index.p
 hp?option=com_hikashop&amp;view=category&amp;layout=listing&amp;Itemid=166"
 ><span style="color: #ff0000;">REGISTER FOR CAMPS</span> <span style="text-
 decoration: underline;">CLICK HERE</span>!</a></p>
DTSTAMP:20260425T035746
DTSTART;TZID=America/New_York:20190715T130000
DTEND;TZID=America/New_York:20190719T160000
SEQUENCE:0
TRANSP:OPAQUE
END:VEVENT
END:VCALENDAR