BEGIN:VCALENDAR
VERSION:2.0
PRODID:-//jEvents 2.0 for Joomla//EN
CALSCALE:GREGORIAN
METHOD:PUBLISH
BEGIN:VTIMEZONE
TZID:America/New_York
BEGIN:STANDARD
DTSTART:20181104T010000
RDATE:20190310T030000
TZOFFSETFROM:-0400
TZOFFSETTO:-0500
TZNAME:America/New_York EST
END:STANDARD
BEGIN:STANDARD
DTSTART:20191103T010000
RDATE:20200308T030000
TZOFFSETFROM:-0400
TZOFFSETTO:-0500
TZNAME:America/New_York EST
END:STANDARD
BEGIN:STANDARD
DTSTART:20201101T010000
RDATE:20210314T030000
TZOFFSETFROM:-0400
TZOFFSETTO:-0500
TZNAME:America/New_York EST
END:STANDARD
BEGIN:STANDARD
DTSTART:20211107T010000
RDATE:20220313T030000
TZOFFSETFROM:-0400
TZOFFSETTO:-0500
TZNAME:America/New_York EST
END:STANDARD
BEGIN:STANDARD
DTSTART:20221106T010000
RDATE:20230312T030000
TZOFFSETFROM:-0400
TZOFFSETTO:-0500
TZNAME:America/New_York EST
END:STANDARD
BEGIN:STANDARD
DTSTART:20231105T010000
RDATE:20240310T030000
TZOFFSETFROM:-0400
TZOFFSETTO:-0500
TZNAME:America/New_York EST
END:STANDARD
BEGIN:STANDARD
DTSTART:20241103T010000
RDATE:20250309T030000
TZOFFSETFROM:-0400
TZOFFSETTO:-0500
TZNAME:America/New_York EST
END:STANDARD
BEGIN:STANDARD
DTSTART:20251102T010000
RDATE:20260308T030000
TZOFFSETFROM:-0400
TZOFFSETTO:-0500
TZNAME:America/New_York EST
END:STANDARD
BEGIN:STANDARD
DTSTART:20261101T010000
RDATE:20270314T030000
TZOFFSETFROM:-0400
TZOFFSETTO:-0500
TZNAME:America/New_York EST
END:STANDARD
BEGIN:STANDARD
DTSTART:20271107T010000
RDATE:20280312T030000
TZOFFSETFROM:-0400
TZOFFSETTO:-0500
TZNAME:America/New_York EST
END:STANDARD
BEGIN:STANDARD
DTSTART:20281105T010000
RDATE:20290311T030000
TZOFFSETFROM:-0400
TZOFFSETTO:-0500
TZNAME:America/New_York EST
END:STANDARD
BEGIN:STANDARD
DTSTART:20291104T010000
RDATE:20300310T030000
TZOFFSETFROM:-0400
TZOFFSETTO:-0500
TZNAME:America/New_York EST
END:STANDARD
BEGIN:STANDARD
DTSTART:20301103T010000
RDATE:20310309T030000
TZOFFSETFROM:-0400
TZOFFSETTO:-0500
TZNAME:America/New_York EST
END:STANDARD
BEGIN:STANDARD
DTSTART:20311102T010000
RDATE:20320314T030000
TZOFFSETFROM:-0400
TZOFFSETTO:-0500
TZNAME:America/New_York EST
END:STANDARD
BEGIN:DAYLIGHT
DTSTART:20180811T090000
RDATE:20181104T010000
TZOFFSETFROM:-0500
TZOFFSETTO:-0400
TZNAME:America/New_York EDT
END:DAYLIGHT
BEGIN:DAYLIGHT
DTSTART:20190310T030000
RDATE:20191103T010000
TZOFFSETFROM:-0500
TZOFFSETTO:-0400
TZNAME:America/New_York EDT
END:DAYLIGHT
BEGIN:DAYLIGHT
DTSTART:20200308T030000
RDATE:20201101T010000
TZOFFSETFROM:-0500
TZOFFSETTO:-0400
TZNAME:America/New_York EDT
END:DAYLIGHT
BEGIN:DAYLIGHT
DTSTART:20210314T030000
RDATE:20211107T010000
TZOFFSETFROM:-0500
TZOFFSETTO:-0400
TZNAME:America/New_York EDT
END:DAYLIGHT
BEGIN:DAYLIGHT
DTSTART:20220313T030000
RDATE:20221106T010000
TZOFFSETFROM:-0500
TZOFFSETTO:-0400
TZNAME:America/New_York EDT
END:DAYLIGHT
BEGIN:DAYLIGHT
DTSTART:20230312T030000
RDATE:20231105T010000
TZOFFSETFROM:-0500
TZOFFSETTO:-0400
TZNAME:America/New_York EDT
END:DAYLIGHT
BEGIN:DAYLIGHT
DTSTART:20240310T030000
RDATE:20241103T010000
TZOFFSETFROM:-0500
TZOFFSETTO:-0400
TZNAME:America/New_York EDT
END:DAYLIGHT
BEGIN:DAYLIGHT
DTSTART:20250309T030000
RDATE:20251102T010000
TZOFFSETFROM:-0500
TZOFFSETTO:-0400
TZNAME:America/New_York EDT
END:DAYLIGHT
BEGIN:DAYLIGHT
DTSTART:20260308T030000
RDATE:20261101T010000
TZOFFSETFROM:-0500
TZOFFSETTO:-0400
TZNAME:America/New_York EDT
END:DAYLIGHT
BEGIN:DAYLIGHT
DTSTART:20270314T030000
RDATE:20271107T010000
TZOFFSETFROM:-0500
TZOFFSETTO:-0400
TZNAME:America/New_York EDT
END:DAYLIGHT
BEGIN:DAYLIGHT
DTSTART:20280312T030000
RDATE:20281105T010000
TZOFFSETFROM:-0500
TZOFFSETTO:-0400
TZNAME:America/New_York EDT
END:DAYLIGHT
BEGIN:DAYLIGHT
DTSTART:20290311T030000
RDATE:20291104T010000
TZOFFSETFROM:-0500
TZOFFSETTO:-0400
TZNAME:America/New_York EDT
END:DAYLIGHT
BEGIN:DAYLIGHT
DTSTART:20300310T030000
RDATE:20301103T010000
TZOFFSETFROM:-0500
TZOFFSETTO:-0400
TZNAME:America/New_York EDT
END:DAYLIGHT
BEGIN:DAYLIGHT
DTSTART:20310309T030000
RDATE:20311102T010000
TZOFFSETFROM:-0500
TZOFFSETTO:-0400
TZNAME:America/New_York EDT
END:DAYLIGHT
END:VTIMEZONE
BEGIN:VEVENT
UID:d421d83deb9059813ad33aae16112255
CATEGORIES:Art-Camps
CREATED:20190131T214318
SUMMARY:Oceans Of Fun With Oppenheim! Summer Art Camp August 12th-16th
LOCATION:Art In The Pod
DESCRIPTION:Oceans Of Fun With Oppenheim! Summer Art Camp!\nInspired By Featured Artist
 : MERET OPPENHEIM\n\nHave a creative, fun and exciting summer at Art In The
  Pod!Campers ages 6-12 will be inspired by a different featured artist each
  week as they explore various art mediums such as drawing, canvas painting,
  watercolor, clay building, print making, glass fusion, mixed media and mor
 e!We provide children the opportunity to grow and express their own creativ
 ity in a fun a nurturing environment.Create fun abstract works of art using
  color, form and designs! Let your imagination go, using music to create yo
 ur own geometric masterpieces.Camp Hours:\nMorning Session 9:00AM - 12:00PM
 \nAfternoon Session 1:00PM - 4:00PM\nFull Day Session 9:00AM - 4:00PM\n \n\
 n<a style="font-size: xx-large; font-weight: bolder;" title="Summer Camp Re
 gistration" href="index.php?option=com_hikashop&amp;view=category&amp;layou
 t=listing&amp;Itemid=166">REGISTER FOR CAMPS CLICK HERE!</a>\n \n
X-ALT-DESC;FMTTYPE=text/html:<h2><strong>Oceans Of Fun With Oppenheim! Summer Art Camp!</strong><br /><s
 trong>Inspired By Featured Artist: MERET OPPENHEIM<br /><strong><strong><br
  /></strong></strong></strong></h2><h3><strong>Have a creative, fun and exc
 iting summer at Art In The Pod!</strong></h3><h3>Campers ages 6-12 will be 
 inspired by a different featured artist each week as they explore various a
 rt mediums such as drawing, canvas painting, watercolor, clay building, pri
 nt making, glass fusion, mixed media and more!</h3><h3>We provide children 
 the opportunity to grow and express their own creativity in a fun a nurturi
 ng environment.</h3><h3>Create fun abstract works of art using color, form 
 and designs! Let your imagination go, using music to create your own geomet
 ric masterpieces.</h3><p><strong>Camp Hours:</strong><br />Morning Session 
 9:00AM - 12:00PM<br />Afternoon Session 1:00PM - 4:00PM<br />Full Day Sessi
 on 9:00AM - 4:00PM</p><p>&nbsp;</p><p><a style="font-size: xx-large; font-w
 eight: bolder;" title="Summer Camp Registration" href="index.php?option=com
 _hikashop&amp;view=category&amp;layout=listing&amp;Itemid=166"><span style=
 "color: #ff0000;">REGISTER FOR CAMPS</span> <span style="text-decoration: u
 nderline;">CLICK HERE</span>!</a></p><p><a style="font-size: xx-large; font
 -weight: bolder;" title="Summer Camp Registration" href="index.php?option=c
 om_hikashop&amp;view=category&amp;layout=listing&amp;Itemid=166"><span styl
 e="color: #ff0000;">REGISTER FOR CAMPS</span> <span style="text-decoration:
  underline;">CLICK HERE</span>!</a></p><p>&nbsp;</p>
DTSTAMP:20260425T104816
DTSTART;TZID=America/New_York:20190812T090000
DTEND;TZID=America/New_York:20190816T120000
SEQUENCE:0
TRANSP:OPAQUE
END:VEVENT
END:VCALENDAR