BEGIN:VCALENDAR
VERSION:2.0
PRODID:-//jEvents 2.0 for Joomla//EN
CALSCALE:GREGORIAN
METHOD:PUBLISH
BEGIN:VTIMEZONE
TZID:America/New_York
BEGIN:STANDARD
DTSTART:20181104T010000
RDATE:20190310T030000
TZOFFSETFROM:-0400
TZOFFSETTO:-0500
TZNAME:America/New_York EST
END:STANDARD
BEGIN:STANDARD
DTSTART:20191103T010000
RDATE:20200308T030000
TZOFFSETFROM:-0400
TZOFFSETTO:-0500
TZNAME:America/New_York EST
END:STANDARD
BEGIN:STANDARD
DTSTART:20201101T010000
RDATE:20210314T030000
TZOFFSETFROM:-0400
TZOFFSETTO:-0500
TZNAME:America/New_York EST
END:STANDARD
BEGIN:STANDARD
DTSTART:20211107T010000
RDATE:20220313T030000
TZOFFSETFROM:-0400
TZOFFSETTO:-0500
TZNAME:America/New_York EST
END:STANDARD
BEGIN:STANDARD
DTSTART:20221106T010000
RDATE:20230312T030000
TZOFFSETFROM:-0400
TZOFFSETTO:-0500
TZNAME:America/New_York EST
END:STANDARD
BEGIN:STANDARD
DTSTART:20231105T010000
RDATE:20240310T030000
TZOFFSETFROM:-0400
TZOFFSETTO:-0500
TZNAME:America/New_York EST
END:STANDARD
BEGIN:STANDARD
DTSTART:20241103T010000
RDATE:20250309T030000
TZOFFSETFROM:-0400
TZOFFSETTO:-0500
TZNAME:America/New_York EST
END:STANDARD
BEGIN:STANDARD
DTSTART:20251102T010000
RDATE:20260308T030000
TZOFFSETFROM:-0400
TZOFFSETTO:-0500
TZNAME:America/New_York EST
END:STANDARD
BEGIN:STANDARD
DTSTART:20261101T010000
RDATE:20270314T030000
TZOFFSETFROM:-0400
TZOFFSETTO:-0500
TZNAME:America/New_York EST
END:STANDARD
BEGIN:STANDARD
DTSTART:20271107T010000
RDATE:20280312T030000
TZOFFSETFROM:-0400
TZOFFSETTO:-0500
TZNAME:America/New_York EST
END:STANDARD
BEGIN:STANDARD
DTSTART:20281105T010000
RDATE:20290311T030000
TZOFFSETFROM:-0400
TZOFFSETTO:-0500
TZNAME:America/New_York EST
END:STANDARD
BEGIN:STANDARD
DTSTART:20291104T010000
RDATE:20300310T030000
TZOFFSETFROM:-0400
TZOFFSETTO:-0500
TZNAME:America/New_York EST
END:STANDARD
BEGIN:STANDARD
DTSTART:20301103T010000
RDATE:20310309T030000
TZOFFSETFROM:-0400
TZOFFSETTO:-0500
TZNAME:America/New_York EST
END:STANDARD
BEGIN:STANDARD
DTSTART:20311102T010000
RDATE:20320314T030000
TZOFFSETFROM:-0400
TZOFFSETTO:-0500
TZNAME:America/New_York EST
END:STANDARD
BEGIN:DAYLIGHT
DTSTART:20180818T130000
RDATE:20181104T010000
TZOFFSETFROM:-0500
TZOFFSETTO:-0400
TZNAME:America/New_York EDT
END:DAYLIGHT
BEGIN:DAYLIGHT
DTSTART:20190310T030000
RDATE:20191103T010000
TZOFFSETFROM:-0500
TZOFFSETTO:-0400
TZNAME:America/New_York EDT
END:DAYLIGHT
BEGIN:DAYLIGHT
DTSTART:20200308T030000
RDATE:20201101T010000
TZOFFSETFROM:-0500
TZOFFSETTO:-0400
TZNAME:America/New_York EDT
END:DAYLIGHT
BEGIN:DAYLIGHT
DTSTART:20210314T030000
RDATE:20211107T010000
TZOFFSETFROM:-0500
TZOFFSETTO:-0400
TZNAME:America/New_York EDT
END:DAYLIGHT
BEGIN:DAYLIGHT
DTSTART:20220313T030000
RDATE:20221106T010000
TZOFFSETFROM:-0500
TZOFFSETTO:-0400
TZNAME:America/New_York EDT
END:DAYLIGHT
BEGIN:DAYLIGHT
DTSTART:20230312T030000
RDATE:20231105T010000
TZOFFSETFROM:-0500
TZOFFSETTO:-0400
TZNAME:America/New_York EDT
END:DAYLIGHT
BEGIN:DAYLIGHT
DTSTART:20240310T030000
RDATE:20241103T010000
TZOFFSETFROM:-0500
TZOFFSETTO:-0400
TZNAME:America/New_York EDT
END:DAYLIGHT
BEGIN:DAYLIGHT
DTSTART:20250309T030000
RDATE:20251102T010000
TZOFFSETFROM:-0500
TZOFFSETTO:-0400
TZNAME:America/New_York EDT
END:DAYLIGHT
BEGIN:DAYLIGHT
DTSTART:20260308T030000
RDATE:20261101T010000
TZOFFSETFROM:-0500
TZOFFSETTO:-0400
TZNAME:America/New_York EDT
END:DAYLIGHT
BEGIN:DAYLIGHT
DTSTART:20270314T030000
RDATE:20271107T010000
TZOFFSETFROM:-0500
TZOFFSETTO:-0400
TZNAME:America/New_York EDT
END:DAYLIGHT
BEGIN:DAYLIGHT
DTSTART:20280312T030000
RDATE:20281105T010000
TZOFFSETFROM:-0500
TZOFFSETTO:-0400
TZNAME:America/New_York EDT
END:DAYLIGHT
BEGIN:DAYLIGHT
DTSTART:20290311T030000
RDATE:20291104T010000
TZOFFSETFROM:-0500
TZOFFSETTO:-0400
TZNAME:America/New_York EDT
END:DAYLIGHT
BEGIN:DAYLIGHT
DTSTART:20300310T030000
RDATE:20301103T010000
TZOFFSETFROM:-0500
TZOFFSETTO:-0400
TZNAME:America/New_York EDT
END:DAYLIGHT
BEGIN:DAYLIGHT
DTSTART:20310309T030000
RDATE:20311102T010000
TZOFFSETFROM:-0500
TZOFFSETTO:-0400
TZNAME:America/New_York EDT
END:DAYLIGHT
END:VTIMEZONE
BEGIN:VEVENT
UID:1ee708c5594a1936d3a8880c8f8798e3
CATEGORIES:Art-Camps
CREATED:20190131T214819
SUMMARY:Lots Of Laughs With Lichtenstein! Summer Art Camp August 19th-23rd
LOCATION:Art In The Pod
DESCRIPTION:Lots Of Laughs With Lichtenstein! Summer Art Camp!\nInspired By Featured Ar
 tist: ROY LICHTENSTEIN\n\nHave a creative, fun and exciting summer at Art I
 n The Pod!Campers ages 6-12 will be inspired by a different featured artist
  each week as they explore various art mediums such as drawing, canvas pain
 ting, watercolor, clay building, print making, glass fusion, mixed media an
 d more!We provide children the opportunity to grow and express their own cr
 eativity in a fun a nurturing environment.Create fun abstract works of art 
 using color, form and designs! Let your imagination go, using music to crea
 te your own geometric masterpieces.Camp Hours:\nMorning Session 9:00AM - 12
 :00PM\nAfternoon Session 1:00PM - 4:00PM\nFull Day Session 9:00AM - 4:00PM\
 n \n\n<a style="font-size: xx-large; font-weight: bolder;" title="Summer Ca
 mp Registration" href="index.php?option=com_hikashop&amp;view=category&amp;
 layout=listing&amp;Itemid=166">REGISTER FOR CAMPS CLICK HERE!</a>\n
X-ALT-DESC;FMTTYPE=text/html:<h2><strong>Lots Of Laughs With Lichtenstein! Summer Art Camp!</strong><br 
 /><strong>Inspired By Featured Artist: ROY LICHTENSTEIN<br /><strong><stron
 g><br /></strong></strong></strong></h2><h3><strong>Have a creative, fun an
 d exciting summer at Art In The Pod!</strong></h3><h3>Campers ages 6-12 wil
 l be inspired by a different featured artist each week as they explore vari
 ous art mediums such as drawing, canvas painting, watercolor, clay building
 , print making, glass fusion, mixed media and more!</h3><h3>We provide chil
 dren the opportunity to grow and express their own creativity in a fun a nu
 rturing environment.</h3><h3>Create fun abstract works of art using color, 
 form and designs! Let your imagination go, using music to create your own g
 eometric masterpieces.</h3><p><strong>Camp Hours:</strong><br />Morning Ses
 sion 9:00AM - 12:00PM<br />Afternoon Session 1:00PM - 4:00PM<br />Full Day 
 Session 9:00AM - 4:00PM</p><p>&nbsp;</p><p><a style="font-size: xx-large; f
 ont-weight: bolder;" title="Summer Camp Registration" href="index.php?optio
 n=com_hikashop&amp;view=category&amp;layout=listing&amp;Itemid=166"><span s
 tyle="color: #ff0000;">REGISTER FOR CAMPS</span> <span style="text-decorati
 on: underline;">CLICK HERE</span>!</a></p><p><a style="font-size: xx-large;
  font-weight: bolder;" title="Summer Camp Registration" href="index.php?opt
 ion=com_hikashop&amp;view=category&amp;layout=listing&amp;Itemid=166"><span
  style="color: #ff0000;">REGISTER FOR CAMPS</span> <span style="text-decora
 tion: underline;">CLICK HERE</span>!</a></p>
DTSTAMP:20260425T104040
DTSTART;TZID=America/New_York:20190819T130000
DTEND;TZID=America/New_York:20190823T160000
SEQUENCE:0
TRANSP:OPAQUE
END:VEVENT
END:VCALENDAR