BEGIN:VCALENDAR
VERSION:2.0
PRODID:-//jEvents 2.0 for Joomla//EN
CALSCALE:GREGORIAN
METHOD:PUBLISH
BEGIN:VTIMEZONE
TZID:America/New_York
BEGIN:STANDARD
DTSTART:20180302T023000
RDATE:20180311T030000
TZOFFSETFROM:-0400
TZOFFSETTO:-0500
TZNAME:America/New_York EST
END:STANDARD
BEGIN:STANDARD
DTSTART:20181104T010000
RDATE:20190310T030000
TZOFFSETFROM:-0400
TZOFFSETTO:-0500
TZNAME:America/New_York EST
END:STANDARD
BEGIN:STANDARD
DTSTART:20191103T010000
RDATE:20200308T030000
TZOFFSETFROM:-0400
TZOFFSETTO:-0500
TZNAME:America/New_York EST
END:STANDARD
BEGIN:STANDARD
DTSTART:20201101T010000
RDATE:20210314T030000
TZOFFSETFROM:-0400
TZOFFSETTO:-0500
TZNAME:America/New_York EST
END:STANDARD
BEGIN:STANDARD
DTSTART:20211107T010000
RDATE:20220313T030000
TZOFFSETFROM:-0400
TZOFFSETTO:-0500
TZNAME:America/New_York EST
END:STANDARD
BEGIN:STANDARD
DTSTART:20221106T010000
RDATE:20230312T030000
TZOFFSETFROM:-0400
TZOFFSETTO:-0500
TZNAME:America/New_York EST
END:STANDARD
BEGIN:STANDARD
DTSTART:20231105T010000
RDATE:20240310T030000
TZOFFSETFROM:-0400
TZOFFSETTO:-0500
TZNAME:America/New_York EST
END:STANDARD
BEGIN:STANDARD
DTSTART:20241103T010000
RDATE:20250309T030000
TZOFFSETFROM:-0400
TZOFFSETTO:-0500
TZNAME:America/New_York EST
END:STANDARD
BEGIN:STANDARD
DTSTART:20251102T010000
RDATE:20260308T030000
TZOFFSETFROM:-0400
TZOFFSETTO:-0500
TZNAME:America/New_York EST
END:STANDARD
BEGIN:STANDARD
DTSTART:20261101T010000
RDATE:20270314T030000
TZOFFSETFROM:-0400
TZOFFSETTO:-0500
TZNAME:America/New_York EST
END:STANDARD
BEGIN:STANDARD
DTSTART:20271107T010000
RDATE:20280312T030000
TZOFFSETFROM:-0400
TZOFFSETTO:-0500
TZNAME:America/New_York EST
END:STANDARD
BEGIN:STANDARD
DTSTART:20281105T010000
RDATE:20290311T030000
TZOFFSETFROM:-0400
TZOFFSETTO:-0500
TZNAME:America/New_York EST
END:STANDARD
BEGIN:STANDARD
DTSTART:20291104T010000
RDATE:20300310T030000
TZOFFSETFROM:-0400
TZOFFSETTO:-0500
TZNAME:America/New_York EST
END:STANDARD
BEGIN:STANDARD
DTSTART:20301103T010000
RDATE:20310309T030000
TZOFFSETFROM:-0400
TZOFFSETTO:-0500
TZNAME:America/New_York EST
END:STANDARD
BEGIN:STANDARD
DTSTART:20311102T010000
RDATE:20320314T030000
TZOFFSETFROM:-0400
TZOFFSETTO:-0500
TZNAME:America/New_York EST
END:STANDARD
BEGIN:DAYLIGHT
DTSTART:20180311T030000
RDATE:20181104T010000
TZOFFSETFROM:-0500
TZOFFSETTO:-0400
TZNAME:America/New_York EDT
END:DAYLIGHT
BEGIN:DAYLIGHT
DTSTART:20190310T030000
RDATE:20191103T010000
TZOFFSETFROM:-0500
TZOFFSETTO:-0400
TZNAME:America/New_York EDT
END:DAYLIGHT
BEGIN:DAYLIGHT
DTSTART:20200308T030000
RDATE:20201101T010000
TZOFFSETFROM:-0500
TZOFFSETTO:-0400
TZNAME:America/New_York EDT
END:DAYLIGHT
BEGIN:DAYLIGHT
DTSTART:20210314T030000
RDATE:20211107T010000
TZOFFSETFROM:-0500
TZOFFSETTO:-0400
TZNAME:America/New_York EDT
END:DAYLIGHT
BEGIN:DAYLIGHT
DTSTART:20220313T030000
RDATE:20221106T010000
TZOFFSETFROM:-0500
TZOFFSETTO:-0400
TZNAME:America/New_York EDT
END:DAYLIGHT
BEGIN:DAYLIGHT
DTSTART:20230312T030000
RDATE:20231105T010000
TZOFFSETFROM:-0500
TZOFFSETTO:-0400
TZNAME:America/New_York EDT
END:DAYLIGHT
BEGIN:DAYLIGHT
DTSTART:20240310T030000
RDATE:20241103T010000
TZOFFSETFROM:-0500
TZOFFSETTO:-0400
TZNAME:America/New_York EDT
END:DAYLIGHT
BEGIN:DAYLIGHT
DTSTART:20250309T030000
RDATE:20251102T010000
TZOFFSETFROM:-0500
TZOFFSETTO:-0400
TZNAME:America/New_York EDT
END:DAYLIGHT
BEGIN:DAYLIGHT
DTSTART:20260308T030000
RDATE:20261101T010000
TZOFFSETFROM:-0500
TZOFFSETTO:-0400
TZNAME:America/New_York EDT
END:DAYLIGHT
BEGIN:DAYLIGHT
DTSTART:20270314T030000
RDATE:20271107T010000
TZOFFSETFROM:-0500
TZOFFSETTO:-0400
TZNAME:America/New_York EDT
END:DAYLIGHT
BEGIN:DAYLIGHT
DTSTART:20280312T030000
RDATE:20281105T010000
TZOFFSETFROM:-0500
TZOFFSETTO:-0400
TZNAME:America/New_York EDT
END:DAYLIGHT
BEGIN:DAYLIGHT
DTSTART:20290311T030000
RDATE:20291104T010000
TZOFFSETFROM:-0500
TZOFFSETTO:-0400
TZNAME:America/New_York EDT
END:DAYLIGHT
BEGIN:DAYLIGHT
DTSTART:20300310T030000
RDATE:20301103T010000
TZOFFSETFROM:-0500
TZOFFSETTO:-0400
TZNAME:America/New_York EDT
END:DAYLIGHT
BEGIN:DAYLIGHT
DTSTART:20310309T030000
RDATE:20311102T010000
TZOFFSETFROM:-0500
TZOFFSETTO:-0400
TZNAME:America/New_York EDT
END:DAYLIGHT
END:VTIMEZONE
BEGIN:VEVENT
UID:a7e3044a8c93769c6e2eb6b110eecc30
CATEGORIES:Workshops
CREATED:20190305T165014
SUMMARY:ArtLab Slime Time & Paint Pour
LOCATION:Art In The Pod
DESCRIPTION:Art in the Pod welcomes you to sign up for our new Art Lab events, for all 
 ages. Beat the heat and enjoy DIY slime-making and paint pouring in our air
  conditioned studio. All materials and easy step-by-step instructions are s
 upplied.\n\n DIY Workshop Includes:\nUp to 2 hours of studio time to comple
 te your paint pour and slime time.\n\nSlime Time $10\nAll Materials to make
  your very own slime (8oz)\n\nSlime Container (that you decorate) $8\n\nPai
 nt Pour $12\n4 inch plaster disc (premade in our studio)\nPaints premixed w
 ith pouring additives\n\n\n\n\nMinimum Age: 6\nSupplies Needed: None, all p
 rovided.\nSkill Level: All\nDress Code: We have aprons available, but it is
  always wise to wear old clothes as this can be a messy (but extremely fun!
 ) project.\n\n\nTERMS: \nPayment Policy: Payment online or in studio is req
 uired to guarantee your reservation. No Vouchers Accepted. Reservations Wil
 l Automatically Cancel In 60 Minutes If Payment Is Not Completed. Need help
  to complete your reservation? Call us at 215.355.92787 to complete your re
 servation.\nCancellation/Refund/Studio Credit Policy: No cash refunds/Studi
 o credit only. A Studio Credit will be given for individuals cancelling wit
 h at least 48 Hours or more notice only. \nMiscellaneous: Four attendee max
 imum per group. Please arrive on time, arriving past your reserved time slo
 t may require your artlab to be cancelled/rescheduled\n\n
X-ALT-DESC;FMTTYPE=text/html:<p><span style="background-color: #ffffff;">Art in the Pod welcomes you to 
 sign up for our new Art Lab events, for all ages. Beat the heat and enjoy D
 IY slime-making and paint pouring in our air conditioned studio. All materi
 als and easy step-by-step instructions are supplied.<br /></span></p><h2><s
 trong><strong>&nbsp;</strong></strong></h2><p><strong>DIY Workshop Includes
 :</strong></p><p><strong>Up to 2 hours of studio time to complete your pain
 t pour and slime time.</strong></p><p><strong><br /><strong><span style="te
 xt-decoration: underline;">Slime Time</span> $10</strong><br /></strong>All
  Materials to make your very own slime (8oz)</p><p><br /><strong><span styl
 e="text-decoration: underline;">Slime Container</span> (that you decorate) 
 $8<br /></strong></p><p><strong><span style="text-decoration: underline;"><
 strong>Paint Pour</strong></span><strong> $12<br /></strong></strong>4 inch
  plaster disc (premade in our studio)<strong><br /></strong>Paints premixed
  with pouring additives<br /><br /><br /></p><p><br /><strong>Minimum Age:<
 /strong> 6<br /><strong>Supplies Needed:</strong> None, all provided.<br />
 <strong>Skill Level:</strong> All<br /><strong>Dress Code:</strong> We have
  aprons available, but it is always wise to wear old clothes as this can be
  a messy (but extremely fun!) project.<br /><br /></p><p style="font-size: 
 small; color: #000000;"><strong>TERMS: <br />Payment Policy:</strong> Payme
 nt online or in studio is required to guarantee your reservation. No Vouche
 rs Accepted. <span id="rsvp_field26_span_"><span style="text-decoration: un
 derline;">Reservations Will Automatically Cancel In 60 Minutes If Payment I
 s Not Completed</span>. Need help to complete your reservation? Call us at 
 215.355.92787 to complete your reservation.<br /></span><strong>Cancellatio
 n/Refund/Studio Credit Policy:</strong> No cash refunds/Studio credit only.
  A Studio Credit will be given for individuals cancelling with at least 48 
 Hours or more notice only. <br /><strong>Miscellaneous: </strong>Four atten
 dee maximum per group. Please arrive on time, arriving past your reserved t
 ime slot may require your artlab to be cancelled/rescheduled<strong><br /><
 /strong></p>
DTSTAMP:20260424T160614
DTSTART;TZID=America/New_York:20190303T023000
SEQUENCE:0
TRANSP:OPAQUE
END:VEVENT
END:VCALENDAR