BEGIN:VCALENDAR
VERSION:2.0
PRODID:-//jEvents 2.0 for Joomla//EN
CALSCALE:GREGORIAN
METHOD:PUBLISH
BEGIN:VTIMEZONE
TZID:America/New_York
BEGIN:STANDARD
DTSTART:20181104T010000
RDATE:20190310T030000
TZOFFSETFROM:-0400
TZOFFSETTO:-0500
TZNAME:America/New_York EST
END:STANDARD
BEGIN:STANDARD
DTSTART:20191103T010000
RDATE:20200308T030000
TZOFFSETFROM:-0400
TZOFFSETTO:-0500
TZNAME:America/New_York EST
END:STANDARD
BEGIN:STANDARD
DTSTART:20201101T010000
RDATE:20210314T030000
TZOFFSETFROM:-0400
TZOFFSETTO:-0500
TZNAME:America/New_York EST
END:STANDARD
BEGIN:STANDARD
DTSTART:20211107T010000
RDATE:20220313T030000
TZOFFSETFROM:-0400
TZOFFSETTO:-0500
TZNAME:America/New_York EST
END:STANDARD
BEGIN:STANDARD
DTSTART:20221106T010000
RDATE:20230312T030000
TZOFFSETFROM:-0400
TZOFFSETTO:-0500
TZNAME:America/New_York EST
END:STANDARD
BEGIN:STANDARD
DTSTART:20231105T010000
RDATE:20240310T030000
TZOFFSETFROM:-0400
TZOFFSETTO:-0500
TZNAME:America/New_York EST
END:STANDARD
BEGIN:STANDARD
DTSTART:20241103T010000
RDATE:20250309T030000
TZOFFSETFROM:-0400
TZOFFSETTO:-0500
TZNAME:America/New_York EST
END:STANDARD
BEGIN:STANDARD
DTSTART:20251102T010000
RDATE:20260308T030000
TZOFFSETFROM:-0400
TZOFFSETTO:-0500
TZNAME:America/New_York EST
END:STANDARD
BEGIN:STANDARD
DTSTART:20261101T010000
RDATE:20270314T030000
TZOFFSETFROM:-0400
TZOFFSETTO:-0500
TZNAME:America/New_York EST
END:STANDARD
BEGIN:STANDARD
DTSTART:20271107T010000
RDATE:20280312T030000
TZOFFSETFROM:-0400
TZOFFSETTO:-0500
TZNAME:America/New_York EST
END:STANDARD
BEGIN:STANDARD
DTSTART:20281105T010000
RDATE:20290311T030000
TZOFFSETFROM:-0400
TZOFFSETTO:-0500
TZNAME:America/New_York EST
END:STANDARD
BEGIN:STANDARD
DTSTART:20291104T010000
RDATE:20300310T030000
TZOFFSETFROM:-0400
TZOFFSETTO:-0500
TZNAME:America/New_York EST
END:STANDARD
BEGIN:STANDARD
DTSTART:20301103T010000
RDATE:20310309T030000
TZOFFSETFROM:-0400
TZOFFSETTO:-0500
TZNAME:America/New_York EST
END:STANDARD
BEGIN:STANDARD
DTSTART:20311102T010000
RDATE:20320314T030000
TZOFFSETFROM:-0400
TZOFFSETTO:-0500
TZNAME:America/New_York EST
END:STANDARD
BEGIN:DAYLIGHT
DTSTART:20180320T190000
RDATE:20181104T010000
TZOFFSETFROM:-0500
TZOFFSETTO:-0400
TZNAME:America/New_York EDT
END:DAYLIGHT
BEGIN:DAYLIGHT
DTSTART:20190310T030000
RDATE:20191103T010000
TZOFFSETFROM:-0500
TZOFFSETTO:-0400
TZNAME:America/New_York EDT
END:DAYLIGHT
BEGIN:DAYLIGHT
DTSTART:20200308T030000
RDATE:20201101T010000
TZOFFSETFROM:-0500
TZOFFSETTO:-0400
TZNAME:America/New_York EDT
END:DAYLIGHT
BEGIN:DAYLIGHT
DTSTART:20210314T030000
RDATE:20211107T010000
TZOFFSETFROM:-0500
TZOFFSETTO:-0400
TZNAME:America/New_York EDT
END:DAYLIGHT
BEGIN:DAYLIGHT
DTSTART:20220313T030000
RDATE:20221106T010000
TZOFFSETFROM:-0500
TZOFFSETTO:-0400
TZNAME:America/New_York EDT
END:DAYLIGHT
BEGIN:DAYLIGHT
DTSTART:20230312T030000
RDATE:20231105T010000
TZOFFSETFROM:-0500
TZOFFSETTO:-0400
TZNAME:America/New_York EDT
END:DAYLIGHT
BEGIN:DAYLIGHT
DTSTART:20240310T030000
RDATE:20241103T010000
TZOFFSETFROM:-0500
TZOFFSETTO:-0400
TZNAME:America/New_York EDT
END:DAYLIGHT
BEGIN:DAYLIGHT
DTSTART:20250309T030000
RDATE:20251102T010000
TZOFFSETFROM:-0500
TZOFFSETTO:-0400
TZNAME:America/New_York EDT
END:DAYLIGHT
BEGIN:DAYLIGHT
DTSTART:20260308T030000
RDATE:20261101T010000
TZOFFSETFROM:-0500
TZOFFSETTO:-0400
TZNAME:America/New_York EDT
END:DAYLIGHT
BEGIN:DAYLIGHT
DTSTART:20270314T030000
RDATE:20271107T010000
TZOFFSETFROM:-0500
TZOFFSETTO:-0400
TZNAME:America/New_York EDT
END:DAYLIGHT
BEGIN:DAYLIGHT
DTSTART:20280312T030000
RDATE:20281105T010000
TZOFFSETFROM:-0500
TZOFFSETTO:-0400
TZNAME:America/New_York EDT
END:DAYLIGHT
BEGIN:DAYLIGHT
DTSTART:20290311T030000
RDATE:20291104T010000
TZOFFSETFROM:-0500
TZOFFSETTO:-0400
TZNAME:America/New_York EDT
END:DAYLIGHT
BEGIN:DAYLIGHT
DTSTART:20300310T030000
RDATE:20301103T010000
TZOFFSETFROM:-0500
TZOFFSETTO:-0400
TZNAME:America/New_York EDT
END:DAYLIGHT
BEGIN:DAYLIGHT
DTSTART:20310309T030000
RDATE:20311102T010000
TZOFFSETFROM:-0500
TZOFFSETTO:-0400
TZNAME:America/New_York EDT
END:DAYLIGHT
END:VTIMEZONE
BEGIN:VEVENT
UID:0cbeaea960baa3d604f36b6e9eabc28c
CATEGORIES:BYO Events
CREATED:20190306T194500
SUMMARY:Public Acrylic Paint Pouring - Acrylic Cells Pour on Three 8"x10" studio canvases
LOCATION:Art In The Pod
DESCRIPTION:Acrylic Paint Pouring with additional techniques to create your very own ve
 rsion of "Acrylic Cells Pour on Three 8"x10" studio canvases "Class Descrip
 tion:In this class you will be guided through the evening with a step step 
 instruction on Acrylic Paint Pouring Our newest addition to the studio. Wit
 h fluid painting it's much easier to achieve what many artist study years t
 o perfect. We will warm up with some paint mixing and a dirty pour on one o
 f our studio 8" x 10" canvases. This first pour should help you with a bett
 er understanding of how the paint flows and blends together on a plaster ca
 nvas. After a short break to reorganize and give you a chance to pour some 
 of your favorite beverage, We will complete your additional poured creation
 s. This class is all about fun and leaving your stress outside. Please take
  a look at the video's and important information below before registering.\
 nImportant Class InformationFirst and most important... Dress for a MESS!\n
 Acrylic paint does stain clothes. Please dress accordingly. We do supply ap
 rons and gloves but if you are like us, a painter that likes to get into th
 eir work, then please, please, please dress for the paint.\nYou will most l
 ikely have to leave your paintings overnight to dry.\nClass Fee: $55 per pe
 rson\nInstructors: Nina/Rich\nMinimum Age: 16\nSupplies Needed: None, all p
 rovided.\nSkill Level: All\nDress Code: We have aprons available, but it is
  always wise to wear old clothes as this can be a messy (but extremely fun!
 ) project.\n\nSo many of you have been in the studio and have seen how amaz
 ing the resin finish looks on these pieces. There are some extra steps that
  must be completed before you can apply a gloss or resin finish.(see below)
 \nIn this class we will be including the optional Resin coating to Bring Ou
 t the Inner Vibrance in the Colors of One of Your Pieces. (due to the proce
 ss of drying, preparation and resin application your resined piece(s) will 
 be available for pick in about a week).\n \nTERMS: \nPayment Policy: Paymen
 t online or in studio is required to guarantee your reservation. No Voucher
 s Accepted. Reservations Will Automatically Cancel In 60 Minutes If Payment
  Is Not Completed. Need help to complete your reservation? Call us at 215.3
 55.92787 to complete your reservation.\nCancellation/Refund/Studio Credit P
 olicy: No cash refunds/Studio credit only. A Studio Credit will be given fo
 r individuals cancelling with at least 48 Hours or more notice only. \nMisc
 ellaneous: If you are registering for your guest we suggest you notify them
  of these terms.\n \n \n\n\n \n
X-ALT-DESC;FMTTYPE=text/html:<h2>Acrylic Paint Pouring with additional techniques to create your very ow
 n version of "Acrylic Cells Pour on Three 8"x10"&nbsp;studio canvases "</h2
 ><h3>Class Description:</h3><p>In this class you will be guided through the
  evening with a step step instruction on Acrylic Paint Pouring Our newest a
 ddition to the studio. With fluid painting it's much easier to achieve what
  many artist study years to perfect. We will warm up with some paint mixing
  and a dirty pour on one of our studio 8" x 10" canvases. This first pour s
 hould help you with a better understanding of how the paint flows and blend
 s together on a plaster canvas. After a short break to reorganize and give 
 you a chance to pour some of your favorite beverage, We will complete your 
 additional poured creations. This class is all about fun and leaving your s
 tress outside. Please take a look at the video's and important information 
 below before registering.</p><h3><strong>Important Class Information</stron
 g></h3><p>First and most important... <strong>Dress for a MESS!</strong><br
  />Acrylic paint does stain clothes. Please dress accordingly. We do supply
  aprons and gloves but if you are like us, a painter that likes to get into
  their work, then please, please, please dress for the paint.<br />You will
  most likely have to leave your paintings overnight to dry.</p><p><strong>C
 lass Fee:</strong> $55 per person<br /><strong>Instructors:</strong> Nina/R
 ich<br /><strong>Minimum Age:</strong> 16<br /><strong>Supplies Needed:</st
 rong> None, all provided.<br /><strong>Skill Level:</strong> All<br /><stro
 ng>Dress Code:</strong> We have aprons available, but it is always wise to 
 wear old clothes as this can be a messy (but extremely fun!) project.</p><p
 ><br />So many of you have been in the studio and have seen how amazing the
  resin finish looks on these pieces. There are some extra steps that must b
 e completed before you can apply a gloss or resin finish.(see below)<br /><
 strong>In this class we will be including the optional <span style="text-de
 coration: underline;">Resin coating to Bring Out the Inner Vibrance in the 
 Colors of One of Your Pieces.</span></strong> (due to the process of drying
 , preparation and resin application your resined piece(s) will be available
  for pick in about a week).</p><p>&nbsp;</p><p><strong>TERMS: <br />Payment
  Policy:</strong> Payment online or in studio is required to guarantee your
  reservation. No Vouchers Accepted. <span id="rsvp_field26_span_"><span sty
 le="text-decoration: underline;">Reservations Will Automatically Cancel In 
 60 Minutes If Payment Is Not Completed</span>. Need help to complete your r
 eservation? Call us at 215.355.92787 to complete your reservation.<br /></s
 pan><strong>Cancellation/Refund/Studio Credit Policy:</strong> No cash refu
 nds/Studio credit only. A Studio Credit will be given for individuals cance
 lling with at least 48 Hours or more notice only. <br /><strong>Miscellaneo
 us: </strong>If you are registering for your guest we suggest you notify th
 em of these terms.</p><p>&nbsp;</p><p>&nbsp;</p><p><iframe src="https://www
 .youtube.com/embed/eFEwneloefI" width="560" height="315" frameborder="0" al
 lowfullscreen="allowfullscreen"></iframe></p><p><iframe src="https://www.yo
 utube.com/embed/nuqe5fw3TLM" width="560" height="315" frameborder="0" allow
 fullscreen="allowfullscreen"></iframe></p><p>&nbsp;</p>
DTSTAMP:20260424T154650
DTSTART;TZID=America/New_York:20190321T190000
SEQUENCE:0
TRANSP:OPAQUE
END:VEVENT
END:VCALENDAR